BEGIN:VCALENDAR
VERSION:2.0
PRODID:-//Colorado Teletherapy Services - ECPv6.15.20//NONSGML v1.0//EN
CALSCALE:GREGORIAN
METHOD:PUBLISH
X-ORIGINAL-URL:https://coloradoteletherapyservices.com
X-WR-CALDESC:Events for Colorado Teletherapy Services
REFRESH-INTERVAL;VALUE=DURATION:PT1H
X-Robots-Tag:noindex
X-PUBLISHED-TTL:PT1H
BEGIN:VTIMEZONE
TZID:America/Denver
BEGIN:DAYLIGHT
TZOFFSETFROM:-0700
TZOFFSETTO:-0600
TZNAME:MDT
DTSTART:20250309T090000
END:DAYLIGHT
BEGIN:STANDARD
TZOFFSETFROM:-0600
TZOFFSETTO:-0700
TZNAME:MST
DTSTART:20251102T080000
END:STANDARD
BEGIN:DAYLIGHT
TZOFFSETFROM:-0700
TZOFFSETTO:-0600
TZNAME:MDT
DTSTART:20260308T090000
END:DAYLIGHT
BEGIN:STANDARD
TZOFFSETFROM:-0600
TZOFFSETTO:-0700
TZNAME:MST
DTSTART:20261101T080000
END:STANDARD
BEGIN:DAYLIGHT
TZOFFSETFROM:-0700
TZOFFSETTO:-0600
TZNAME:MDT
DTSTART:20270314T090000
END:DAYLIGHT
BEGIN:STANDARD
TZOFFSETFROM:-0600
TZOFFSETTO:-0700
TZNAME:MST
DTSTART:20271107T080000
END:STANDARD
BEGIN:DAYLIGHT
TZOFFSETFROM:-0700
TZOFFSETTO:-0600
TZNAME:MDT
DTSTART:20280312T090000
END:DAYLIGHT
BEGIN:STANDARD
TZOFFSETFROM:-0600
TZOFFSETTO:-0700
TZNAME:MST
DTSTART:20281105T080000
END:STANDARD
END:VTIMEZONE
BEGIN:VEVENT
DTSTART;TZID=America/Denver:20261014T183000
DTEND;TZID=America/Denver:20261014T193000
DTSTAMP:20260423T070823
CREATED:20251206T114105Z
LAST-MODIFIED:20260223T042622Z
UID:10000291-1792002600-1792006200@coloradoteletherapyservices.com
SUMMARY:Military & 1st Responders Microdosing Group
DESCRIPTION:
URL:https://coloradoteletherapyservices.com/event/military-1st-responders-microdosing-group-47/
LOCATION:https://us02web.zoom.us/j/86475028161
END:VEVENT
BEGIN:VEVENT
DTSTART;TZID=America/Denver:20261021T183000
DTEND;TZID=America/Denver:20261021T193000
DTSTAMP:20260423T070823
CREATED:20251206T114106Z
LAST-MODIFIED:20260223T042626Z
UID:10000292-1792607400-1792611000@coloradoteletherapyservices.com
SUMMARY:Military & 1st Responders Microdosing Group
DESCRIPTION:
URL:https://coloradoteletherapyservices.com/event/military-1st-responders-microdosing-group-48/
LOCATION:https://us02web.zoom.us/j/86475028161
END:VEVENT
BEGIN:VEVENT
DTSTART;TZID=America/Denver:20261028T183000
DTEND;TZID=America/Denver:20261028T193000
DTSTAMP:20260423T070823
CREATED:20251206T114109Z
LAST-MODIFIED:20260223T042628Z
UID:10000293-1793212200-1793215800@coloradoteletherapyservices.com
SUMMARY:Military & 1st Responders Microdosing Group
DESCRIPTION:
URL:https://coloradoteletherapyservices.com/event/military-1st-responders-microdosing-group-49/
LOCATION:https://us02web.zoom.us/j/86475028161
END:VEVENT
BEGIN:VEVENT
DTSTART;TZID=America/Denver:20261104T183000
DTEND;TZID=America/Denver:20261104T193000
DTSTAMP:20260423T070823
CREATED:20251206T114110Z
LAST-MODIFIED:20260223T042630Z
UID:10000294-1793817000-1793820600@coloradoteletherapyservices.com
SUMMARY:Military & 1st Responders Microdosing Group
DESCRIPTION:
URL:https://coloradoteletherapyservices.com/event/military-1st-responders-microdosing-group-50/
LOCATION:https://us02web.zoom.us/j/86475028161
END:VEVENT
BEGIN:VEVENT
DTSTART;TZID=America/Denver:20261111T183000
DTEND;TZID=America/Denver:20261111T193000
DTSTAMP:20260423T070823
CREATED:20251206T114111Z
LAST-MODIFIED:20260223T042633Z
UID:10000295-1794421800-1794425400@coloradoteletherapyservices.com
SUMMARY:Military & 1st Responders Microdosing Group
DESCRIPTION:
URL:https://coloradoteletherapyservices.com/event/military-1st-responders-microdosing-group-51/
LOCATION:https://us02web.zoom.us/j/86475028161
END:VEVENT
BEGIN:VEVENT
DTSTART;TZID=America/Denver:20261118T183000
DTEND;TZID=America/Denver:20261118T193000
DTSTAMP:20260423T070823
CREATED:20251206T114113Z
LAST-MODIFIED:20260223T042635Z
UID:10000296-1795026600-1795030200@coloradoteletherapyservices.com
SUMMARY:Military & 1st Responders Microdosing Group
DESCRIPTION:
URL:https://coloradoteletherapyservices.com/event/military-1st-responders-microdosing-group-52/
LOCATION:https://us02web.zoom.us/j/86475028161
END:VEVENT
BEGIN:VEVENT
DTSTART;TZID=America/Denver:20261125T183000
DTEND;TZID=America/Denver:20261125T193000
DTSTAMP:20260423T070823
CREATED:20251206T114114Z
LAST-MODIFIED:20260223T042638Z
UID:10000297-1795631400-1795635000@coloradoteletherapyservices.com
SUMMARY:Military & 1st Responders Microdosing Group
DESCRIPTION:
URL:https://coloradoteletherapyservices.com/event/military-1st-responders-microdosing-group-53/
LOCATION:https://us02web.zoom.us/j/86475028161
END:VEVENT
BEGIN:VEVENT
DTSTART;TZID=America/Denver:20261202T183000
DTEND;TZID=America/Denver:20261202T193000
DTSTAMP:20260423T070823
CREATED:20251206T114116Z
LAST-MODIFIED:20260223T042642Z
UID:10000298-1796236200-1796239800@coloradoteletherapyservices.com
SUMMARY:Military & 1st Responders Microdosing Group
DESCRIPTION:
URL:https://coloradoteletherapyservices.com/event/military-1st-responders-microdosing-group-54/
LOCATION:https://us02web.zoom.us/j/86475028161
END:VEVENT
BEGIN:VEVENT
DTSTART;TZID=America/Denver:20261209T183000
DTEND;TZID=America/Denver:20261209T193000
DTSTAMP:20260423T070823
CREATED:20251206T114116Z
LAST-MODIFIED:20260223T042644Z
UID:10000299-1796841000-1796844600@coloradoteletherapyservices.com
SUMMARY:Military & 1st Responders Microdosing Group
DESCRIPTION:
URL:https://coloradoteletherapyservices.com/event/military-1st-responders-microdosing-group-55/
LOCATION:https://us02web.zoom.us/j/86475028161
END:VEVENT
BEGIN:VEVENT
DTSTART;TZID=America/Denver:20261216T183000
DTEND;TZID=America/Denver:20261216T193000
DTSTAMP:20260423T070823
CREATED:20251206T114117Z
LAST-MODIFIED:20260223T042646Z
UID:10000300-1797445800-1797449400@coloradoteletherapyservices.com
SUMMARY:Military & 1st Responders Microdosing Group
DESCRIPTION:
URL:https://coloradoteletherapyservices.com/event/military-1st-responders-microdosing-group-56/
LOCATION:https://us02web.zoom.us/j/86475028161
END:VEVENT
BEGIN:VEVENT
DTSTART;TZID=America/Denver:20261223T183000
DTEND;TZID=America/Denver:20261223T193000
DTSTAMP:20260423T070823
CREATED:20251206T114119Z
LAST-MODIFIED:20260223T042648Z
UID:10000301-1798050600-1798054200@coloradoteletherapyservices.com
SUMMARY:Military & 1st Responders Microdosing Group
DESCRIPTION:
URL:https://coloradoteletherapyservices.com/event/military-1st-responders-microdosing-group-57/
LOCATION:https://us02web.zoom.us/j/86475028161
END:VEVENT
BEGIN:VEVENT
DTSTART;TZID=America/Denver:20261230T183000
DTEND;TZID=America/Denver:20261230T193000
DTSTAMP:20260423T070823
CREATED:20251206T114121Z
LAST-MODIFIED:20260223T042651Z
UID:10000302-1798655400-1798659000@coloradoteletherapyservices.com
SUMMARY:Military & 1st Responders Microdosing Group
DESCRIPTION:
URL:https://coloradoteletherapyservices.com/event/military-1st-responders-microdosing-group-58/
LOCATION:https://us02web.zoom.us/j/86475028161
END:VEVENT
BEGIN:VEVENT
DTSTART;TZID=America/Denver:20270106T183000
DTEND;TZID=America/Denver:20270106T193000
DTSTAMP:20260423T070823
CREATED:20251206T114122Z
LAST-MODIFIED:20260223T042654Z
UID:10000303-1799260200-1799263800@coloradoteletherapyservices.com
SUMMARY:Military & 1st Responders Microdosing Group
DESCRIPTION:
URL:https://coloradoteletherapyservices.com/event/military-1st-responders-microdosing-group-59/
LOCATION:https://us02web.zoom.us/j/86475028161
END:VEVENT
BEGIN:VEVENT
DTSTART;TZID=America/Denver:20270113T183000
DTEND;TZID=America/Denver:20270113T193000
DTSTAMP:20260423T070823
CREATED:20251206T114123Z
LAST-MODIFIED:20260223T042656Z
UID:10000304-1799865000-1799868600@coloradoteletherapyservices.com
SUMMARY:Military & 1st Responders Microdosing Group
DESCRIPTION:
URL:https://coloradoteletherapyservices.com/event/military-1st-responders-microdosing-group-60/
LOCATION:https://us02web.zoom.us/j/86475028161
END:VEVENT
BEGIN:VEVENT
DTSTART;TZID=America/Denver:20270120T183000
DTEND;TZID=America/Denver:20270120T193000
DTSTAMP:20260423T070823
CREATED:20251206T114125Z
LAST-MODIFIED:20260223T042658Z
UID:10000305-1800469800-1800473400@coloradoteletherapyservices.com
SUMMARY:Military & 1st Responders Microdosing Group
DESCRIPTION:
URL:https://coloradoteletherapyservices.com/event/military-1st-responders-microdosing-group-61/
LOCATION:https://us02web.zoom.us/j/86475028161
END:VEVENT
BEGIN:VEVENT
DTSTART;TZID=America/Denver:20270127T183000
DTEND;TZID=America/Denver:20270127T193000
DTSTAMP:20260423T070823
CREATED:20251206T114126Z
LAST-MODIFIED:20260223T042702Z
UID:10000306-1801074600-1801078200@coloradoteletherapyservices.com
SUMMARY:Military & 1st Responders Microdosing Group
DESCRIPTION:
URL:https://coloradoteletherapyservices.com/event/military-1st-responders-microdosing-group-62/
LOCATION:https://us02web.zoom.us/j/86475028161
END:VEVENT
BEGIN:VEVENT
DTSTART;TZID=America/Denver:20270203T183000
DTEND;TZID=America/Denver:20270203T193000
DTSTAMP:20260423T070823
CREATED:20251206T114127Z
LAST-MODIFIED:20260223T042704Z
UID:10000307-1801679400-1801683000@coloradoteletherapyservices.com
SUMMARY:Military & 1st Responders Microdosing Group
DESCRIPTION:
URL:https://coloradoteletherapyservices.com/event/military-1st-responders-microdosing-group-63/
LOCATION:https://us02web.zoom.us/j/86475028161
END:VEVENT
BEGIN:VEVENT
DTSTART;TZID=America/Denver:20270210T183000
DTEND;TZID=America/Denver:20270210T193000
DTSTAMP:20260423T070823
CREATED:20251206T114130Z
LAST-MODIFIED:20260223T042706Z
UID:10000308-1802284200-1802287800@coloradoteletherapyservices.com
SUMMARY:Military & 1st Responders Microdosing Group
DESCRIPTION:
URL:https://coloradoteletherapyservices.com/event/military-1st-responders-microdosing-group-64/
LOCATION:https://us02web.zoom.us/j/86475028161
END:VEVENT
BEGIN:VEVENT
DTSTART;TZID=America/Denver:20270217T183000
DTEND;TZID=America/Denver:20270217T193000
DTSTAMP:20260423T070823
CREATED:20251206T114131Z
LAST-MODIFIED:20260223T042709Z
UID:10000309-1802889000-1802892600@coloradoteletherapyservices.com
SUMMARY:Military & 1st Responders Microdosing Group
DESCRIPTION:
URL:https://coloradoteletherapyservices.com/event/military-1st-responders-microdosing-group-65/
LOCATION:https://us02web.zoom.us/j/86475028161
END:VEVENT
BEGIN:VEVENT
DTSTART;TZID=America/Denver:20270224T183000
DTEND;TZID=America/Denver:20270224T193000
DTSTAMP:20260423T070823
CREATED:20251206T114132Z
LAST-MODIFIED:20260223T042711Z
UID:10000310-1803493800-1803497400@coloradoteletherapyservices.com
SUMMARY:Military & 1st Responders Microdosing Group
DESCRIPTION:
URL:https://coloradoteletherapyservices.com/event/military-1st-responders-microdosing-group-66/
LOCATION:https://us02web.zoom.us/j/86475028161
END:VEVENT
BEGIN:VEVENT
DTSTART;TZID=America/Denver:20270303T183000
DTEND;TZID=America/Denver:20270303T193000
DTSTAMP:20260423T070824
CREATED:20251206T114134Z
LAST-MODIFIED:20260223T042714Z
UID:10000311-1804098600-1804102200@coloradoteletherapyservices.com
SUMMARY:Military & 1st Responders Microdosing Group
DESCRIPTION:
URL:https://coloradoteletherapyservices.com/event/military-1st-responders-microdosing-group-67/
LOCATION:https://us02web.zoom.us/j/86475028161
END:VEVENT
BEGIN:VEVENT
DTSTART;TZID=America/Denver:20270310T183000
DTEND;TZID=America/Denver:20270310T193000
DTSTAMP:20260423T070824
CREATED:20251206T114135Z
LAST-MODIFIED:20260223T042717Z
UID:10000312-1804703400-1804707000@coloradoteletherapyservices.com
SUMMARY:Military & 1st Responders Microdosing Group
DESCRIPTION:
URL:https://coloradoteletherapyservices.com/event/military-1st-responders-microdosing-group-68/
LOCATION:https://us02web.zoom.us/j/86475028161
END:VEVENT
BEGIN:VEVENT
DTSTART;TZID=America/Denver:20270317T183000
DTEND;TZID=America/Denver:20270317T193000
DTSTAMP:20260423T070824
CREATED:20251206T114137Z
LAST-MODIFIED:20260223T042718Z
UID:10000313-1805308200-1805311800@coloradoteletherapyservices.com
SUMMARY:Military & 1st Responders Microdosing Group
DESCRIPTION:
URL:https://coloradoteletherapyservices.com/event/military-1st-responders-microdosing-group-69/
LOCATION:https://us02web.zoom.us/j/86475028161
END:VEVENT
BEGIN:VEVENT
DTSTART;TZID=America/Denver:20270324T183000
DTEND;TZID=America/Denver:20270324T193000
DTSTAMP:20260423T070824
CREATED:20251206T114137Z
LAST-MODIFIED:20260223T042723Z
UID:10000314-1805913000-1805916600@coloradoteletherapyservices.com
SUMMARY:Military & 1st Responders Microdosing Group
DESCRIPTION:
URL:https://coloradoteletherapyservices.com/event/military-1st-responders-microdosing-group-70/
LOCATION:https://us02web.zoom.us/j/86475028161
END:VEVENT
BEGIN:VEVENT
DTSTART;TZID=America/Denver:20270331T183000
DTEND;TZID=America/Denver:20270331T193000
DTSTAMP:20260423T070824
CREATED:20251206T114139Z
LAST-MODIFIED:20260223T042725Z
UID:10000315-1806517800-1806521400@coloradoteletherapyservices.com
SUMMARY:Military & 1st Responders Microdosing Group
DESCRIPTION:
URL:https://coloradoteletherapyservices.com/event/military-1st-responders-microdosing-group-71/
LOCATION:https://us02web.zoom.us/j/86475028161
END:VEVENT
BEGIN:VEVENT
DTSTART;TZID=America/Denver:20270407T183000
DTEND;TZID=America/Denver:20270407T193000
DTSTAMP:20260423T070824
CREATED:20251206T114140Z
LAST-MODIFIED:20260223T042728Z
UID:10000316-1807122600-1807126200@coloradoteletherapyservices.com
SUMMARY:Military & 1st Responders Microdosing Group
DESCRIPTION:
URL:https://coloradoteletherapyservices.com/event/military-1st-responders-microdosing-group-72/
LOCATION:https://us02web.zoom.us/j/86475028161
END:VEVENT
BEGIN:VEVENT
DTSTART;TZID=America/Denver:20270414T183000
DTEND;TZID=America/Denver:20270414T193000
DTSTAMP:20260423T070824
CREATED:20251206T114142Z
LAST-MODIFIED:20260223T042730Z
UID:10000317-1807727400-1807731000@coloradoteletherapyservices.com
SUMMARY:Military & 1st Responders Microdosing Group
DESCRIPTION:
URL:https://coloradoteletherapyservices.com/event/military-1st-responders-microdosing-group-73/
LOCATION:https://us02web.zoom.us/j/86475028161
END:VEVENT
BEGIN:VEVENT
DTSTART;TZID=America/Denver:20270421T183000
DTEND;TZID=America/Denver:20270421T193000
DTSTAMP:20260423T070824
CREATED:20251206T114143Z
LAST-MODIFIED:20260223T042732Z
UID:10000318-1808332200-1808335800@coloradoteletherapyservices.com
SUMMARY:Military & 1st Responders Microdosing Group
DESCRIPTION:
URL:https://coloradoteletherapyservices.com/event/military-1st-responders-microdosing-group-74/
LOCATION:https://us02web.zoom.us/j/86475028161
END:VEVENT
BEGIN:VEVENT
DTSTART;TZID=America/Denver:20270428T183000
DTEND;TZID=America/Denver:20270428T193000
DTSTAMP:20260423T070824
CREATED:20251206T114144Z
LAST-MODIFIED:20260223T042734Z
UID:10000319-1808937000-1808940600@coloradoteletherapyservices.com
SUMMARY:Military & 1st Responders Microdosing Group
DESCRIPTION:
URL:https://coloradoteletherapyservices.com/event/military-1st-responders-microdosing-group-75/
LOCATION:https://us02web.zoom.us/j/86475028161
END:VEVENT
BEGIN:VEVENT
DTSTART;TZID=America/Denver:20270505T183000
DTEND;TZID=America/Denver:20270505T193000
DTSTAMP:20260423T070824
CREATED:20251206T114146Z
LAST-MODIFIED:20260223T042737Z
UID:10000320-1809541800-1809545400@coloradoteletherapyservices.com
SUMMARY:Military & 1st Responders Microdosing Group
DESCRIPTION:
URL:https://coloradoteletherapyservices.com/event/military-1st-responders-microdosing-group-76/
LOCATION:https://us02web.zoom.us/j/86475028161
END:VEVENT
END:VCALENDAR