BEGIN:VCALENDAR
VERSION:2.0
PRODID:-//Colorado Teletherapy Services - ECPv6.15.20//NONSGML v1.0//EN
CALSCALE:GREGORIAN
METHOD:PUBLISH
X-ORIGINAL-URL:https://coloradoteletherapyservices.com
X-WR-CALDESC:Events for Colorado Teletherapy Services
REFRESH-INTERVAL;VALUE=DURATION:PT1H
X-Robots-Tag:noindex
X-PUBLISHED-TTL:PT1H
BEGIN:VTIMEZONE
TZID:America/Denver
BEGIN:DAYLIGHT
TZOFFSETFROM:-0700
TZOFFSETTO:-0600
TZNAME:MDT
DTSTART:20250309T090000
END:DAYLIGHT
BEGIN:STANDARD
TZOFFSETFROM:-0600
TZOFFSETTO:-0700
TZNAME:MST
DTSTART:20251102T080000
END:STANDARD
BEGIN:DAYLIGHT
TZOFFSETFROM:-0700
TZOFFSETTO:-0600
TZNAME:MDT
DTSTART:20260308T090000
END:DAYLIGHT
BEGIN:STANDARD
TZOFFSETFROM:-0600
TZOFFSETTO:-0700
TZNAME:MST
DTSTART:20261101T080000
END:STANDARD
BEGIN:DAYLIGHT
TZOFFSETFROM:-0700
TZOFFSETTO:-0600
TZNAME:MDT
DTSTART:20270314T090000
END:DAYLIGHT
BEGIN:STANDARD
TZOFFSETFROM:-0600
TZOFFSETTO:-0700
TZNAME:MST
DTSTART:20271107T080000
END:STANDARD
END:VTIMEZONE
BEGIN:VEVENT
DTSTART;TZID=America/Denver:20260729T183000
DTEND;TZID=America/Denver:20260729T193000
DTSTAMP:20260421T134639
CREATED:20251024T052545Z
LAST-MODIFIED:20260420T214843Z
UID:10000174-1785349800-1785353400@coloradoteletherapyservices.com
SUMMARY:Creative Mindfulness Group
DESCRIPTION:
URL:https://coloradoteletherapyservices.com/event/creative-mindfulness-group-39/
LOCATION:https://us02web.zoom.us/j/89087711310?pwd=PKaUYoL1OKZ9nYG22TQr4K7xd38qJD.1
END:VEVENT
BEGIN:VEVENT
DTSTART;TZID=America/Denver:20260729T183000
DTEND;TZID=America/Denver:20260729T193000
DTSTAMP:20260421T134639
CREATED:20251206T114051Z
LAST-MODIFIED:20260223T042727Z
UID:10000280-1785349800-1785353400@coloradoteletherapyservices.com
SUMMARY:Military & 1st Responders Microdosing Group
DESCRIPTION:
URL:https://coloradoteletherapyservices.com/event/military-1st-responders-microdosing-group-36/
LOCATION:https://us02web.zoom.us/j/86475028161
END:VEVENT
BEGIN:VEVENT
DTSTART;TZID=America/Denver:20260730T113000
DTEND;TZID=America/Denver:20260730T123000
DTSTAMP:20260421T134639
CREATED:20260203T014030Z
LAST-MODIFIED:20260223T042740Z
UID:10000505-1785411000-1785414600@coloradoteletherapyservices.com
SUMMARY:Military & 1st Responders Microdosing Group
DESCRIPTION:
URL:https://coloradoteletherapyservices.com/event/military-1st-responders-microdosing-group-137/
LOCATION:https://us02web.zoom.us/j/84347293042
END:VEVENT
BEGIN:VEVENT
DTSTART;TZID=America/Denver:20260730T183000
DTEND;TZID=America/Denver:20260730T193000
DTSTAMP:20260421T134639
CREATED:20260316T080634Z
LAST-MODIFIED:20260420T214843Z
UID:10000622-1785436200-1785439800@coloradoteletherapyservices.com
SUMMARY:Resilience & Recovery Microdosing Group
DESCRIPTION:
URL:https://coloradoteletherapyservices.com/event/resilience-recovery-microdosing-group-18/
LOCATION:https://us02web.zoom.us/j/81255323562
END:VEVENT
BEGIN:VEVENT
DTSTART;TZID=America/Denver:20260803T180000
DTEND;TZID=America/Denver:20260803T190000
DTSTAMP:20260421T134639
CREATED:20260112T213812Z
LAST-MODIFIED:20260420T214843Z
UID:10000407-1785780000-1785783600@coloradoteletherapyservices.com
SUMMARY:Monday Microdosing Group
DESCRIPTION:
URL:https://coloradoteletherapyservices.com/event/monday-microdosing-group-33/
LOCATION:https://us02web.zoom.us/j/85680399246?pwd=2M8LKaPmveoIusNzMFyzaFpFEvjXOx.1
END:VEVENT
BEGIN:VEVENT
DTSTART;TZID=America/Denver:20260805T183000
DTEND;TZID=America/Denver:20260805T193000
DTSTAMP:20260421T134639
CREATED:20251024T052548Z
LAST-MODIFIED:20260420T214843Z
UID:10000175-1785954600-1785958200@coloradoteletherapyservices.com
SUMMARY:Creative Mindfulness Group
DESCRIPTION:
URL:https://coloradoteletherapyservices.com/event/creative-mindfulness-group-40/
LOCATION:https://us02web.zoom.us/j/89087711310?pwd=PKaUYoL1OKZ9nYG22TQr4K7xd38qJD.1
END:VEVENT
BEGIN:VEVENT
DTSTART;TZID=America/Denver:20260805T183000
DTEND;TZID=America/Denver:20260805T193000
DTSTAMP:20260421T134639
CREATED:20251206T114052Z
LAST-MODIFIED:20260223T042741Z
UID:10000281-1785954600-1785958200@coloradoteletherapyservices.com
SUMMARY:Military & 1st Responders Microdosing Group
DESCRIPTION:
URL:https://coloradoteletherapyservices.com/event/military-1st-responders-microdosing-group-37/
LOCATION:https://us02web.zoom.us/j/86475028161
END:VEVENT
BEGIN:VEVENT
DTSTART;TZID=America/Denver:20260806T113000
DTEND;TZID=America/Denver:20260806T123000
DTSTAMP:20260421T134639
CREATED:20260203T014033Z
LAST-MODIFIED:20260223T042742Z
UID:10000506-1786015800-1786019400@coloradoteletherapyservices.com
SUMMARY:Military & 1st Responders Microdosing Group
DESCRIPTION:
URL:https://coloradoteletherapyservices.com/event/military-1st-responders-microdosing-group-138/
LOCATION:https://us02web.zoom.us/j/84347293042
END:VEVENT
BEGIN:VEVENT
DTSTART;TZID=America/Denver:20260806T183000
DTEND;TZID=America/Denver:20260806T193000
DTSTAMP:20260421T134639
CREATED:20260316T080636Z
LAST-MODIFIED:20260420T214856Z
UID:10000623-1786041000-1786044600@coloradoteletherapyservices.com
SUMMARY:Resilience & Recovery Microdosing Group
DESCRIPTION:
URL:https://coloradoteletherapyservices.com/event/resilience-recovery-microdosing-group-19/
LOCATION:https://us02web.zoom.us/j/81255323562
END:VEVENT
BEGIN:VEVENT
DTSTART;TZID=America/Denver:20260810T180000
DTEND;TZID=America/Denver:20260810T190000
DTSTAMP:20260421T134639
CREATED:20260112T213814Z
LAST-MODIFIED:20260420T214857Z
UID:10000408-1786384800-1786388400@coloradoteletherapyservices.com
SUMMARY:Monday Microdosing Group
DESCRIPTION:
URL:https://coloradoteletherapyservices.com/event/monday-microdosing-group-34/
LOCATION:https://us02web.zoom.us/j/85680399246?pwd=2M8LKaPmveoIusNzMFyzaFpFEvjXOx.1
END:VEVENT
BEGIN:VEVENT
DTSTART;TZID=America/Denver:20260812T183000
DTEND;TZID=America/Denver:20260812T193000
DTSTAMP:20260421T134639
CREATED:20251024T052551Z
LAST-MODIFIED:20260420T214857Z
UID:10000176-1786559400-1786563000@coloradoteletherapyservices.com
SUMMARY:Creative Mindfulness Group
DESCRIPTION:
URL:https://coloradoteletherapyservices.com/event/creative-mindfulness-group-41/
LOCATION:https://us02web.zoom.us/j/89087711310?pwd=PKaUYoL1OKZ9nYG22TQr4K7xd38qJD.1
END:VEVENT
BEGIN:VEVENT
DTSTART;TZID=America/Denver:20260812T183000
DTEND;TZID=America/Denver:20260812T193000
DTSTAMP:20260421T134639
CREATED:20251206T114054Z
LAST-MODIFIED:20260223T042744Z
UID:10000282-1786559400-1786563000@coloradoteletherapyservices.com
SUMMARY:Military & 1st Responders Microdosing Group
DESCRIPTION:
URL:https://coloradoteletherapyservices.com/event/military-1st-responders-microdosing-group-38/
LOCATION:https://us02web.zoom.us/j/86475028161
END:VEVENT
BEGIN:VEVENT
DTSTART;TZID=America/Denver:20260813T113000
DTEND;TZID=America/Denver:20260813T123000
DTSTAMP:20260421T134639
CREATED:20260203T014036Z
LAST-MODIFIED:20260223T042744Z
UID:10000507-1786620600-1786624200@coloradoteletherapyservices.com
SUMMARY:Military & 1st Responders Microdosing Group
DESCRIPTION:
URL:https://coloradoteletherapyservices.com/event/military-1st-responders-microdosing-group-139/
LOCATION:https://us02web.zoom.us/j/84347293042
END:VEVENT
BEGIN:VEVENT
DTSTART;TZID=America/Denver:20260813T183000
DTEND;TZID=America/Denver:20260813T193000
DTSTAMP:20260421T134639
CREATED:20260316T080638Z
LAST-MODIFIED:20260420T214857Z
UID:10000624-1786645800-1786649400@coloradoteletherapyservices.com
SUMMARY:Resilience & Recovery Microdosing Group
DESCRIPTION:
URL:https://coloradoteletherapyservices.com/event/resilience-recovery-microdosing-group-20/
LOCATION:https://us02web.zoom.us/j/81255323562
END:VEVENT
BEGIN:VEVENT
DTSTART;TZID=America/Denver:20260817T180000
DTEND;TZID=America/Denver:20260817T190000
DTSTAMP:20260421T134639
CREATED:20260112T213816Z
LAST-MODIFIED:20260420T214857Z
UID:10000409-1786989600-1786993200@coloradoteletherapyservices.com
SUMMARY:Monday Microdosing Group
DESCRIPTION:
URL:https://coloradoteletherapyservices.com/event/monday-microdosing-group-35/
LOCATION:https://us02web.zoom.us/j/85680399246?pwd=2M8LKaPmveoIusNzMFyzaFpFEvjXOx.1
END:VEVENT
BEGIN:VEVENT
DTSTART;TZID=America/Denver:20260819T183000
DTEND;TZID=America/Denver:20260819T193000
DTSTAMP:20260421T134639
CREATED:20251024T052554Z
LAST-MODIFIED:20260420T214857Z
UID:10000177-1787164200-1787167800@coloradoteletherapyservices.com
SUMMARY:Creative Mindfulness Group
DESCRIPTION:
URL:https://coloradoteletherapyservices.com/event/creative-mindfulness-group-42/
LOCATION:https://us02web.zoom.us/j/89087711310?pwd=PKaUYoL1OKZ9nYG22TQr4K7xd38qJD.1
END:VEVENT
BEGIN:VEVENT
DTSTART;TZID=America/Denver:20260819T183000
DTEND;TZID=America/Denver:20260819T193000
DTSTAMP:20260421T134639
CREATED:20251206T114055Z
LAST-MODIFIED:20260223T042758Z
UID:10000283-1787164200-1787167800@coloradoteletherapyservices.com
SUMMARY:Military & 1st Responders Microdosing Group
DESCRIPTION:
URL:https://coloradoteletherapyservices.com/event/military-1st-responders-microdosing-group-39/
LOCATION:https://us02web.zoom.us/j/86475028161
END:VEVENT
BEGIN:VEVENT
DTSTART;TZID=America/Denver:20260820T113000
DTEND;TZID=America/Denver:20260820T123000
DTSTAMP:20260421T134639
CREATED:20260203T014038Z
LAST-MODIFIED:20260223T042759Z
UID:10000508-1787225400-1787229000@coloradoteletherapyservices.com
SUMMARY:Military & 1st Responders Microdosing Group
DESCRIPTION:
URL:https://coloradoteletherapyservices.com/event/military-1st-responders-microdosing-group-140/
LOCATION:https://us02web.zoom.us/j/84347293042
END:VEVENT
BEGIN:VEVENT
DTSTART;TZID=America/Denver:20260820T183000
DTEND;TZID=America/Denver:20260820T193000
DTSTAMP:20260421T134639
CREATED:20260316T080640Z
LAST-MODIFIED:20260420T214857Z
UID:10000625-1787250600-1787254200@coloradoteletherapyservices.com
SUMMARY:Resilience & Recovery Microdosing Group
DESCRIPTION:
URL:https://coloradoteletherapyservices.com/event/resilience-recovery-microdosing-group-21/
LOCATION:https://us02web.zoom.us/j/81255323562
END:VEVENT
BEGIN:VEVENT
DTSTART;TZID=America/Denver:20260824T180000
DTEND;TZID=America/Denver:20260824T190000
DTSTAMP:20260421T134639
CREATED:20260112T213818Z
LAST-MODIFIED:20260420T214858Z
UID:10000410-1787594400-1787598000@coloradoteletherapyservices.com
SUMMARY:Monday Microdosing Group
DESCRIPTION:
URL:https://coloradoteletherapyservices.com/event/monday-microdosing-group-36/
LOCATION:https://us02web.zoom.us/j/85680399246?pwd=2M8LKaPmveoIusNzMFyzaFpFEvjXOx.1
END:VEVENT
BEGIN:VEVENT
DTSTART;TZID=America/Denver:20260826T183000
DTEND;TZID=America/Denver:20260826T193000
DTSTAMP:20260421T134639
CREATED:20251024T052556Z
LAST-MODIFIED:20260420T214858Z
UID:10000178-1787769000-1787772600@coloradoteletherapyservices.com
SUMMARY:Creative Mindfulness Group
DESCRIPTION:
URL:https://coloradoteletherapyservices.com/event/creative-mindfulness-group-43/
LOCATION:https://us02web.zoom.us/j/89087711310?pwd=PKaUYoL1OKZ9nYG22TQr4K7xd38qJD.1
END:VEVENT
BEGIN:VEVENT
DTSTART;TZID=America/Denver:20260826T183000
DTEND;TZID=America/Denver:20260826T193000
DTSTAMP:20260421T134639
CREATED:20251206T114056Z
LAST-MODIFIED:20260223T042801Z
UID:10000284-1787769000-1787772600@coloradoteletherapyservices.com
SUMMARY:Military & 1st Responders Microdosing Group
DESCRIPTION:
URL:https://coloradoteletherapyservices.com/event/military-1st-responders-microdosing-group-40/
LOCATION:https://us02web.zoom.us/j/86475028161
END:VEVENT
BEGIN:VEVENT
DTSTART;TZID=America/Denver:20260827T113000
DTEND;TZID=America/Denver:20260827T123000
DTSTAMP:20260421T134639
CREATED:20260203T014043Z
LAST-MODIFIED:20260223T042802Z
UID:10000509-1787830200-1787833800@coloradoteletherapyservices.com
SUMMARY:Military & 1st Responders Microdosing Group
DESCRIPTION:
URL:https://coloradoteletherapyservices.com/event/military-1st-responders-microdosing-group-141/
LOCATION:https://us02web.zoom.us/j/84347293042
END:VEVENT
BEGIN:VEVENT
DTSTART;TZID=America/Denver:20260827T183000
DTEND;TZID=America/Denver:20260827T193000
DTSTAMP:20260421T134639
CREATED:20260316T080642Z
LAST-MODIFIED:20260420T214858Z
UID:10000626-1787855400-1787859000@coloradoteletherapyservices.com
SUMMARY:Resilience & Recovery Microdosing Group
DESCRIPTION:
URL:https://coloradoteletherapyservices.com/event/resilience-recovery-microdosing-group-22/
LOCATION:https://us02web.zoom.us/j/81255323562
END:VEVENT
BEGIN:VEVENT
DTSTART;TZID=America/Denver:20260831T180000
DTEND;TZID=America/Denver:20260831T190000
DTSTAMP:20260421T134639
CREATED:20260112T213819Z
LAST-MODIFIED:20260420T214910Z
UID:10000411-1788199200-1788202800@coloradoteletherapyservices.com
SUMMARY:Monday Microdosing Group
DESCRIPTION:
URL:https://coloradoteletherapyservices.com/event/monday-microdosing-group-37/
LOCATION:https://us02web.zoom.us/j/85680399246?pwd=2M8LKaPmveoIusNzMFyzaFpFEvjXOx.1
END:VEVENT
BEGIN:VEVENT
DTSTART;TZID=America/Denver:20260902T183000
DTEND;TZID=America/Denver:20260902T193000
DTSTAMP:20260421T134639
CREATED:20251024T052558Z
LAST-MODIFIED:20260420T214910Z
UID:10000179-1788373800-1788377400@coloradoteletherapyservices.com
SUMMARY:Creative Mindfulness Group
DESCRIPTION:
URL:https://coloradoteletherapyservices.com/event/creative-mindfulness-group-44/
LOCATION:https://us02web.zoom.us/j/89087711310?pwd=PKaUYoL1OKZ9nYG22TQr4K7xd38qJD.1
END:VEVENT
BEGIN:VEVENT
DTSTART;TZID=America/Denver:20260902T183000
DTEND;TZID=America/Denver:20260902T193000
DTSTAMP:20260421T134639
CREATED:20251206T114057Z
LAST-MODIFIED:20260223T042607Z
UID:10000285-1788373800-1788377400@coloradoteletherapyservices.com
SUMMARY:Military & 1st Responders Microdosing Group
DESCRIPTION:
URL:https://coloradoteletherapyservices.com/event/military-1st-responders-microdosing-group-41/
LOCATION:https://us02web.zoom.us/j/86475028161
END:VEVENT
BEGIN:VEVENT
DTSTART;TZID=America/Denver:20260903T113000
DTEND;TZID=America/Denver:20260903T123000
DTSTAMP:20260421T134639
CREATED:20260203T014045Z
LAST-MODIFIED:20260223T042607Z
UID:10000510-1788435000-1788438600@coloradoteletherapyservices.com
SUMMARY:Military & 1st Responders Microdosing Group
DESCRIPTION:
URL:https://coloradoteletherapyservices.com/event/military-1st-responders-microdosing-group-142/
LOCATION:https://us02web.zoom.us/j/84347293042
END:VEVENT
BEGIN:VEVENT
DTSTART;TZID=America/Denver:20260903T183000
DTEND;TZID=America/Denver:20260903T193000
DTSTAMP:20260421T134639
CREATED:20260316T080644Z
LAST-MODIFIED:20260420T214911Z
UID:10000627-1788460200-1788463800@coloradoteletherapyservices.com
SUMMARY:Resilience & Recovery Microdosing Group
DESCRIPTION:
URL:https://coloradoteletherapyservices.com/event/resilience-recovery-microdosing-group-23/
LOCATION:https://us02web.zoom.us/j/81255323562
END:VEVENT
BEGIN:VEVENT
DTSTART;TZID=America/Denver:20260907T180000
DTEND;TZID=America/Denver:20260907T190000
DTSTAMP:20260421T134639
CREATED:20260112T213821Z
LAST-MODIFIED:20260420T214911Z
UID:10000412-1788804000-1788807600@coloradoteletherapyservices.com
SUMMARY:Monday Microdosing Group
DESCRIPTION:
URL:https://coloradoteletherapyservices.com/event/monday-microdosing-group-38/
LOCATION:https://us02web.zoom.us/j/85680399246?pwd=2M8LKaPmveoIusNzMFyzaFpFEvjXOx.1
END:VEVENT
END:VCALENDAR