BEGIN:VCALENDAR
VERSION:2.0
PRODID:-//Colorado Teletherapy Services - ECPv6.15.20//NONSGML v1.0//EN
CALSCALE:GREGORIAN
METHOD:PUBLISH
X-WR-CALNAME:Colorado Teletherapy Services
X-ORIGINAL-URL:https://coloradoteletherapyservices.com
X-WR-CALDESC:Events for Colorado Teletherapy Services
REFRESH-INTERVAL;VALUE=DURATION:PT1H
X-Robots-Tag:noindex
X-PUBLISHED-TTL:PT1H
BEGIN:VTIMEZONE
TZID:America/Denver
BEGIN:DAYLIGHT
TZOFFSETFROM:-0700
TZOFFSETTO:-0600
TZNAME:MDT
DTSTART:20240310T090000
END:DAYLIGHT
BEGIN:STANDARD
TZOFFSETFROM:-0600
TZOFFSETTO:-0700
TZNAME:MST
DTSTART:20241103T080000
END:STANDARD
BEGIN:DAYLIGHT
TZOFFSETFROM:-0700
TZOFFSETTO:-0600
TZNAME:MDT
DTSTART:20250309T090000
END:DAYLIGHT
BEGIN:STANDARD
TZOFFSETFROM:-0600
TZOFFSETTO:-0700
TZNAME:MST
DTSTART:20251102T080000
END:STANDARD
BEGIN:DAYLIGHT
TZOFFSETFROM:-0700
TZOFFSETTO:-0600
TZNAME:MDT
DTSTART:20260308T090000
END:DAYLIGHT
BEGIN:STANDARD
TZOFFSETFROM:-0600
TZOFFSETTO:-0700
TZNAME:MST
DTSTART:20261101T080000
END:STANDARD
END:VTIMEZONE
BEGIN:VEVENT
DTSTART;TZID=America/Denver:20250919T130000
DTEND;TZID=America/Denver:20250919T210000
DTSTAMP:20260423T030912
CREATED:20250901T024223Z
LAST-MODIFIED:20250901T024223Z
UID:10000108-1758286800-1758315600@coloradoteletherapyservices.com
SUMMARY:Body Mind Spirit Expo- Denver
DESCRIPTION:https://bmse.net/event/eventhome.php?eid=584
URL:https://coloradoteletherapyservices.com/event/body-mind-spirit-expo-denver-5/
LOCATION:National Western Complex\, 4655 Humboldt St\, Denver\, CO\, United States
GEO:39.781173;-104.970052
X-APPLE-STRUCTURED-LOCATION;VALUE=URI;X-ADDRESS=National Western Complex 4655 Humboldt St Denver CO United States;X-APPLE-RADIUS=500;X-TITLE=4655 Humboldt St:geo:-104.970052,39.781173
END:VEVENT
BEGIN:VEVENT
DTSTART;TZID=America/Denver:20250919T130000
DTEND;TZID=America/Denver:20250919T210000
DTSTAMP:20260423T030912
CREATED:20250901T024222Z
LAST-MODIFIED:20250920T022506Z
UID:10000102-1758286800-1758315600@coloradoteletherapyservices.com
SUMMARY:Body Mind Spirit Expo- Denver
DESCRIPTION:https://bmse.net/event/eventhome.php?eid=584
URL:https://coloradoteletherapyservices.com/event/body-mind-spirit-expo-denver-4/
LOCATION:National Western Complex\, 4655 Humboldt St\, Denver\, CO\, United States
GEO:39.781173;-104.970052
X-APPLE-STRUCTURED-LOCATION;VALUE=URI;X-ADDRESS=National Western Complex 4655 Humboldt St Denver CO United States;X-APPLE-RADIUS=500;X-TITLE=4655 Humboldt St:geo:-104.970052,39.781173
END:VEVENT
BEGIN:VEVENT
DTSTART;TZID=America/Denver:20250913T100000
DTEND;TZID=America/Denver:20250913T110000
DTSTAMP:20260423T030912
CREATED:20250901T024221Z
LAST-MODIFIED:20250901T024221Z
UID:10000106-1757757600-1757761200@coloradoteletherapyservices.com
SUMMARY:Microdosing Group
DESCRIPTION:
URL:https://coloradoteletherapyservices.com/event/microdosing-group-17/
LOCATION:https://us02web.zoom.us/j/82861891240
END:VEVENT
BEGIN:VEVENT
DTSTART;TZID=America/Denver:20250913T100000
DTEND;TZID=America/Denver:20250913T110000
DTSTAMP:20260423T030912
CREATED:20250901T024220Z
LAST-MODIFIED:20250913T013507Z
UID:10000101-1757757600-1757761200@coloradoteletherapyservices.com
SUMMARY:Microdosing Group
DESCRIPTION:
URL:https://coloradoteletherapyservices.com/event/microdosing-group-16/
LOCATION:https://us02web.zoom.us/j/82861891240
END:VEVENT
BEGIN:VEVENT
DTSTART;TZID=America/Denver:20250913T093000
DTEND;TZID=America/Denver:20250913T100000
DTSTAMP:20260423T030912
CREATED:20250901T024219Z
LAST-MODIFIED:20250901T024219Z
UID:10000104-1757755800-1757757600@coloradoteletherapyservices.com
SUMMARY:Thought Box Group
DESCRIPTION:
URL:https://coloradoteletherapyservices.com/event/thought-box-group-18/
LOCATION:https://us02web.zoom.us/j/82861891240
END:VEVENT
BEGIN:VEVENT
DTSTART;TZID=America/Denver:20250913T093000
DTEND;TZID=America/Denver:20250913T100000
DTSTAMP:20260423T030912
CREATED:20250901T024219Z
LAST-MODIFIED:20250913T013506Z
UID:10000100-1757755800-1757757600@coloradoteletherapyservices.com
SUMMARY:Thought Box Group
DESCRIPTION:
URL:https://coloradoteletherapyservices.com/event/thought-box-group-17/
LOCATION:https://us02web.zoom.us/j/82861891240
END:VEVENT
BEGIN:VEVENT
DTSTART;TZID=America/Denver:20250823T100000
DTEND;TZID=America/Denver:20250823T160000
DTSTAMP:20260423T030912
CREATED:20250117T223740Z
LAST-MODIFIED:20250621T171952Z
UID:10000058-1755943200-1755964800@coloradoteletherapyservices.com
SUMMARY:COS Health & Fitness Expo
DESCRIPTION:Activities\, Exhibitors and Workshops to enhance your knowledge and experience of what health means to you! Come learn and have fun with us! Click here for more info & tickets: https://cosfitnessexpo.com/
URL:https://coloradoteletherapyservices.com/event/cos-health-fitness-expo/
LOCATION:Great Wolf Lodge\, Colorado Springs
END:VEVENT
BEGIN:VEVENT
DTSTART;TZID=America/Denver:20250629T080000
DTEND;TZID=America/Denver:20250629T200000
DTSTAMP:20260423T030912
CREATED:20250526T145358Z
LAST-MODIFIED:20250526T145358Z
UID:10000098-1751184000-1751227200@coloradoteletherapyservices.com
SUMMARY:Naturally Inspired Health Summit
DESCRIPTION:https://www.eventbrite.com/e/2025-naturally-inspired-health-summit-1-health-event-in-colorado-tickets-1228392237249?aff=cts
URL:https://coloradoteletherapyservices.com/event/naturally-inspired-health-summit-4/
LOCATION:The Ranch Events Complex\, 5900 Aran St\, Fort Collins\, CO\, United States
GEO:40.504453;-105.075829
X-APPLE-STRUCTURED-LOCATION;VALUE=URI;X-ADDRESS=The Ranch Events Complex 5900 Aran St Fort Collins CO United States;X-APPLE-RADIUS=500;X-TITLE=5900 Aran St:geo:-105.075829,40.504453
END:VEVENT
BEGIN:VEVENT
DTSTART;TZID=America/Denver:20250629T080000
DTEND;TZID=America/Denver:20250629T200000
DTSTAMP:20260423T030912
CREATED:20250526T145357Z
LAST-MODIFIED:20250621T171952Z
UID:10000099-1751184000-1751227200@coloradoteletherapyservices.com
SUMMARY:Naturally Inspired Health Summit
DESCRIPTION:https://www.eventbrite.com/e/2025-naturally-inspired-health-summit-1-health-event-in-colorado-tickets-1228392237249?aff=cts
URL:https://coloradoteletherapyservices.com/event/naturally-inspired-health-summit-3/
LOCATION:The Ranch Events Complex\, 5900 Aran St\, Fort Collins\, CO\, United States
GEO:40.504453;-105.075829
X-APPLE-STRUCTURED-LOCATION;VALUE=URI;X-ADDRESS=The Ranch Events Complex 5900 Aran St Fort Collins CO United States;X-APPLE-RADIUS=500;X-TITLE=5900 Aran St:geo:-105.075829,40.504453
END:VEVENT
BEGIN:VEVENT
DTSTART;TZID=America/Denver:20250628T080000
DTEND;TZID=America/Denver:20250628T200000
DTSTAMP:20260423T030912
CREATED:20250526T145357Z
LAST-MODIFIED:20250526T145357Z
UID:10000096-1751097600-1751140800@coloradoteletherapyservices.com
SUMMARY:Naturally Inspired Health Summit
DESCRIPTION:https://www.eventbrite.com/e/2025-naturally-inspired-health-summit-1-health-event-in-colorado-tickets-1228392237249?aff=cts
URL:https://coloradoteletherapyservices.com/event/naturally-inspired-health-summit-2/
LOCATION:The Ranch Events Complex\, 5900 Aran St\, Fort Collins\, CO\, United States
GEO:40.504453;-105.075829
X-APPLE-STRUCTURED-LOCATION;VALUE=URI;X-ADDRESS=The Ranch Events Complex 5900 Aran St Fort Collins CO United States;X-APPLE-RADIUS=500;X-TITLE=5900 Aran St:geo:-105.075829,40.504453
END:VEVENT
BEGIN:VEVENT
DTSTART;TZID=America/Denver:20250628T080000
DTEND;TZID=America/Denver:20250628T200000
DTSTAMP:20260423T030912
CREATED:20250526T145357Z
LAST-MODIFIED:20250621T171951Z
UID:10000097-1751097600-1751140800@coloradoteletherapyservices.com
SUMMARY:Naturally Inspired Health Summit
DESCRIPTION:https://www.eventbrite.com/e/2025-naturally-inspired-health-summit-1-health-event-in-colorado-tickets-1228392237249?aff=cts
URL:https://coloradoteletherapyservices.com/event/naturally-inspired-health-summit/
LOCATION:The Ranch Events Complex\, 5900 Aran St\, Fort Collins\, CO\, United States
GEO:40.504453;-105.075829
X-APPLE-STRUCTURED-LOCATION;VALUE=URI;X-ADDRESS=The Ranch Events Complex 5900 Aran St Fort Collins CO United States;X-APPLE-RADIUS=500;X-TITLE=5900 Aran St:geo:-105.075829,40.504453
END:VEVENT
BEGIN:VEVENT
DTSTART;TZID=America/Denver:20250624T190000
DTEND;TZID=America/Denver:20250624T200000
DTSTAMP:20260423T030912
CREATED:20250525T145351Z
LAST-MODIFIED:20250525T145351Z
UID:10000095-1750791600-1750795200@coloradoteletherapyservices.com
SUMMARY:Microdosing Group
DESCRIPTION:
URL:https://coloradoteletherapyservices.com/event/microdosing-group-15/
LOCATION:https://us02web.zoom.us/j/81382209551
END:VEVENT
BEGIN:VEVENT
DTSTART;TZID=America/Denver:20250624T190000
DTEND;TZID=America/Denver:20250624T200000
DTSTAMP:20260423T030912
CREATED:20250525T145351Z
LAST-MODIFIED:20250621T171950Z
UID:10000093-1750791600-1750795200@coloradoteletherapyservices.com
SUMMARY:Microdosing Group
DESCRIPTION:
URL:https://coloradoteletherapyservices.com/event/microdosing-group-14/
LOCATION:https://us02web.zoom.us/j/81382209551
END:VEVENT
BEGIN:VEVENT
DTSTART;TZID=America/Denver:20250624T183000
DTEND;TZID=America/Denver:20250624T190000
DTSTAMP:20260423T030912
CREATED:20250525T145351Z
LAST-MODIFIED:20250525T145351Z
UID:10000094-1750789800-1750791600@coloradoteletherapyservices.com
SUMMARY:Thought Box Group
DESCRIPTION:
URL:https://coloradoteletherapyservices.com/event/thought-box-group-16/
LOCATION:https://us02web.zoom.us/j/81382209551
END:VEVENT
BEGIN:VEVENT
DTSTART;TZID=America/Denver:20250624T183000
DTEND;TZID=America/Denver:20250624T190000
DTSTAMP:20260423T030912
CREATED:20250525T145350Z
LAST-MODIFIED:20250621T171950Z
UID:10000091-1750789800-1750791600@coloradoteletherapyservices.com
SUMMARY:Thought Box Group
DESCRIPTION:
URL:https://coloradoteletherapyservices.com/event/thought-box-group-15/
LOCATION:https://us02web.zoom.us/j/81382209551
END:VEVENT
BEGIN:VEVENT
DTSTART;TZID=America/Denver:20250615T130000
DTEND;TZID=America/Denver:20250615T140000
DTSTAMP:20260423T030912
CREATED:20250117T223737Z
LAST-MODIFIED:20250615T162656Z
UID:10000056-1749992400-1749996000@coloradoteletherapyservices.com
SUMMARY:Charity - Lecture Room 1
DESCRIPTION:
URL:https://coloradoteletherapyservices.com/event/charity-lecture-room-1-3/
LOCATION:The Ranch\, 4701 Holly Ct\, Loveland\, CO\, United States
GEO:40.44063;-105.063356
X-APPLE-STRUCTURED-LOCATION;VALUE=URI;X-ADDRESS=The Ranch 4701 Holly Ct Loveland CO United States;X-APPLE-RADIUS=500;X-TITLE=4701 Holly Ct:geo:-105.063356,40.44063
END:VEVENT
BEGIN:VEVENT
DTSTART;TZID=America/Denver:20250615T100000
DTEND;TZID=America/Denver:20250615T190000
DTSTAMP:20260423T030912
CREATED:20250315T084025Z
LAST-MODIFIED:20250525T145350Z
UID:10000082-1749981600-1750014000@coloradoteletherapyservices.com
SUMMARY:Pikes Peak Pride
DESCRIPTION:
URL:https://coloradoteletherapyservices.com/event/pikes-peak-pride-2/
LOCATION:Alamo Square Park\, 2 S Tejon St\, Colorado Springs\, CO\, United States
GEO:38.833812;-104.823498
X-APPLE-STRUCTURED-LOCATION;VALUE=URI;X-ADDRESS=Alamo Square Park 2 S Tejon St Colorado Springs CO United States;X-APPLE-RADIUS=500;X-TITLE=2 S Tejon St:geo:-104.823498,38.833812
END:VEVENT
BEGIN:VEVENT
DTSTART;TZID=America/Denver:20250615T100000
DTEND;TZID=America/Denver:20250615T180000
DTSTAMP:20260423T030912
CREATED:20250117T223739Z
LAST-MODIFIED:20250615T162655Z
UID:10000057-1749981600-1750010400@coloradoteletherapyservices.com
SUMMARY:Body Mind Spirit Expo - Loveland
DESCRIPTION:http://www.bmse.net
URL:https://coloradoteletherapyservices.com/event/body-mind-spirit-expo-loveland-2/
LOCATION:The Ranch\, 4701 Holly Ct\, Loveland\, CO\, United States
GEO:40.44063;-105.063356
X-APPLE-STRUCTURED-LOCATION;VALUE=URI;X-ADDRESS=The Ranch 4701 Holly Ct Loveland CO United States;X-APPLE-RADIUS=500;X-TITLE=4701 Holly Ct:geo:-105.063356,40.44063
END:VEVENT
BEGIN:VEVENT
DTSTART;TZID=America/Denver:20250614T110000
DTEND;TZID=America/Denver:20250614T120000
DTSTAMP:20260423T030912
CREATED:20250117T223735Z
LAST-MODIFIED:20250614T162424Z
UID:10000054-1749898800-1749902400@coloradoteletherapyservices.com
SUMMARY:Charity - Lecture Room 2
DESCRIPTION:
URL:https://coloradoteletherapyservices.com/event/charity-lecture-room-2/
LOCATION:The Ranch\, 4701 Holly Ct\, Loveland\, CO\, United States
GEO:40.44063;-105.063356
X-APPLE-STRUCTURED-LOCATION;VALUE=URI;X-ADDRESS=The Ranch 4701 Holly Ct Loveland CO United States;X-APPLE-RADIUS=500;X-TITLE=4701 Holly Ct:geo:-105.063356,40.44063
END:VEVENT
BEGIN:VEVENT
DTSTART;TZID=America/Denver:20250614T100000
DTEND;TZID=America/Denver:20250614T190000
DTSTAMP:20260423T030912
CREATED:20250315T084024Z
LAST-MODIFIED:20250525T145348Z
UID:10000081-1749895200-1749927600@coloradoteletherapyservices.com
SUMMARY:Pikes Peak Pride
DESCRIPTION:
URL:https://coloradoteletherapyservices.com/event/pikes-peak-pride/
LOCATION:Alamo Square Park\, 2 S Tejon St\, Colorado Springs\, CO\, United States
GEO:38.833812;-104.823498
X-APPLE-STRUCTURED-LOCATION;VALUE=URI;X-ADDRESS=Alamo Square Park 2 S Tejon St Colorado Springs CO United States;X-APPLE-RADIUS=500;X-TITLE=2 S Tejon St:geo:-104.823498,38.833812
END:VEVENT
BEGIN:VEVENT
DTSTART;TZID=America/Denver:20250614T100000
DTEND;TZID=America/Denver:20250614T190000
DTSTAMP:20260423T030912
CREATED:20250117T223736Z
LAST-MODIFIED:20250614T162425Z
UID:10000055-1749895200-1749927600@coloradoteletherapyservices.com
SUMMARY:Body Mind Spirit Expo - Loveland
DESCRIPTION:http://www.bmse.net
URL:https://coloradoteletherapyservices.com/event/body-mind-spirit-expo-loveland/
LOCATION:The Ranch\, 4701 Holly Ct\, Loveland\, CO\, United States
GEO:40.44063;-105.063356
X-APPLE-STRUCTURED-LOCATION;VALUE=URI;X-ADDRESS=The Ranch 4701 Holly Ct Loveland CO United States;X-APPLE-RADIUS=500;X-TITLE=4701 Holly Ct:geo:-105.063356,40.44063
END:VEVENT
BEGIN:VEVENT
DTSTART;TZID=America/Denver:20250607T100000
DTEND;TZID=America/Denver:20250607T110000
DTSTAMP:20260423T030912
CREATED:20250525T145346Z
LAST-MODIFIED:20250607T161007Z
UID:10000088-1749290400-1749294000@coloradoteletherapyservices.com
SUMMARY:Microdosing Group
DESCRIPTION:
URL:https://coloradoteletherapyservices.com/event/microdosing-group-12/
LOCATION:https://us02web.zoom.us/j/82861891240
END:VEVENT
BEGIN:VEVENT
DTSTART;TZID=America/Denver:20250607T100000
DTEND;TZID=America/Denver:20250607T110000
DTSTAMP:20260423T030912
CREATED:20250525T145346Z
LAST-MODIFIED:20250525T145346Z
UID:10000090-1749290400-1749294000@coloradoteletherapyservices.com
SUMMARY:Microdosing Group
DESCRIPTION:
URL:https://coloradoteletherapyservices.com/event/microdosing-group-13/
LOCATION:https://us02web.zoom.us/j/82861891240
END:VEVENT
BEGIN:VEVENT
DTSTART;TZID=America/Denver:20250607T093000
DTEND;TZID=America/Denver:20250607T100000
DTSTAMP:20260423T030912
CREATED:20250525T145347Z
LAST-MODIFIED:20250525T145347Z
UID:10000092-1749288600-1749290400@coloradoteletherapyservices.com
SUMMARY:Thought Box Group
DESCRIPTION:
URL:https://coloradoteletherapyservices.com/event/thought-box-group-14/
LOCATION:https://us02web.zoom.us/j/82861891240
END:VEVENT
BEGIN:VEVENT
DTSTART;TZID=America/Denver:20250607T093000
DTEND;TZID=America/Denver:20250607T100000
DTSTAMP:20260423T030912
CREATED:20250525T145346Z
LAST-MODIFIED:20250606T160216Z
UID:10000089-1749288600-1749290400@coloradoteletherapyservices.com
SUMMARY:Thought Box Group
DESCRIPTION:
URL:https://coloradoteletherapyservices.com/event/thought-box-group-13/
LOCATION:https://us02web.zoom.us/j/82861891240
END:VEVENT
BEGIN:VEVENT
DTSTART;TZID=America/Denver:20250520T190000
DTEND;TZID=America/Denver:20250520T200000
DTSTAMP:20260423T030912
CREATED:20250504T122830Z
LAST-MODIFIED:20250520T141108Z
UID:10000085-1747767600-1747771200@coloradoteletherapyservices.com
SUMMARY:Microdosing Group
DESCRIPTION:
URL:https://coloradoteletherapyservices.com/event/microdosing-group-11/
LOCATION:https://us02web.zoom.us/j/82861891240
END:VEVENT
BEGIN:VEVENT
DTSTART;TZID=America/Denver:20250520T183000
DTEND;TZID=America/Denver:20250520T190000
DTSTAMP:20260423T030912
CREATED:20250504T122834Z
LAST-MODIFIED:20250504T122834Z
UID:10000087-1747765800-1747767600@coloradoteletherapyservices.com
SUMMARY:Thought Box Group
DESCRIPTION:
URL:https://coloradoteletherapyservices.com/event/thought-box-group-12/
LOCATION:https://www.google.com/url?q=https://us02web.zoom.us/j/82280320686&sa=D&source=calendar&ust=1746740050602231&usg=AOvVaw1grbfzIUbsU22cu8sFNQ09
END:VEVENT
BEGIN:VEVENT
DTSTART;TZID=America/Denver:20250520T183000
DTEND;TZID=America/Denver:20250520T190000
DTSTAMP:20260423T030912
CREATED:20250504T122831Z
LAST-MODIFIED:20250520T141107Z
UID:10000086-1747765800-1747767600@coloradoteletherapyservices.com
SUMMARY:Thought Box Group
DESCRIPTION:
URL:https://coloradoteletherapyservices.com/event/thought-box-group-11/
LOCATION:https://www.google.com/url?q=https://us02web.zoom.us/j/82280320686&sa=D&source=calendar&ust=1746740050602231&usg=AOvVaw1grbfzIUbsU22cu8sFNQ09
END:VEVENT
BEGIN:VEVENT
DTSTART;TZID=America/Denver:20250510T100000
DTEND;TZID=America/Denver:20250510T110000
DTSTAMP:20260423T030912
CREATED:20250504T122829Z
LAST-MODIFIED:20250510T132423Z
UID:10000083-1746871200-1746874800@coloradoteletherapyservices.com
SUMMARY:Microdosing Group
DESCRIPTION:
URL:https://coloradoteletherapyservices.com/event/microdosing-group-10/
LOCATION:https://us02web.zoom.us/j/82861891240
END:VEVENT
BEGIN:VEVENT
DTSTART;TZID=America/Denver:20250510T093000
DTEND;TZID=America/Denver:20250510T100000
DTSTAMP:20260423T030912
CREATED:20250504T122830Z
LAST-MODIFIED:20250510T132424Z
UID:10000084-1746869400-1746871200@coloradoteletherapyservices.com
SUMMARY:Thought Box Group
DESCRIPTION:
URL:https://coloradoteletherapyservices.com/event/thought-box-group-10/
LOCATION:https://www.google.com/url?q=https://us02web.zoom.us/j/82280320686&sa=D&source=calendar&ust=1746740050602231&usg=AOvVaw1grbfzIUbsU22cu8sFNQ09
END:VEVENT
END:VCALENDAR