BEGIN:VCALENDAR
VERSION:2.0
PRODID:-//Colorado Teletherapy Services - ECPv6.15.20//NONSGML v1.0//EN
CALSCALE:GREGORIAN
METHOD:PUBLISH
X-ORIGINAL-URL:https://coloradoteletherapyservices.com
X-WR-CALDESC:Events for Colorado Teletherapy Services
REFRESH-INTERVAL;VALUE=DURATION:PT1H
X-Robots-Tag:noindex
X-PUBLISHED-TTL:PT1H
BEGIN:VTIMEZONE
TZID:America/Denver
BEGIN:DAYLIGHT
TZOFFSETFROM:-0700
TZOFFSETTO:-0600
TZNAME:MDT
DTSTART:20250309T090000
END:DAYLIGHT
BEGIN:STANDARD
TZOFFSETFROM:-0600
TZOFFSETTO:-0700
TZNAME:MST
DTSTART:20251102T080000
END:STANDARD
BEGIN:DAYLIGHT
TZOFFSETFROM:-0700
TZOFFSETTO:-0600
TZNAME:MDT
DTSTART:20260308T090000
END:DAYLIGHT
BEGIN:STANDARD
TZOFFSETFROM:-0600
TZOFFSETTO:-0700
TZNAME:MST
DTSTART:20261101T080000
END:STANDARD
BEGIN:DAYLIGHT
TZOFFSETFROM:-0700
TZOFFSETTO:-0600
TZNAME:MDT
DTSTART:20270314T090000
END:DAYLIGHT
BEGIN:STANDARD
TZOFFSETFROM:-0600
TZOFFSETTO:-0700
TZNAME:MST
DTSTART:20271107T080000
END:STANDARD
END:VTIMEZONE
BEGIN:VEVENT
DTSTART;TZID=America/Denver:20260623T183000
DTEND;TZID=America/Denver:20260623T190000
DTSTAMP:20260423T054430
CREATED:20260307T061748Z
LAST-MODIFIED:20260422T221855Z
UID:10000601-1782239400-1782241200@coloradoteletherapyservices.com
SUMMARY:Thought Box Group
DESCRIPTION:
URL:https://coloradoteletherapyservices.com/event/thought-box-group-39/
LOCATION:https://us02web.zoom.us/j/81382209551
END:VEVENT
BEGIN:VEVENT
DTSTART;TZID=America/Denver:20260623T190000
DTEND;TZID=America/Denver:20260623T200000
DTSTAMP:20260423T054430
CREATED:20260307T061748Z
LAST-MODIFIED:20260422T221854Z
UID:10000600-1782241200-1782244800@coloradoteletherapyservices.com
SUMMARY:Microdosing Group
DESCRIPTION:
URL:https://coloradoteletherapyservices.com/event/microdosing-group-38/
LOCATION:https://us02web.zoom.us/j/81382209551
END:VEVENT
BEGIN:VEVENT
DTSTART;TZID=America/Denver:20260624T183000
DTEND;TZID=America/Denver:20260624T193000
DTSTAMP:20260423T054430
CREATED:20251024T052533Z
LAST-MODIFIED:20260422T221855Z
UID:10000169-1782325800-1782329400@coloradoteletherapyservices.com
SUMMARY:Creative Mindfulness Group
DESCRIPTION:
URL:https://coloradoteletherapyservices.com/event/creative-mindfulness-group-34/
LOCATION:https://us02web.zoom.us/j/89087711310?pwd=PKaUYoL1OKZ9nYG22TQr4K7xd38qJD.1
END:VEVENT
BEGIN:VEVENT
DTSTART;TZID=America/Denver:20260624T183000
DTEND;TZID=America/Denver:20260624T193000
DTSTAMP:20260423T054430
CREATED:20251206T114043Z
LAST-MODIFIED:20260223T042703Z
UID:10000275-1782325800-1782329400@coloradoteletherapyservices.com
SUMMARY:Military & 1st Responders Microdosing Group
DESCRIPTION:
URL:https://coloradoteletherapyservices.com/event/military-1st-responders-microdosing-group-31/
LOCATION:https://us02web.zoom.us/j/86475028161
END:VEVENT
BEGIN:VEVENT
DTSTART;TZID=America/Denver:20260625T113000
DTEND;TZID=America/Denver:20260625T123000
DTSTAMP:20260423T054430
CREATED:20260203T014015Z
LAST-MODIFIED:20260223T042704Z
UID:10000500-1782387000-1782390600@coloradoteletherapyservices.com
SUMMARY:Military & 1st Responders Microdosing Group
DESCRIPTION:
URL:https://coloradoteletherapyservices.com/event/military-1st-responders-microdosing-group-132/
LOCATION:https://us02web.zoom.us/j/84347293042
END:VEVENT
BEGIN:VEVENT
DTSTART;TZID=America/Denver:20260625T183000
DTEND;TZID=America/Denver:20260625T193000
DTSTAMP:20260423T054430
CREATED:20260316T080625Z
LAST-MODIFIED:20260422T221855Z
UID:10000617-1782412200-1782415800@coloradoteletherapyservices.com
SUMMARY:Resilience & Recovery Microdosing Group
DESCRIPTION:
URL:https://coloradoteletherapyservices.com/event/resilience-recovery-microdosing-group-13/
LOCATION:https://us02web.zoom.us/j/81255323562
END:VEVENT
BEGIN:VEVENT
DTSTART;TZID=America/Denver:20260629T180000
DTEND;TZID=America/Denver:20260629T190000
DTSTAMP:20260423T054430
CREATED:20260112T213800Z
LAST-MODIFIED:20260422T221855Z
UID:10000402-1782756000-1782759600@coloradoteletherapyservices.com
SUMMARY:Monday Microdosing Group
DESCRIPTION:
URL:https://coloradoteletherapyservices.com/event/monday-microdosing-group-28/
LOCATION:https://us02web.zoom.us/j/85680399246?pwd=2M8LKaPmveoIusNzMFyzaFpFEvjXOx.1
END:VEVENT
BEGIN:VEVENT
DTSTART;TZID=America/Denver:20260701T183000
DTEND;TZID=America/Denver:20260701T193000
DTSTAMP:20260423T054430
CREATED:20251024T052536Z
LAST-MODIFIED:20260422T221855Z
UID:10000170-1782930600-1782934200@coloradoteletherapyservices.com
SUMMARY:Creative Mindfulness Group
DESCRIPTION:
URL:https://coloradoteletherapyservices.com/event/creative-mindfulness-group-35/
LOCATION:https://us02web.zoom.us/j/89087711310?pwd=PKaUYoL1OKZ9nYG22TQr4K7xd38qJD.1
END:VEVENT
BEGIN:VEVENT
DTSTART;TZID=America/Denver:20260701T183000
DTEND;TZID=America/Denver:20260701T193000
DTSTAMP:20260423T054430
CREATED:20251206T114045Z
LAST-MODIFIED:20260223T042705Z
UID:10000276-1782930600-1782934200@coloradoteletherapyservices.com
SUMMARY:Military & 1st Responders Microdosing Group
DESCRIPTION:
URL:https://coloradoteletherapyservices.com/event/military-1st-responders-microdosing-group-32/
LOCATION:https://us02web.zoom.us/j/86475028161
END:VEVENT
BEGIN:VEVENT
DTSTART;TZID=America/Denver:20260702T113000
DTEND;TZID=America/Denver:20260702T123000
DTSTAMP:20260423T054430
CREATED:20260203T014018Z
LAST-MODIFIED:20260223T042706Z
UID:10000501-1782991800-1782995400@coloradoteletherapyservices.com
SUMMARY:Military & 1st Responders Microdosing Group
DESCRIPTION:
URL:https://coloradoteletherapyservices.com/event/military-1st-responders-microdosing-group-133/
LOCATION:https://us02web.zoom.us/j/84347293042
END:VEVENT
BEGIN:VEVENT
DTSTART;TZID=America/Denver:20260702T183000
DTEND;TZID=America/Denver:20260702T193000
DTSTAMP:20260423T054430
CREATED:20260316T080627Z
LAST-MODIFIED:20260422T221855Z
UID:10000618-1783017000-1783020600@coloradoteletherapyservices.com
SUMMARY:Resilience & Recovery Microdosing Group
DESCRIPTION:
URL:https://coloradoteletherapyservices.com/event/resilience-recovery-microdosing-group-14/
LOCATION:https://us02web.zoom.us/j/81255323562
END:VEVENT
BEGIN:VEVENT
DTSTART;TZID=America/Denver:20260706T180000
DTEND;TZID=America/Denver:20260706T190000
DTSTAMP:20260423T054430
CREATED:20260112T213802Z
LAST-MODIFIED:20260422T221856Z
UID:10000403-1783360800-1783364400@coloradoteletherapyservices.com
SUMMARY:Monday Microdosing Group
DESCRIPTION:
URL:https://coloradoteletherapyservices.com/event/monday-microdosing-group-29/
LOCATION:https://us02web.zoom.us/j/85680399246?pwd=2M8LKaPmveoIusNzMFyzaFpFEvjXOx.1
END:VEVENT
BEGIN:VEVENT
DTSTART;TZID=America/Denver:20260708T183000
DTEND;TZID=America/Denver:20260708T193000
DTSTAMP:20260423T054430
CREATED:20251024T052538Z
LAST-MODIFIED:20260422T221856Z
UID:10000171-1783535400-1783539000@coloradoteletherapyservices.com
SUMMARY:Creative Mindfulness Group
DESCRIPTION:
URL:https://coloradoteletherapyservices.com/event/creative-mindfulness-group-36/
LOCATION:https://us02web.zoom.us/j/89087711310?pwd=PKaUYoL1OKZ9nYG22TQr4K7xd38qJD.1
END:VEVENT
BEGIN:VEVENT
DTSTART;TZID=America/Denver:20260708T183000
DTEND;TZID=America/Denver:20260708T193000
DTSTAMP:20260423T054430
CREATED:20251206T114047Z
LAST-MODIFIED:20260223T042707Z
UID:10000277-1783535400-1783539000@coloradoteletherapyservices.com
SUMMARY:Military & 1st Responders Microdosing Group
DESCRIPTION:
URL:https://coloradoteletherapyservices.com/event/military-1st-responders-microdosing-group-33/
LOCATION:https://us02web.zoom.us/j/86475028161
END:VEVENT
BEGIN:VEVENT
DTSTART;TZID=America/Denver:20260709T113000
DTEND;TZID=America/Denver:20260709T123000
DTSTAMP:20260423T054430
CREATED:20260203T014022Z
LAST-MODIFIED:20260223T042708Z
UID:10000502-1783596600-1783600200@coloradoteletherapyservices.com
SUMMARY:Military & 1st Responders Microdosing Group
DESCRIPTION:
URL:https://coloradoteletherapyservices.com/event/military-1st-responders-microdosing-group-134/
LOCATION:https://us02web.zoom.us/j/84347293042
END:VEVENT
BEGIN:VEVENT
DTSTART;TZID=America/Denver:20260709T183000
DTEND;TZID=America/Denver:20260709T193000
DTSTAMP:20260423T054430
CREATED:20260316T080628Z
LAST-MODIFIED:20260422T221856Z
UID:10000619-1783621800-1783625400@coloradoteletherapyservices.com
SUMMARY:Resilience & Recovery Microdosing Group
DESCRIPTION:
URL:https://coloradoteletherapyservices.com/event/resilience-recovery-microdosing-group-15/
LOCATION:https://us02web.zoom.us/j/81255323562
END:VEVENT
BEGIN:VEVENT
DTSTART;TZID=America/Denver:20260713T180000
DTEND;TZID=America/Denver:20260713T190000
DTSTAMP:20260423T054430
CREATED:20260112T213804Z
LAST-MODIFIED:20260422T221856Z
UID:10000404-1783965600-1783969200@coloradoteletherapyservices.com
SUMMARY:Monday Microdosing Group
DESCRIPTION:
URL:https://coloradoteletherapyservices.com/event/monday-microdosing-group-30/
LOCATION:https://us02web.zoom.us/j/85680399246?pwd=2M8LKaPmveoIusNzMFyzaFpFEvjXOx.1
END:VEVENT
BEGIN:VEVENT
DTSTART;TZID=America/Denver:20260715T183000
DTEND;TZID=America/Denver:20260715T193000
DTSTAMP:20260423T054430
CREATED:20251024T052541Z
LAST-MODIFIED:20260422T221856Z
UID:10000172-1784140200-1784143800@coloradoteletherapyservices.com
SUMMARY:Creative Mindfulness Group
DESCRIPTION:
URL:https://coloradoteletherapyservices.com/event/creative-mindfulness-group-37/
LOCATION:https://us02web.zoom.us/j/89087711310?pwd=PKaUYoL1OKZ9nYG22TQr4K7xd38qJD.1
END:VEVENT
BEGIN:VEVENT
DTSTART;TZID=America/Denver:20260715T183000
DTEND;TZID=America/Denver:20260715T193000
DTSTAMP:20260423T054430
CREATED:20251206T114048Z
LAST-MODIFIED:20260223T042722Z
UID:10000278-1784140200-1784143800@coloradoteletherapyservices.com
SUMMARY:Military & 1st Responders Microdosing Group
DESCRIPTION:
URL:https://coloradoteletherapyservices.com/event/military-1st-responders-microdosing-group-34/
LOCATION:https://us02web.zoom.us/j/86475028161
END:VEVENT
BEGIN:VEVENT
DTSTART;TZID=America/Denver:20260716T113000
DTEND;TZID=America/Denver:20260716T123000
DTSTAMP:20260423T054430
CREATED:20260203T014025Z
LAST-MODIFIED:20260223T042723Z
UID:10000503-1784201400-1784205000@coloradoteletherapyservices.com
SUMMARY:Military & 1st Responders Microdosing Group
DESCRIPTION:
URL:https://coloradoteletherapyservices.com/event/military-1st-responders-microdosing-group-135/
LOCATION:https://us02web.zoom.us/j/84347293042
END:VEVENT
BEGIN:VEVENT
DTSTART;TZID=America/Denver:20260716T183000
DTEND;TZID=America/Denver:20260716T193000
DTSTAMP:20260423T054430
CREATED:20260316T080630Z
LAST-MODIFIED:20260422T221856Z
UID:10000620-1784226600-1784230200@coloradoteletherapyservices.com
SUMMARY:Resilience & Recovery Microdosing Group
DESCRIPTION:
URL:https://coloradoteletherapyservices.com/event/resilience-recovery-microdosing-group-16/
LOCATION:https://us02web.zoom.us/j/81255323562
END:VEVENT
BEGIN:VEVENT
DTSTART;TZID=America/Denver:20260720T180000
DTEND;TZID=America/Denver:20260720T190000
DTSTAMP:20260423T054430
CREATED:20260112T213806Z
LAST-MODIFIED:20260422T221857Z
UID:10000405-1784570400-1784574000@coloradoteletherapyservices.com
SUMMARY:Monday Microdosing Group
DESCRIPTION:
URL:https://coloradoteletherapyservices.com/event/monday-microdosing-group-31/
LOCATION:https://us02web.zoom.us/j/85680399246?pwd=2M8LKaPmveoIusNzMFyzaFpFEvjXOx.1
END:VEVENT
BEGIN:VEVENT
DTSTART;TZID=America/Denver:20260722T183000
DTEND;TZID=America/Denver:20260722T193000
DTSTAMP:20260423T054430
CREATED:20251024T052543Z
LAST-MODIFIED:20260422T221857Z
UID:10000173-1784745000-1784748600@coloradoteletherapyservices.com
SUMMARY:Creative Mindfulness Group
DESCRIPTION:
URL:https://coloradoteletherapyservices.com/event/creative-mindfulness-group-38/
LOCATION:https://us02web.zoom.us/j/89087711310?pwd=PKaUYoL1OKZ9nYG22TQr4K7xd38qJD.1
END:VEVENT
BEGIN:VEVENT
DTSTART;TZID=America/Denver:20260722T183000
DTEND;TZID=America/Denver:20260722T193000
DTSTAMP:20260423T054430
CREATED:20251206T114050Z
LAST-MODIFIED:20260223T042724Z
UID:10000279-1784745000-1784748600@coloradoteletherapyservices.com
SUMMARY:Military & 1st Responders Microdosing Group
DESCRIPTION:
URL:https://coloradoteletherapyservices.com/event/military-1st-responders-microdosing-group-35/
LOCATION:https://us02web.zoom.us/j/86475028161
END:VEVENT
BEGIN:VEVENT
DTSTART;TZID=America/Denver:20260723T113000
DTEND;TZID=America/Denver:20260723T123000
DTSTAMP:20260423T054430
CREATED:20260203T014028Z
LAST-MODIFIED:20260223T042725Z
UID:10000504-1784806200-1784809800@coloradoteletherapyservices.com
SUMMARY:Military & 1st Responders Microdosing Group
DESCRIPTION:
URL:https://coloradoteletherapyservices.com/event/military-1st-responders-microdosing-group-136/
LOCATION:https://us02web.zoom.us/j/84347293042
END:VEVENT
BEGIN:VEVENT
DTSTART;TZID=America/Denver:20260723T183000
DTEND;TZID=America/Denver:20260723T193000
DTSTAMP:20260423T054430
CREATED:20260316T080632Z
LAST-MODIFIED:20260422T221857Z
UID:10000621-1784831400-1784835000@coloradoteletherapyservices.com
SUMMARY:Resilience & Recovery Microdosing Group
DESCRIPTION:
URL:https://coloradoteletherapyservices.com/event/resilience-recovery-microdosing-group-17/
LOCATION:https://us02web.zoom.us/j/81255323562
END:VEVENT
BEGIN:VEVENT
DTSTART;TZID=America/Denver:20260727T180000
DTEND;TZID=America/Denver:20260727T190000
DTSTAMP:20260423T054430
CREATED:20260112T213808Z
LAST-MODIFIED:20260422T221857Z
UID:10000406-1785175200-1785178800@coloradoteletherapyservices.com
SUMMARY:Monday Microdosing Group
DESCRIPTION:
URL:https://coloradoteletherapyservices.com/event/monday-microdosing-group-32/
LOCATION:https://us02web.zoom.us/j/85680399246?pwd=2M8LKaPmveoIusNzMFyzaFpFEvjXOx.1
END:VEVENT
BEGIN:VEVENT
DTSTART;TZID=America/Denver:20260729T183000
DTEND;TZID=America/Denver:20260729T193000
DTSTAMP:20260423T054430
CREATED:20251024T052545Z
LAST-MODIFIED:20260422T221857Z
UID:10000174-1785349800-1785353400@coloradoteletherapyservices.com
SUMMARY:Creative Mindfulness Group
DESCRIPTION:
URL:https://coloradoteletherapyservices.com/event/creative-mindfulness-group-39/
LOCATION:https://us02web.zoom.us/j/89087711310?pwd=PKaUYoL1OKZ9nYG22TQr4K7xd38qJD.1
END:VEVENT
BEGIN:VEVENT
DTSTART;TZID=America/Denver:20260729T183000
DTEND;TZID=America/Denver:20260729T193000
DTSTAMP:20260423T054430
CREATED:20251206T114051Z
LAST-MODIFIED:20260223T042727Z
UID:10000280-1785349800-1785353400@coloradoteletherapyservices.com
SUMMARY:Military & 1st Responders Microdosing Group
DESCRIPTION:
URL:https://coloradoteletherapyservices.com/event/military-1st-responders-microdosing-group-36/
LOCATION:https://us02web.zoom.us/j/86475028161
END:VEVENT
BEGIN:VEVENT
DTSTART;TZID=America/Denver:20260730T113000
DTEND;TZID=America/Denver:20260730T123000
DTSTAMP:20260423T054430
CREATED:20260203T014030Z
LAST-MODIFIED:20260223T042740Z
UID:10000505-1785411000-1785414600@coloradoteletherapyservices.com
SUMMARY:Military & 1st Responders Microdosing Group
DESCRIPTION:
URL:https://coloradoteletherapyservices.com/event/military-1st-responders-microdosing-group-137/
LOCATION:https://us02web.zoom.us/j/84347293042
END:VEVENT
END:VCALENDAR