BEGIN:VCALENDAR
VERSION:2.0
PRODID:-//Colorado Teletherapy Services - ECPv6.15.20//NONSGML v1.0//EN
CALSCALE:GREGORIAN
METHOD:PUBLISH
X-WR-CALNAME:Colorado Teletherapy Services
X-ORIGINAL-URL:https://coloradoteletherapyservices.com
X-WR-CALDESC:Events for Colorado Teletherapy Services
REFRESH-INTERVAL;VALUE=DURATION:PT1H
X-Robots-Tag:noindex
X-PUBLISHED-TTL:PT1H
BEGIN:VTIMEZONE
TZID:America/Denver
BEGIN:DAYLIGHT
TZOFFSETFROM:-0700
TZOFFSETTO:-0600
TZNAME:MDT
DTSTART:20250309T090000
END:DAYLIGHT
BEGIN:STANDARD
TZOFFSETFROM:-0600
TZOFFSETTO:-0700
TZNAME:MST
DTSTART:20251102T080000
END:STANDARD
BEGIN:DAYLIGHT
TZOFFSETFROM:-0700
TZOFFSETTO:-0600
TZNAME:MDT
DTSTART:20260308T090000
END:DAYLIGHT
BEGIN:STANDARD
TZOFFSETFROM:-0600
TZOFFSETTO:-0700
TZNAME:MST
DTSTART:20261101T080000
END:STANDARD
BEGIN:DAYLIGHT
TZOFFSETFROM:-0700
TZOFFSETTO:-0600
TZNAME:MDT
DTSTART:20270314T090000
END:DAYLIGHT
BEGIN:STANDARD
TZOFFSETFROM:-0600
TZOFFSETTO:-0700
TZNAME:MST
DTSTART:20271107T080000
END:STANDARD
END:VTIMEZONE
BEGIN:VEVENT
DTSTART;TZID=America/Denver:20260528T113000
DTEND;TZID=America/Denver:20260528T123000
DTSTAMP:20260421T025321
CREATED:20260203T014005Z
LAST-MODIFIED:20260223T042630Z
UID:10000496-1779967800-1779971400@coloradoteletherapyservices.com
SUMMARY:Military & 1st Responders Microdosing Group
DESCRIPTION:
URL:https://coloradoteletherapyservices.com/event/military-1st-responders-microdosing-group-128/
LOCATION:https://us02web.zoom.us/j/84347293042
END:VEVENT
BEGIN:VEVENT
DTSTART;TZID=America/Denver:20260528T183000
DTEND;TZID=America/Denver:20260528T193000
DTSTAMP:20260421T025321
CREATED:20260316T080613Z
LAST-MODIFIED:20260420T214837Z
UID:10000613-1779993000-1779996600@coloradoteletherapyservices.com
SUMMARY:Resilience & Recovery Microdosing Group
DESCRIPTION:
URL:https://coloradoteletherapyservices.com/event/resilience-recovery-microdosing-group-9/
LOCATION:https://us02web.zoom.us/j/81255323562
END:VEVENT
BEGIN:VEVENT
DTSTART;TZID=America/Denver:20260601T180000
DTEND;TZID=America/Denver:20260601T190000
DTSTAMP:20260421T025321
CREATED:20260112T213753Z
LAST-MODIFIED:20260420T214837Z
UID:10000398-1780336800-1780340400@coloradoteletherapyservices.com
SUMMARY:Monday Microdosing Group
DESCRIPTION:
URL:https://coloradoteletherapyservices.com/event/monday-microdosing-group-24/
LOCATION:https://us02web.zoom.us/j/85680399246?pwd=2M8LKaPmveoIusNzMFyzaFpFEvjXOx.1
END:VEVENT
BEGIN:VEVENT
DTSTART;TZID=America/Denver:20260603T183000
DTEND;TZID=America/Denver:20260603T193000
DTSTAMP:20260421T025321
CREATED:20251024T052526Z
LAST-MODIFIED:20260420T214838Z
UID:10000166-1780511400-1780515000@coloradoteletherapyservices.com
SUMMARY:Creative Mindfulness Group
DESCRIPTION:
URL:https://coloradoteletherapyservices.com/event/creative-mindfulness-group-31/
LOCATION:https://us02web.zoom.us/j/89087711310?pwd=PKaUYoL1OKZ9nYG22TQr4K7xd38qJD.1
END:VEVENT
BEGIN:VEVENT
DTSTART;TZID=America/Denver:20260603T183000
DTEND;TZID=America/Denver:20260603T193000
DTSTAMP:20260421T025321
CREATED:20251206T114039Z
LAST-MODIFIED:20260223T042632Z
UID:10000272-1780511400-1780515000@coloradoteletherapyservices.com
SUMMARY:Military & 1st Responders Microdosing Group
DESCRIPTION:
URL:https://coloradoteletherapyservices.com/event/military-1st-responders-microdosing-group-28/
LOCATION:https://us02web.zoom.us/j/86475028161
END:VEVENT
BEGIN:VEVENT
DTSTART;TZID=America/Denver:20260604T113000
DTEND;TZID=America/Denver:20260604T123000
DTSTAMP:20260421T025321
CREATED:20260203T014008Z
LAST-MODIFIED:20260223T042633Z
UID:10000497-1780572600-1780576200@coloradoteletherapyservices.com
SUMMARY:Military & 1st Responders Microdosing Group
DESCRIPTION:
URL:https://coloradoteletherapyservices.com/event/military-1st-responders-microdosing-group-129/
LOCATION:https://us02web.zoom.us/j/84347293042
END:VEVENT
BEGIN:VEVENT
DTSTART;TZID=America/Denver:20260604T183000
DTEND;TZID=America/Denver:20260604T193000
DTSTAMP:20260421T025321
CREATED:20260316T080615Z
LAST-MODIFIED:20260420T214838Z
UID:10000614-1780597800-1780601400@coloradoteletherapyservices.com
SUMMARY:Resilience & Recovery Microdosing Group
DESCRIPTION:
URL:https://coloradoteletherapyservices.com/event/resilience-recovery-microdosing-group-10/
LOCATION:https://us02web.zoom.us/j/81255323562
END:VEVENT
BEGIN:VEVENT
DTSTART;TZID=America/Denver:20260606T093000
DTEND;TZID=America/Denver:20260606T100000
DTSTAMP:20260421T025321
CREATED:20260307T061744Z
LAST-MODIFIED:20260420T214838Z
UID:10000599-1780738200-1780740000@coloradoteletherapyservices.com
SUMMARY:Thought Box Group
DESCRIPTION:
URL:https://coloradoteletherapyservices.com/event/thought-box-group-38/
LOCATION:https://us02web.zoom.us/j/82861891240
END:VEVENT
BEGIN:VEVENT
DTSTART;TZID=America/Denver:20260606T100000
DTEND;TZID=America/Denver:20260606T110000
DTSTAMP:20260421T025321
CREATED:20260307T061743Z
LAST-MODIFIED:20260420T214838Z
UID:10000598-1780740000-1780743600@coloradoteletherapyservices.com
SUMMARY:Microdosing Group
DESCRIPTION:
URL:https://coloradoteletherapyservices.com/event/microdosing-group-37/
LOCATION:https://us02web.zoom.us/j/82861891240
END:VEVENT
BEGIN:VEVENT
DTSTART;TZID=America/Denver:20260608T180000
DTEND;TZID=America/Denver:20260608T190000
DTSTAMP:20260421T025321
CREATED:20260112T213755Z
LAST-MODIFIED:20260420T214838Z
UID:10000399-1780941600-1780945200@coloradoteletherapyservices.com
SUMMARY:Monday Microdosing Group
DESCRIPTION:
URL:https://coloradoteletherapyservices.com/event/monday-microdosing-group-25/
LOCATION:https://us02web.zoom.us/j/85680399246?pwd=2M8LKaPmveoIusNzMFyzaFpFEvjXOx.1
END:VEVENT
BEGIN:VEVENT
DTSTART;TZID=America/Denver:20260610T183000
DTEND;TZID=America/Denver:20260610T193000
DTSTAMP:20260421T025321
CREATED:20251024T052528Z
LAST-MODIFIED:20260420T214838Z
UID:10000167-1781116200-1781119800@coloradoteletherapyservices.com
SUMMARY:Creative Mindfulness Group
DESCRIPTION:
URL:https://coloradoteletherapyservices.com/event/creative-mindfulness-group-32/
LOCATION:https://us02web.zoom.us/j/89087711310?pwd=PKaUYoL1OKZ9nYG22TQr4K7xd38qJD.1
END:VEVENT
BEGIN:VEVENT
DTSTART;TZID=America/Denver:20260610T183000
DTEND;TZID=America/Denver:20260610T193000
DTSTAMP:20260421T025321
CREATED:20251206T114040Z
LAST-MODIFIED:20260223T042646Z
UID:10000273-1781116200-1781119800@coloradoteletherapyservices.com
SUMMARY:Military & 1st Responders Microdosing Group
DESCRIPTION:
URL:https://coloradoteletherapyservices.com/event/military-1st-responders-microdosing-group-29/
LOCATION:https://us02web.zoom.us/j/86475028161
END:VEVENT
BEGIN:VEVENT
DTSTART;TZID=America/Denver:20260611T113000
DTEND;TZID=America/Denver:20260611T123000
DTSTAMP:20260421T025321
CREATED:20260203T014010Z
LAST-MODIFIED:20260223T042647Z
UID:10000498-1781177400-1781181000@coloradoteletherapyservices.com
SUMMARY:Military & 1st Responders Microdosing Group
DESCRIPTION:
URL:https://coloradoteletherapyservices.com/event/military-1st-responders-microdosing-group-130/
LOCATION:https://us02web.zoom.us/j/84347293042
END:VEVENT
BEGIN:VEVENT
DTSTART;TZID=America/Denver:20260611T183000
DTEND;TZID=America/Denver:20260611T193000
DTSTAMP:20260421T025321
CREATED:20260316T080618Z
LAST-MODIFIED:20260420T214839Z
UID:10000615-1781202600-1781206200@coloradoteletherapyservices.com
SUMMARY:Resilience & Recovery Microdosing Group
DESCRIPTION:
URL:https://coloradoteletherapyservices.com/event/resilience-recovery-microdosing-group-11/
LOCATION:https://us02web.zoom.us/j/81255323562
END:VEVENT
BEGIN:VEVENT
DTSTART;TZID=America/Denver:20260615T180000
DTEND;TZID=America/Denver:20260615T190000
DTSTAMP:20260421T025321
CREATED:20260112T213757Z
LAST-MODIFIED:20260420T214839Z
UID:10000400-1781546400-1781550000@coloradoteletherapyservices.com
SUMMARY:Monday Microdosing Group
DESCRIPTION:
URL:https://coloradoteletherapyservices.com/event/monday-microdosing-group-26/
LOCATION:https://us02web.zoom.us/j/85680399246?pwd=2M8LKaPmveoIusNzMFyzaFpFEvjXOx.1
END:VEVENT
BEGIN:VEVENT
DTSTART;TZID=America/Denver:20260617T183000
DTEND;TZID=America/Denver:20260617T193000
DTSTAMP:20260421T025321
CREATED:20251024T052531Z
LAST-MODIFIED:20260420T214839Z
UID:10000168-1781721000-1781724600@coloradoteletherapyservices.com
SUMMARY:Creative Mindfulness Group
DESCRIPTION:
URL:https://coloradoteletherapyservices.com/event/creative-mindfulness-group-33/
LOCATION:https://us02web.zoom.us/j/89087711310?pwd=PKaUYoL1OKZ9nYG22TQr4K7xd38qJD.1
END:VEVENT
BEGIN:VEVENT
DTSTART;TZID=America/Denver:20260617T183000
DTEND;TZID=America/Denver:20260617T193000
DTSTAMP:20260421T025321
CREATED:20251206T114042Z
LAST-MODIFIED:20260223T042648Z
UID:10000274-1781721000-1781724600@coloradoteletherapyservices.com
SUMMARY:Military & 1st Responders Microdosing Group
DESCRIPTION:
URL:https://coloradoteletherapyservices.com/event/military-1st-responders-microdosing-group-30/
LOCATION:https://us02web.zoom.us/j/86475028161
END:VEVENT
BEGIN:VEVENT
DTSTART;TZID=America/Denver:20260618T113000
DTEND;TZID=America/Denver:20260618T123000
DTSTAMP:20260421T025321
CREATED:20260203T014013Z
LAST-MODIFIED:20260223T042649Z
UID:10000499-1781782200-1781785800@coloradoteletherapyservices.com
SUMMARY:Military & 1st Responders Microdosing Group
DESCRIPTION:
URL:https://coloradoteletherapyservices.com/event/military-1st-responders-microdosing-group-131/
LOCATION:https://us02web.zoom.us/j/84347293042
END:VEVENT
BEGIN:VEVENT
DTSTART;TZID=America/Denver:20260618T183000
DTEND;TZID=America/Denver:20260618T193000
DTSTAMP:20260421T025321
CREATED:20260316T080620Z
LAST-MODIFIED:20260420T214839Z
UID:10000616-1781807400-1781811000@coloradoteletherapyservices.com
SUMMARY:Resilience & Recovery Microdosing Group
DESCRIPTION:
URL:https://coloradoteletherapyservices.com/event/resilience-recovery-microdosing-group-12/
LOCATION:https://us02web.zoom.us/j/81255323562
END:VEVENT
BEGIN:VEVENT
DTSTART;TZID=America/Denver:20260622T180000
DTEND;TZID=America/Denver:20260622T190000
DTSTAMP:20260421T025321
CREATED:20260112T213759Z
LAST-MODIFIED:20260420T214839Z
UID:10000401-1782151200-1782154800@coloradoteletherapyservices.com
SUMMARY:Monday Microdosing Group
DESCRIPTION:
URL:https://coloradoteletherapyservices.com/event/monday-microdosing-group-27/
LOCATION:https://us02web.zoom.us/j/85680399246?pwd=2M8LKaPmveoIusNzMFyzaFpFEvjXOx.1
END:VEVENT
BEGIN:VEVENT
DTSTART;TZID=America/Denver:20260623T183000
DTEND;TZID=America/Denver:20260623T190000
DTSTAMP:20260421T025321
CREATED:20260307T061748Z
LAST-MODIFIED:20260420T214839Z
UID:10000601-1782239400-1782241200@coloradoteletherapyservices.com
SUMMARY:Thought Box Group
DESCRIPTION:
URL:https://coloradoteletherapyservices.com/event/thought-box-group-39/
LOCATION:https://us02web.zoom.us/j/81382209551
END:VEVENT
BEGIN:VEVENT
DTSTART;TZID=America/Denver:20260623T190000
DTEND;TZID=America/Denver:20260623T200000
DTSTAMP:20260421T025321
CREATED:20260307T061748Z
LAST-MODIFIED:20260420T214840Z
UID:10000600-1782241200-1782244800@coloradoteletherapyservices.com
SUMMARY:Microdosing Group
DESCRIPTION:
URL:https://coloradoteletherapyservices.com/event/microdosing-group-38/
LOCATION:https://us02web.zoom.us/j/81382209551
END:VEVENT
BEGIN:VEVENT
DTSTART;TZID=America/Denver:20260624T183000
DTEND;TZID=America/Denver:20260624T193000
DTSTAMP:20260421T025321
CREATED:20251024T052533Z
LAST-MODIFIED:20260420T214840Z
UID:10000169-1782325800-1782329400@coloradoteletherapyservices.com
SUMMARY:Creative Mindfulness Group
DESCRIPTION:
URL:https://coloradoteletherapyservices.com/event/creative-mindfulness-group-34/
LOCATION:https://us02web.zoom.us/j/89087711310?pwd=PKaUYoL1OKZ9nYG22TQr4K7xd38qJD.1
END:VEVENT
BEGIN:VEVENT
DTSTART;TZID=America/Denver:20260624T183000
DTEND;TZID=America/Denver:20260624T193000
DTSTAMP:20260421T025321
CREATED:20251206T114043Z
LAST-MODIFIED:20260223T042703Z
UID:10000275-1782325800-1782329400@coloradoteletherapyservices.com
SUMMARY:Military & 1st Responders Microdosing Group
DESCRIPTION:
URL:https://coloradoteletherapyservices.com/event/military-1st-responders-microdosing-group-31/
LOCATION:https://us02web.zoom.us/j/86475028161
END:VEVENT
BEGIN:VEVENT
DTSTART;TZID=America/Denver:20260625T113000
DTEND;TZID=America/Denver:20260625T123000
DTSTAMP:20260421T025321
CREATED:20260203T014015Z
LAST-MODIFIED:20260223T042704Z
UID:10000500-1782387000-1782390600@coloradoteletherapyservices.com
SUMMARY:Military & 1st Responders Microdosing Group
DESCRIPTION:
URL:https://coloradoteletherapyservices.com/event/military-1st-responders-microdosing-group-132/
LOCATION:https://us02web.zoom.us/j/84347293042
END:VEVENT
BEGIN:VEVENT
DTSTART;TZID=America/Denver:20260625T183000
DTEND;TZID=America/Denver:20260625T193000
DTSTAMP:20260421T025321
CREATED:20260316T080625Z
LAST-MODIFIED:20260420T214840Z
UID:10000617-1782412200-1782415800@coloradoteletherapyservices.com
SUMMARY:Resilience & Recovery Microdosing Group
DESCRIPTION:
URL:https://coloradoteletherapyservices.com/event/resilience-recovery-microdosing-group-13/
LOCATION:https://us02web.zoom.us/j/81255323562
END:VEVENT
BEGIN:VEVENT
DTSTART;TZID=America/Denver:20260629T180000
DTEND;TZID=America/Denver:20260629T190000
DTSTAMP:20260421T025321
CREATED:20260112T213800Z
LAST-MODIFIED:20260420T214840Z
UID:10000402-1782756000-1782759600@coloradoteletherapyservices.com
SUMMARY:Monday Microdosing Group
DESCRIPTION:
URL:https://coloradoteletherapyservices.com/event/monday-microdosing-group-28/
LOCATION:https://us02web.zoom.us/j/85680399246?pwd=2M8LKaPmveoIusNzMFyzaFpFEvjXOx.1
END:VEVENT
BEGIN:VEVENT
DTSTART;TZID=America/Denver:20260701T183000
DTEND;TZID=America/Denver:20260701T193000
DTSTAMP:20260421T025321
CREATED:20251024T052536Z
LAST-MODIFIED:20260420T214840Z
UID:10000170-1782930600-1782934200@coloradoteletherapyservices.com
SUMMARY:Creative Mindfulness Group
DESCRIPTION:
URL:https://coloradoteletherapyservices.com/event/creative-mindfulness-group-35/
LOCATION:https://us02web.zoom.us/j/89087711310?pwd=PKaUYoL1OKZ9nYG22TQr4K7xd38qJD.1
END:VEVENT
BEGIN:VEVENT
DTSTART;TZID=America/Denver:20260701T183000
DTEND;TZID=America/Denver:20260701T193000
DTSTAMP:20260421T025321
CREATED:20251206T114045Z
LAST-MODIFIED:20260223T042705Z
UID:10000276-1782930600-1782934200@coloradoteletherapyservices.com
SUMMARY:Military & 1st Responders Microdosing Group
DESCRIPTION:
URL:https://coloradoteletherapyservices.com/event/military-1st-responders-microdosing-group-32/
LOCATION:https://us02web.zoom.us/j/86475028161
END:VEVENT
BEGIN:VEVENT
DTSTART;TZID=America/Denver:20260702T113000
DTEND;TZID=America/Denver:20260702T123000
DTSTAMP:20260421T025321
CREATED:20260203T014018Z
LAST-MODIFIED:20260223T042706Z
UID:10000501-1782991800-1782995400@coloradoteletherapyservices.com
SUMMARY:Military & 1st Responders Microdosing Group
DESCRIPTION:
URL:https://coloradoteletherapyservices.com/event/military-1st-responders-microdosing-group-133/
LOCATION:https://us02web.zoom.us/j/84347293042
END:VEVENT
END:VCALENDAR