BEGIN:VCALENDAR
VERSION:2.0
PRODID:-//Colorado Teletherapy Services - ECPv6.15.20//NONSGML v1.0//EN
CALSCALE:GREGORIAN
METHOD:PUBLISH
X-WR-CALNAME:Colorado Teletherapy Services
X-ORIGINAL-URL:https://coloradoteletherapyservices.com
X-WR-CALDESC:Events for Colorado Teletherapy Services
REFRESH-INTERVAL;VALUE=DURATION:PT1H
X-Robots-Tag:noindex
X-PUBLISHED-TTL:PT1H
BEGIN:VTIMEZONE
TZID:America/Denver
BEGIN:DAYLIGHT
TZOFFSETFROM:-0700
TZOFFSETTO:-0600
TZNAME:MDT
DTSTART:20250309T090000
END:DAYLIGHT
BEGIN:STANDARD
TZOFFSETFROM:-0600
TZOFFSETTO:-0700
TZNAME:MST
DTSTART:20251102T080000
END:STANDARD
BEGIN:DAYLIGHT
TZOFFSETFROM:-0700
TZOFFSETTO:-0600
TZNAME:MDT
DTSTART:20260308T090000
END:DAYLIGHT
BEGIN:STANDARD
TZOFFSETFROM:-0600
TZOFFSETTO:-0700
TZNAME:MST
DTSTART:20261101T080000
END:STANDARD
BEGIN:DAYLIGHT
TZOFFSETFROM:-0700
TZOFFSETTO:-0600
TZNAME:MDT
DTSTART:20270314T090000
END:DAYLIGHT
BEGIN:STANDARD
TZOFFSETFROM:-0600
TZOFFSETTO:-0700
TZNAME:MST
DTSTART:20271107T080000
END:STANDARD
END:VTIMEZONE
BEGIN:VEVENT
DTSTART;TZID=America/Denver:20260217T190000
DTEND;TZID=America/Denver:20260217T200000
DTSTAMP:20260419T205838
CREATED:20251230T193359Z
LAST-MODIFIED:20260217T035056Z
UID:10000365-1771354800-1771358400@coloradoteletherapyservices.com
SUMMARY:Microdosing Group
DESCRIPTION:
URL:https://coloradoteletherapyservices.com/event/microdosing-group-29/
LOCATION:https://us02web.zoom.us/j/81382209551
END:VEVENT
BEGIN:VEVENT
DTSTART;TZID=America/Denver:20260218T183000
DTEND;TZID=America/Denver:20260218T193000
DTSTAMP:20260419T205838
CREATED:20251024T052452Z
LAST-MODIFIED:20260218T040546Z
UID:10000151-1771439400-1771443000@coloradoteletherapyservices.com
SUMMARY:Creative Mindfulness Group
DESCRIPTION:
URL:https://coloradoteletherapyservices.com/event/creative-mindfulness-group-16/
LOCATION:https://us02web.zoom.us/j/89087711310?pwd=PKaUYoL1OKZ9nYG22TQr4K7xd38qJD.1
END:VEVENT
BEGIN:VEVENT
DTSTART;TZID=America/Denver:20260218T183000
DTEND;TZID=America/Denver:20260218T193000
DTSTAMP:20260419T205838
CREATED:20251206T114019Z
LAST-MODIFIED:20260218T040547Z
UID:10000257-1771439400-1771443000@coloradoteletherapyservices.com
SUMMARY:Military & 1st Responders Microdosing Group
DESCRIPTION:
URL:https://coloradoteletherapyservices.com/event/military-1st-responders-microdosing-group-13/
LOCATION:https://us02web.zoom.us/j/86475028161
END:VEVENT
BEGIN:VEVENT
DTSTART;TZID=America/Denver:20260219T113000
DTEND;TZID=America/Denver:20260219T123000
DTSTAMP:20260419T205838
CREATED:20260203T013926Z
LAST-MODIFIED:20260219T040540Z
UID:10000482-1771500600-1771504200@coloradoteletherapyservices.com
SUMMARY:Military & 1st Responders Microdosing Group
DESCRIPTION:
URL:https://coloradoteletherapyservices.com/event/military-1st-responders-microdosing-group-114/
LOCATION:https://us02web.zoom.us/j/84347293042
END:VEVENT
BEGIN:VEVENT
DTSTART;TZID=America/Denver:20260223T180000
DTEND;TZID=America/Denver:20260223T190000
DTSTAMP:20260419T205838
CREATED:20260112T213722Z
LAST-MODIFIED:20260223T042455Z
UID:10000384-1771869600-1771873200@coloradoteletherapyservices.com
SUMMARY:Monday Microdosing Group
DESCRIPTION:
URL:https://coloradoteletherapyservices.com/event/monday-microdosing-group-10/
LOCATION:https://us02web.zoom.us/j/85680399246?pwd=2M8LKaPmveoIusNzMFyzaFpFEvjXOx.1
END:VEVENT
BEGIN:VEVENT
DTSTART;TZID=America/Denver:20260225T183000
DTEND;TZID=America/Denver:20260225T193000
DTSTAMP:20260419T205838
CREATED:20251024T052455Z
LAST-MODIFIED:20260225T045454Z
UID:10000152-1772044200-1772047800@coloradoteletherapyservices.com
SUMMARY:Creative Mindfulness Group
DESCRIPTION:
URL:https://coloradoteletherapyservices.com/event/creative-mindfulness-group-17/
LOCATION:https://us02web.zoom.us/j/89087711310?pwd=PKaUYoL1OKZ9nYG22TQr4K7xd38qJD.1
END:VEVENT
BEGIN:VEVENT
DTSTART;TZID=America/Denver:20260225T183000
DTEND;TZID=America/Denver:20260225T193000
DTSTAMP:20260419T205838
CREATED:20251206T114021Z
LAST-MODIFIED:20260225T045454Z
UID:10000258-1772044200-1772047800@coloradoteletherapyservices.com
SUMMARY:Military & 1st Responders Microdosing Group
DESCRIPTION:
URL:https://coloradoteletherapyservices.com/event/military-1st-responders-microdosing-group-14/
LOCATION:https://us02web.zoom.us/j/86475028161
END:VEVENT
BEGIN:VEVENT
DTSTART;TZID=America/Denver:20260226T113000
DTEND;TZID=America/Denver:20260226T123000
DTSTAMP:20260419T205838
CREATED:20260203T013929Z
LAST-MODIFIED:20260226T045527Z
UID:10000483-1772105400-1772109000@coloradoteletherapyservices.com
SUMMARY:Military & 1st Responders Microdosing Group
DESCRIPTION:
URL:https://coloradoteletherapyservices.com/event/military-1st-responders-microdosing-group-115/
LOCATION:https://us02web.zoom.us/j/84347293042
END:VEVENT
BEGIN:VEVENT
DTSTART;TZID=America/Denver:20260302T180000
DTEND;TZID=America/Denver:20260302T190000
DTSTAMP:20260419T205838
CREATED:20260112T213724Z
LAST-MODIFIED:20260302T054824Z
UID:10000385-1772474400-1772478000@coloradoteletherapyservices.com
SUMMARY:Monday Microdosing Group
DESCRIPTION:
URL:https://coloradoteletherapyservices.com/event/monday-microdosing-group-11/
LOCATION:https://us02web.zoom.us/j/85680399246?pwd=2M8LKaPmveoIusNzMFyzaFpFEvjXOx.1
END:VEVENT
BEGIN:VEVENT
DTSTART;TZID=America/Denver:20260304T183000
DTEND;TZID=America/Denver:20260304T193000
DTSTAMP:20260419T205838
CREATED:20251024T052456Z
LAST-MODIFIED:20260304T055658Z
UID:10000153-1772649000-1772652600@coloradoteletherapyservices.com
SUMMARY:Creative Mindfulness Group
DESCRIPTION:
URL:https://coloradoteletherapyservices.com/event/creative-mindfulness-group-18/
LOCATION:https://us02web.zoom.us/j/89087711310?pwd=PKaUYoL1OKZ9nYG22TQr4K7xd38qJD.1
END:VEVENT
BEGIN:VEVENT
DTSTART;TZID=America/Denver:20260304T183000
DTEND;TZID=America/Denver:20260304T193000
DTSTAMP:20260419T205838
CREATED:20251206T114022Z
LAST-MODIFIED:20260223T042458Z
UID:10000259-1772649000-1772652600@coloradoteletherapyservices.com
SUMMARY:Military & 1st Responders Microdosing Group
DESCRIPTION:
URL:https://coloradoteletherapyservices.com/event/military-1st-responders-microdosing-group-15/
LOCATION:https://us02web.zoom.us/j/86475028161
END:VEVENT
BEGIN:VEVENT
DTSTART;TZID=America/Denver:20260305T113000
DTEND;TZID=America/Denver:20260305T123000
DTSTAMP:20260419T205838
CREATED:20260203T013931Z
LAST-MODIFIED:20260223T042459Z
UID:10000484-1772710200-1772713800@coloradoteletherapyservices.com
SUMMARY:Military & 1st Responders Microdosing Group
DESCRIPTION:
URL:https://coloradoteletherapyservices.com/event/military-1st-responders-microdosing-group-116/
LOCATION:https://us02web.zoom.us/j/84347293042
END:VEVENT
BEGIN:VEVENT
DTSTART;TZID=America/Denver:20260307T093000
DTEND;TZID=America/Denver:20260307T100000
DTSTAMP:20260419T205838
CREATED:20260224T043931Z
LAST-MODIFIED:20260307T061715Z
UID:10000561-1772875800-1772877600@coloradoteletherapyservices.com
SUMMARY:Thought Box Group
DESCRIPTION:
URL:https://coloradoteletherapyservices.com/event/thought-box-group-31/
LOCATION:https://us02web.zoom.us/j/82861891240
END:VEVENT
BEGIN:VEVENT
DTSTART;TZID=America/Denver:20260307T093000
DTEND;TZID=America/Denver:20260307T100000
DTSTAMP:20260419T205838
CREATED:20260224T043931Z
LAST-MODIFIED:20260224T043931Z
UID:10000559-1772875800-1772877600@coloradoteletherapyservices.com
SUMMARY:Thought Box Group
DESCRIPTION:
URL:https://coloradoteletherapyservices.com/event/thought-box-group-32/
LOCATION:https://us02web.zoom.us/j/82861891240
END:VEVENT
BEGIN:VEVENT
DTSTART;TZID=America/Denver:20260307T100000
DTEND;TZID=America/Denver:20260307T110000
DTSTAMP:20260419T205838
CREATED:20260224T043930Z
LAST-MODIFIED:20260224T043930Z
UID:10000558-1772877600-1772881200@coloradoteletherapyservices.com
SUMMARY:Microdosing Group
DESCRIPTION:
URL:https://coloradoteletherapyservices.com/event/microdosing-group-30/
LOCATION:https://us02web.zoom.us/j/82861891240
END:VEVENT
BEGIN:VEVENT
DTSTART;TZID=America/Denver:20260307T100000
DTEND;TZID=America/Denver:20260307T110000
DTSTAMP:20260419T205838
CREATED:20260224T043931Z
LAST-MODIFIED:20260307T061714Z
UID:10000560-1772877600-1772881200@coloradoteletherapyservices.com
SUMMARY:Microdosing Group
DESCRIPTION:
URL:https://coloradoteletherapyservices.com/event/microdosing-group-31/
LOCATION:https://us02web.zoom.us/j/82861891240
END:VEVENT
BEGIN:VEVENT
DTSTART;TZID=America/Denver:20260309T180000
DTEND;TZID=America/Denver:20260309T190000
DTSTAMP:20260419T205838
CREATED:20260112T213726Z
LAST-MODIFIED:20260309T064727Z
UID:10000386-1773079200-1773082800@coloradoteletherapyservices.com
SUMMARY:Monday Microdosing Group
DESCRIPTION:
URL:https://coloradoteletherapyservices.com/event/monday-microdosing-group-12/
LOCATION:https://us02web.zoom.us/j/85680399246?pwd=2M8LKaPmveoIusNzMFyzaFpFEvjXOx.1
END:VEVENT
BEGIN:VEVENT
DTSTART;TZID=America/Denver:20260311T183000
DTEND;TZID=America/Denver:20260311T193000
DTSTAMP:20260419T205838
CREATED:20251024T052457Z
LAST-MODIFIED:20260311T070636Z
UID:10000154-1773253800-1773257400@coloradoteletherapyservices.com
SUMMARY:Creative Mindfulness Group
DESCRIPTION:
URL:https://coloradoteletherapyservices.com/event/creative-mindfulness-group-19/
LOCATION:https://us02web.zoom.us/j/89087711310?pwd=PKaUYoL1OKZ9nYG22TQr4K7xd38qJD.1
END:VEVENT
BEGIN:VEVENT
DTSTART;TZID=America/Denver:20260311T183000
DTEND;TZID=America/Denver:20260311T193000
DTSTAMP:20260419T205838
CREATED:20251206T114022Z
LAST-MODIFIED:20260223T042501Z
UID:10000260-1773253800-1773257400@coloradoteletherapyservices.com
SUMMARY:Military & 1st Responders Microdosing Group
DESCRIPTION:
URL:https://coloradoteletherapyservices.com/event/military-1st-responders-microdosing-group-16/
LOCATION:https://us02web.zoom.us/j/86475028161
END:VEVENT
BEGIN:VEVENT
DTSTART;TZID=America/Denver:20260312T113000
DTEND;TZID=America/Denver:20260312T123000
DTSTAMP:20260419T205838
CREATED:20260203T013934Z
LAST-MODIFIED:20260223T042514Z
UID:10000485-1773315000-1773318600@coloradoteletherapyservices.com
SUMMARY:Military & 1st Responders Microdosing Group
DESCRIPTION:
URL:https://coloradoteletherapyservices.com/event/military-1st-responders-microdosing-group-117/
LOCATION:https://us02web.zoom.us/j/84347293042
END:VEVENT
BEGIN:VEVENT
DTSTART;TZID=America/Denver:20260316T180000
DTEND;TZID=America/Denver:20260316T190000
DTSTAMP:20260419T205838
CREATED:20260112T213730Z
LAST-MODIFIED:20260316T080542Z
UID:10000387-1773684000-1773687600@coloradoteletherapyservices.com
SUMMARY:Monday Microdosing Group
DESCRIPTION:
URL:https://coloradoteletherapyservices.com/event/monday-microdosing-group-13/
LOCATION:https://us02web.zoom.us/j/85680399246?pwd=2M8LKaPmveoIusNzMFyzaFpFEvjXOx.1
END:VEVENT
BEGIN:VEVENT
DTSTART;TZID=America/Denver:20260318T183000
DTEND;TZID=America/Denver:20260318T193000
DTSTAMP:20260419T205838
CREATED:20251024T052459Z
LAST-MODIFIED:20260318T081948Z
UID:10000155-1773858600-1773862200@coloradoteletherapyservices.com
SUMMARY:Creative Mindfulness Group
DESCRIPTION:
URL:https://coloradoteletherapyservices.com/event/creative-mindfulness-group-20/
LOCATION:https://us02web.zoom.us/j/89087711310?pwd=PKaUYoL1OKZ9nYG22TQr4K7xd38qJD.1
END:VEVENT
BEGIN:VEVENT
DTSTART;TZID=America/Denver:20260318T183000
DTEND;TZID=America/Denver:20260318T193000
DTSTAMP:20260419T205838
CREATED:20251206T114026Z
LAST-MODIFIED:20260223T042515Z
UID:10000261-1773858600-1773862200@coloradoteletherapyservices.com
SUMMARY:Military & 1st Responders Microdosing Group
DESCRIPTION:
URL:https://coloradoteletherapyservices.com/event/military-1st-responders-microdosing-group-17/
LOCATION:https://us02web.zoom.us/j/86475028161
END:VEVENT
BEGIN:VEVENT
DTSTART;TZID=America/Denver:20260319T113000
DTEND;TZID=America/Denver:20260319T123000
DTSTAMP:20260419T205838
CREATED:20260203T013936Z
LAST-MODIFIED:20260223T042516Z
UID:10000486-1773919800-1773923400@coloradoteletherapyservices.com
SUMMARY:Military & 1st Responders Microdosing Group
DESCRIPTION:
URL:https://coloradoteletherapyservices.com/event/military-1st-responders-microdosing-group-118/
LOCATION:https://us02web.zoom.us/j/84347293042
END:VEVENT
BEGIN:VEVENT
DTSTART;TZID=America/Denver:20260323T180000
DTEND;TZID=America/Denver:20260323T190000
DTSTAMP:20260419T205838
CREATED:20260112T213732Z
LAST-MODIFIED:20260320T181952Z
UID:10000388-1774288800-1774292400@coloradoteletherapyservices.com
SUMMARY:Monday Microdosing Group
DESCRIPTION:
URL:https://coloradoteletherapyservices.com/event/monday-microdosing-group-14/
LOCATION:https://us02web.zoom.us/j/85680399246?pwd=2M8LKaPmveoIusNzMFyzaFpFEvjXOx.1
END:VEVENT
BEGIN:VEVENT
DTSTART;TZID=America/Denver:20260324T183000
DTEND;TZID=America/Denver:20260324T190000
DTSTAMP:20260419T205838
CREATED:20260224T043935Z
LAST-MODIFIED:20260320T181953Z
UID:10000563-1774377000-1774378800@coloradoteletherapyservices.com
SUMMARY:Thought Box Group
DESCRIPTION:
URL:https://coloradoteletherapyservices.com/event/thought-box-group-33/
LOCATION:https://us02web.zoom.us/j/81382209551
END:VEVENT
BEGIN:VEVENT
DTSTART;TZID=America/Denver:20260324T190000
DTEND;TZID=America/Denver:20260324T200000
DTSTAMP:20260419T205838
CREATED:20260224T043935Z
LAST-MODIFIED:20260320T181953Z
UID:10000562-1774378800-1774382400@coloradoteletherapyservices.com
SUMMARY:Microdosing Group
DESCRIPTION:
URL:https://coloradoteletherapyservices.com/event/microdosing-group-32/
LOCATION:https://us02web.zoom.us/j/81382209551
END:VEVENT
BEGIN:VEVENT
DTSTART;TZID=America/Denver:20260325T183000
DTEND;TZID=America/Denver:20260325T193000
DTSTAMP:20260419T205838
CREATED:20251024T052500Z
LAST-MODIFIED:20260320T181954Z
UID:10000156-1774463400-1774467000@coloradoteletherapyservices.com
SUMMARY:Creative Mindfulness Group
DESCRIPTION:
URL:https://coloradoteletherapyservices.com/event/creative-mindfulness-group-21/
LOCATION:https://us02web.zoom.us/j/89087711310?pwd=PKaUYoL1OKZ9nYG22TQr4K7xd38qJD.1
END:VEVENT
BEGIN:VEVENT
DTSTART;TZID=America/Denver:20260325T183000
DTEND;TZID=America/Denver:20260325T193000
DTSTAMP:20260419T205838
CREATED:20251206T114026Z
LAST-MODIFIED:20260223T042518Z
UID:10000262-1774463400-1774467000@coloradoteletherapyservices.com
SUMMARY:Military & 1st Responders Microdosing Group
DESCRIPTION:
URL:https://coloradoteletherapyservices.com/event/military-1st-responders-microdosing-group-18/
LOCATION:https://us02web.zoom.us/j/86475028161
END:VEVENT
BEGIN:VEVENT
DTSTART;TZID=America/Denver:20260326T113000
DTEND;TZID=America/Denver:20260326T123000
DTSTAMP:20260419T205838
CREATED:20260203T013940Z
LAST-MODIFIED:20260223T042519Z
UID:10000487-1774524600-1774528200@coloradoteletherapyservices.com
SUMMARY:Military & 1st Responders Microdosing Group
DESCRIPTION:
URL:https://coloradoteletherapyservices.com/event/military-1st-responders-microdosing-group-119/
LOCATION:https://us02web.zoom.us/j/84347293042
END:VEVENT
END:VCALENDAR