BEGIN:VCALENDAR
VERSION:2.0
PRODID:-//Colorado Teletherapy Services - ECPv6.15.20//NONSGML v1.0//EN
CALSCALE:GREGORIAN
METHOD:PUBLISH
X-WR-CALNAME:Colorado Teletherapy Services
X-ORIGINAL-URL:https://coloradoteletherapyservices.com
X-WR-CALDESC:Events for Colorado Teletherapy Services
REFRESH-INTERVAL;VALUE=DURATION:PT1H
X-Robots-Tag:noindex
X-PUBLISHED-TTL:PT1H
BEGIN:VTIMEZONE
TZID:America/Denver
BEGIN:DAYLIGHT
TZOFFSETFROM:-0700
TZOFFSETTO:-0600
TZNAME:MDT
DTSTART:20240310T090000
END:DAYLIGHT
BEGIN:STANDARD
TZOFFSETFROM:-0600
TZOFFSETTO:-0700
TZNAME:MST
DTSTART:20241103T080000
END:STANDARD
BEGIN:DAYLIGHT
TZOFFSETFROM:-0700
TZOFFSETTO:-0600
TZNAME:MDT
DTSTART:20250309T090000
END:DAYLIGHT
BEGIN:STANDARD
TZOFFSETFROM:-0600
TZOFFSETTO:-0700
TZNAME:MST
DTSTART:20251102T080000
END:STANDARD
BEGIN:DAYLIGHT
TZOFFSETFROM:-0700
TZOFFSETTO:-0600
TZNAME:MDT
DTSTART:20260308T090000
END:DAYLIGHT
BEGIN:STANDARD
TZOFFSETFROM:-0600
TZOFFSETTO:-0700
TZNAME:MST
DTSTART:20261101T080000
END:STANDARD
END:VTIMEZONE
BEGIN:VEVENT
DTSTART;TZID=America/Denver:20251217T183000
DTEND;TZID=America/Denver:20251217T193000
DTSTAMP:20260423T091155
CREATED:20251024T052434Z
LAST-MODIFIED:20251216T130639Z
UID:10000142-1765996200-1765999800@coloradoteletherapyservices.com
SUMMARY:Creative Mindfulness Group
DESCRIPTION:
URL:https://coloradoteletherapyservices.com/event/creative-mindfulness-group-7/
LOCATION:https://us02web.zoom.us/j/89087711310?pwd=PKaUYoL1OKZ9nYG22TQr4K7xd38qJD.1
END:VEVENT
BEGIN:VEVENT
DTSTART;TZID=America/Denver:20251216T190000
DTEND;TZID=America/Denver:20251216T200000
DTSTAMP:20260423T091155
CREATED:20250901T024309Z
LAST-MODIFIED:20251216T130637Z
UID:10000129-1765911600-1765915200@coloradoteletherapyservices.com
SUMMARY:Microdosing Group
DESCRIPTION:
URL:https://coloradoteletherapyservices.com/event/microdosing-group-24/
LOCATION:https://us02web.zoom.us/j/81382209551
END:VEVENT
BEGIN:VEVENT
DTSTART;TZID=America/Denver:20251216T183000
DTEND;TZID=America/Denver:20251216T190000
DTSTAMP:20260423T091155
CREATED:20250901T024307Z
LAST-MODIFIED:20251216T130637Z
UID:10000127-1765909800-1765911600@coloradoteletherapyservices.com
SUMMARY:Thought Box Group
DESCRIPTION:
URL:https://coloradoteletherapyservices.com/event/thought-box-group-25/
LOCATION:https://us02web.zoom.us/j/81382209551
END:VEVENT
BEGIN:VEVENT
DTSTART;TZID=America/Denver:20251210T183000
DTEND;TZID=America/Denver:20251210T193000
DTSTAMP:20260423T091155
CREATED:20251024T052432Z
LAST-MODIFIED:20251210T122307Z
UID:10000141-1765391400-1765395000@coloradoteletherapyservices.com
SUMMARY:Creative Mindfulness Group
DESCRIPTION:
URL:https://coloradoteletherapyservices.com/event/creative-mindfulness-group-6/
LOCATION:https://us02web.zoom.us/j/89087711310?pwd=PKaUYoL1OKZ9nYG22TQr4K7xd38qJD.1
END:VEVENT
BEGIN:VEVENT
DTSTART;TZID=America/Denver:20251206T100000
DTEND;TZID=America/Denver:20251206T110000
DTSTAMP:20260423T091155
CREATED:20250901T024305Z
LAST-MODIFIED:20251206T114004Z
UID:10000125-1765015200-1765018800@coloradoteletherapyservices.com
SUMMARY:Microdosing Group
DESCRIPTION:
URL:https://coloradoteletherapyservices.com/event/microdosing-group-23/
LOCATION:https://us02web.zoom.us/j/82861891240
END:VEVENT
BEGIN:VEVENT
DTSTART;TZID=America/Denver:20251206T093000
DTEND;TZID=America/Denver:20251206T100000
DTSTAMP:20260423T091155
CREATED:20250901T024303Z
LAST-MODIFIED:20251206T114005Z
UID:10000123-1765013400-1765015200@coloradoteletherapyservices.com
SUMMARY:Thought Box Group
DESCRIPTION:
URL:https://coloradoteletherapyservices.com/event/thought-box-group-24/
LOCATION:https://us02web.zoom.us/j/82861891240
END:VEVENT
BEGIN:VEVENT
DTSTART;TZID=America/Denver:20251203T183000
DTEND;TZID=America/Denver:20251203T193000
DTSTAMP:20260423T091155
CREATED:20251024T052430Z
LAST-MODIFIED:20251203T112634Z
UID:10000140-1764786600-1764790200@coloradoteletherapyservices.com
SUMMARY:Creative Mindfulness Group
DESCRIPTION:
URL:https://coloradoteletherapyservices.com/event/creative-mindfulness-group-5/
LOCATION:https://us02web.zoom.us/j/89087711310?pwd=PKaUYoL1OKZ9nYG22TQr4K7xd38qJD.1
END:VEVENT
BEGIN:VEVENT
DTSTART;TZID=America/Denver:20251126T183000
DTEND;TZID=America/Denver:20251126T193000
DTSTAMP:20260423T091155
CREATED:20251024T052429Z
LAST-MODIFIED:20251126T100840Z
UID:10000139-1764181800-1764185400@coloradoteletherapyservices.com
SUMMARY:Creative Mindfulness Group
DESCRIPTION:
URL:https://coloradoteletherapyservices.com/event/creative-mindfulness-group-4/
LOCATION:https://us02web.zoom.us/j/89087711310?pwd=PKaUYoL1OKZ9nYG22TQr4K7xd38qJD.1
END:VEVENT
BEGIN:VEVENT
DTSTART;TZID=America/Denver:20251119T183000
DTEND;TZID=America/Denver:20251119T193000
DTSTAMP:20260423T091155
CREATED:20251024T052428Z
LAST-MODIFIED:20251119T092517Z
UID:10000138-1763577000-1763580600@coloradoteletherapyservices.com
SUMMARY:Creative Mindfulness Group
DESCRIPTION:
URL:https://coloradoteletherapyservices.com/event/creative-mindfulness-group-3/
LOCATION:https://us02web.zoom.us/j/89087711310?pwd=PKaUYoL1OKZ9nYG22TQr4K7xd38qJD.1
END:VEVENT
BEGIN:VEVENT
DTSTART;TZID=America/Denver:20251118T190000
DTEND;TZID=America/Denver:20251118T200000
DTSTAMP:20260423T091155
CREATED:20250901T024300Z
LAST-MODIFIED:20251118T091110Z
UID:10000133-1763492400-1763496000@coloradoteletherapyservices.com
SUMMARY:Microdosing Group
DESCRIPTION:
URL:https://coloradoteletherapyservices.com/event/microdosing-group-22/
LOCATION:https://us02web.zoom.us/j/81382209551
END:VEVENT
BEGIN:VEVENT
DTSTART;TZID=America/Denver:20251118T183000
DTEND;TZID=America/Denver:20251118T190000
DTSTAMP:20260423T091155
CREATED:20250901T024259Z
LAST-MODIFIED:20251118T091110Z
UID:10000132-1763490600-1763492400@coloradoteletherapyservices.com
SUMMARY:Thought Box Group
DESCRIPTION:
URL:https://coloradoteletherapyservices.com/event/thought-box-group-23/
LOCATION:https://us02web.zoom.us/j/81382209551
END:VEVENT
BEGIN:VEVENT
DTSTART;TZID=America/Denver:20251115T100000
DTEND;TZID=America/Denver:20251115T110000
DTSTAMP:20260423T091155
CREATED:20250901T024257Z
LAST-MODIFIED:20251115T085211Z
UID:10000130-1763200800-1763204400@coloradoteletherapyservices.com
SUMMARY:Microdosing Group
DESCRIPTION:
URL:https://coloradoteletherapyservices.com/event/microdosing-group-21/
LOCATION:https://us02web.zoom.us/j/82861891240
END:VEVENT
BEGIN:VEVENT
DTSTART;TZID=America/Denver:20251115T093000
DTEND;TZID=America/Denver:20251115T100000
DTSTAMP:20260423T091155
CREATED:20250901T024258Z
LAST-MODIFIED:20251115T085210Z
UID:10000131-1763199000-1763200800@coloradoteletherapyservices.com
SUMMARY:Thought Box Group
DESCRIPTION:
URL:https://coloradoteletherapyservices.com/event/thought-box-group-22/
LOCATION:https://us02web.zoom.us/j/82861891240
END:VEVENT
BEGIN:VEVENT
DTSTART;TZID=America/Denver:20251112T183000
DTEND;TZID=America/Denver:20251112T193000
DTSTAMP:20260423T091155
CREATED:20251024T052425Z
LAST-MODIFIED:20251024T052425Z
UID:10000137-1762972200-1762975800@coloradoteletherapyservices.com
SUMMARY:Creative Mindfulness Group
DESCRIPTION:
URL:https://coloradoteletherapyservices.com/event/creative-mindfulness-group-2/
LOCATION:https://us02web.zoom.us/j/89087711310?pwd=PKaUYoL1OKZ9nYG22TQr4K7xd38qJD.1
END:VEVENT
BEGIN:VEVENT
DTSTART;TZID=America/Denver:20251112T183000
DTEND;TZID=America/Denver:20251112T193000
DTSTAMP:20260423T091155
CREATED:20251024T052424Z
LAST-MODIFIED:20251112T082106Z
UID:10000136-1762972200-1762975800@coloradoteletherapyservices.com
SUMMARY:Creative Mindfulness Group
DESCRIPTION:
URL:https://coloradoteletherapyservices.com/event/creative-mindfulness-group/
LOCATION:https://us02web.zoom.us/j/89087711310?pwd=PKaUYoL1OKZ9nYG22TQr4K7xd38qJD.1
END:VEVENT
BEGIN:VEVENT
DTSTART;TZID=America/Denver:20251109T110000
DTEND;TZID=America/Denver:20251109T160000
DTSTAMP:20260423T091155
CREATED:20250901T024256Z
LAST-MODIFIED:20251109T080628Z
UID:10000128-1762686000-1762704000@coloradoteletherapyservices.com
SUMMARY:Women's Expo
DESCRIPTION:https://www.womenslivingexpo.com/colorado-springs-womens-expo/
URL:https://coloradoteletherapyservices.com/event/womens-expo-3/
LOCATION:Norris Penrose Event Center\, 2301 Lower Gold Camp Rd\, Colorado Springs\, CO\, United States
GEO:38.828327;-104.859168
X-APPLE-STRUCTURED-LOCATION;VALUE=URI;X-ADDRESS=Norris Penrose Event Center 2301 Lower Gold Camp Rd Colorado Springs CO United States;X-APPLE-RADIUS=500;X-TITLE=2301 Lower Gold Camp Rd:geo:-104.859168,38.828327
END:VEVENT
BEGIN:VEVENT
DTSTART;TZID=America/Denver:20251109T100000
DTEND;TZID=America/Denver:20251109T170000
DTSTAMP:20260423T091155
CREATED:20250901T024255Z
LAST-MODIFIED:20251109T080629Z
UID:10000126-1762682400-1762707600@coloradoteletherapyservices.com
SUMMARY:Pueblo Holistic Fair
DESCRIPTION:www.puebloholisticfair.com
URL:https://coloradoteletherapyservices.com/event/pueblo-holistic-fair-2/
LOCATION:Pueblo Convention Center\, 320 Central Main St\, Pueblo\, CO\, United States
GEO:38.266492;-104.609001
X-APPLE-STRUCTURED-LOCATION;VALUE=URI;X-ADDRESS=Pueblo Convention Center 320 Central Main St Pueblo CO United States;X-APPLE-RADIUS=500;X-TITLE=320 Central Main St:geo:-104.609001,38.266492
END:VEVENT
BEGIN:VEVENT
DTSTART;TZID=America/Denver:20251108T100000
DTEND;TZID=America/Denver:20251108T180000
DTSTAMP:20260423T091155
CREATED:20250901T024253Z
LAST-MODIFIED:20251108T075444Z
UID:10000122-1762596000-1762624800@coloradoteletherapyservices.com
SUMMARY:Pueblo Holistic Fair
DESCRIPTION:http://www.puebloholisticfair.com
URL:https://coloradoteletherapyservices.com/event/pueblo-holistic-fair/
LOCATION:Pueblo Convention Center\, 320 Central Main St\, Pueblo\, CO\, United States
GEO:38.266492;-104.609001
X-APPLE-STRUCTURED-LOCATION;VALUE=URI;X-ADDRESS=Pueblo Convention Center 320 Central Main St Pueblo CO United States;X-APPLE-RADIUS=500;X-TITLE=320 Central Main St:geo:-104.609001,38.266492
END:VEVENT
BEGIN:VEVENT
DTSTART;TZID=America/Denver:20251108T100000
DTEND;TZID=America/Denver:20251108T170000
DTSTAMP:20260423T091155
CREATED:20250901T024254Z
LAST-MODIFIED:20251108T075444Z
UID:10000124-1762596000-1762621200@coloradoteletherapyservices.com
SUMMARY:Women's Expo- COS
DESCRIPTION:https://www.womenslivingexpo.com/colorado-springs-womens-expo/
URL:https://coloradoteletherapyservices.com/event/womens-expo-cos/
LOCATION:Norris Penrose Event Center\, 2301 Lower Gold Camp Rd\, Colorado Springs\, CO\, United States
GEO:38.828327;-104.859168
X-APPLE-STRUCTURED-LOCATION;VALUE=URI;X-ADDRESS=Norris Penrose Event Center 2301 Lower Gold Camp Rd Colorado Springs CO United States;X-APPLE-RADIUS=500;X-TITLE=2301 Lower Gold Camp Rd:geo:-104.859168,38.828327
END:VEVENT
BEGIN:VEVENT
DTSTART;TZID=America/Denver:20251028T190000
DTEND;TZID=America/Denver:20251028T200000
DTSTAMP:20260423T091155
CREATED:20250901T024251Z
LAST-MODIFIED:20251028T062402Z
UID:10000121-1761678000-1761681600@coloradoteletherapyservices.com
SUMMARY:Microdosing Group
DESCRIPTION:
URL:https://coloradoteletherapyservices.com/event/microdosing-group-20/
LOCATION:https://us02web.zoom.us/j/81382209551
END:VEVENT
BEGIN:VEVENT
DTSTART;TZID=America/Denver:20251028T183000
DTEND;TZID=America/Denver:20251028T190000
DTSTAMP:20260423T091155
CREATED:20250901T024248Z
LAST-MODIFIED:20251028T062402Z
UID:10000120-1761676200-1761678000@coloradoteletherapyservices.com
SUMMARY:Thought Box Group
DESCRIPTION:
URL:https://coloradoteletherapyservices.com/event/thought-box-group-21/
LOCATION:https://us02web.zoom.us/j/81382209551
END:VEVENT
BEGIN:VEVENT
DTSTART;TZID=America/Denver:20251018T100000
DTEND;TZID=America/Denver:20251018T110000
DTSTAMP:20260423T091155
CREATED:20250901T024246Z
LAST-MODIFIED:20251018T050649Z
UID:10000119-1760781600-1760785200@coloradoteletherapyservices.com
SUMMARY:Microdosing Group
DESCRIPTION:
URL:https://coloradoteletherapyservices.com/event/microdosing-group-19/
LOCATION:https://us02web.zoom.us/j/82861891240
END:VEVENT
BEGIN:VEVENT
DTSTART;TZID=America/Denver:20251018T093000
DTEND;TZID=America/Denver:20251018T100000
DTSTAMP:20260423T091155
CREATED:20250901T024243Z
LAST-MODIFIED:20251018T050649Z
UID:10000118-1760779800-1760781600@coloradoteletherapyservices.com
SUMMARY:Thought Box Group
DESCRIPTION:
URL:https://coloradoteletherapyservices.com/event/thought-box-group-20/
LOCATION:https://us02web.zoom.us/j/82861891240
END:VEVENT
BEGIN:VEVENT
DTSTART;TZID=America/Denver:20251012T110000
DTEND;TZID=America/Denver:20251012T160000
DTSTAMP:20260423T091155
CREATED:20251008T035757Z
LAST-MODIFIED:20251012T043909Z
UID:10000135-1760266800-1760284800@coloradoteletherapyservices.com
SUMMARY:Sugar Plum Festival
DESCRIPTION:
URL:https://coloradoteletherapyservices.com/event/sugar-plum-festival-2/
LOCATION:Colorado Springs Event Center\, 3960 Palmer Park Blvd\, Colorado Springs\, CO\, United States
GEO:38.854424;-104.754244
X-APPLE-STRUCTURED-LOCATION;VALUE=URI;X-ADDRESS=Colorado Springs Event Center 3960 Palmer Park Blvd Colorado Springs CO United States;X-APPLE-RADIUS=500;X-TITLE=3960 Palmer Park Blvd:geo:-104.754244,38.854424
END:VEVENT
BEGIN:VEVENT
DTSTART;TZID=America/Denver:20251012T100000
DTEND;TZID=America/Denver:20251012T180000
DTSTAMP:20260423T091155
CREATED:20250901T024241Z
LAST-MODIFIED:20251012T043910Z
UID:10000117-1760263200-1760292000@coloradoteletherapyservices.com
SUMMARY:Body Mind Spirit Expo- COS
DESCRIPTION:https://bmse.net/event/eventhome.php?eid=582
URL:https://coloradoteletherapyservices.com/event/body-mind-spirit-expo-cos-4/
LOCATION:Colorado Springs Event Center\, 3960 Palmer Park Blvd\, Colorado Springs\, CO\, United States
GEO:38.854424;-104.754244
X-APPLE-STRUCTURED-LOCATION;VALUE=URI;X-ADDRESS=Colorado Springs Event Center 3960 Palmer Park Blvd Colorado Springs CO United States;X-APPLE-RADIUS=500;X-TITLE=3960 Palmer Park Blvd:geo:-104.754244,38.854424
END:VEVENT
BEGIN:VEVENT
DTSTART;TZID=America/Denver:20251011T100000
DTEND;TZID=America/Denver:20251011T190000
DTSTAMP:20260423T091155
CREATED:20250901T024237Z
LAST-MODIFIED:20251011T042753Z
UID:10000116-1760176800-1760209200@coloradoteletherapyservices.com
SUMMARY:Body Mind Spirit Expo- COS
DESCRIPTION:https://bmse.net/event/eventhome.php?eid=582
URL:https://coloradoteletherapyservices.com/event/body-mind-spirit-expo-cos-3/
LOCATION:Colorado Springs Event Center\, 3960 Palmer Park Blvd\, Colorado Springs\, CO\, United States
GEO:38.854424;-104.754244
X-APPLE-STRUCTURED-LOCATION;VALUE=URI;X-ADDRESS=Colorado Springs Event Center 3960 Palmer Park Blvd Colorado Springs CO United States;X-APPLE-RADIUS=500;X-TITLE=3960 Palmer Park Blvd:geo:-104.754244,38.854424
END:VEVENT
BEGIN:VEVENT
DTSTART;TZID=America/Denver:20251011T090000
DTEND;TZID=America/Denver:20251011T160000
DTSTAMP:20260423T091155
CREATED:20251008T035756Z
LAST-MODIFIED:20251011T042753Z
UID:10000134-1760173200-1760198400@coloradoteletherapyservices.com
SUMMARY:Sugar Plum Festival
DESCRIPTION:
URL:https://coloradoteletherapyservices.com/event/sugar-plum-festival/
LOCATION:Colorado Springs Event Center\, 3960 Palmer Park Blvd\, Colorado Springs\, CO\, United States
GEO:38.854424;-104.754244
X-APPLE-STRUCTURED-LOCATION;VALUE=URI;X-ADDRESS=Colorado Springs Event Center 3960 Palmer Park Blvd Colorado Springs CO United States;X-APPLE-RADIUS=500;X-TITLE=3960 Palmer Park Blvd:geo:-104.754244,38.854424
END:VEVENT
BEGIN:VEVENT
DTSTART;TZID=America/Denver:20251010T130000
DTEND;TZID=America/Denver:20251010T210000
DTSTAMP:20260423T091155
CREATED:20250901T024235Z
LAST-MODIFIED:20250901T024235Z
UID:10000114-1760101200-1760130000@coloradoteletherapyservices.com
SUMMARY:Body Mind Spirit Expo- COS
DESCRIPTION:https://bmse.net/event/eventhome.php?eid=582
URL:https://coloradoteletherapyservices.com/event/body-mind-spirit-expo-cos-2/
LOCATION:Colorado Springs Event Center\, 3960 Palmer Park Blvd\, Colorado Springs\, CO\, United States
GEO:38.854424;-104.754244
X-APPLE-STRUCTURED-LOCATION;VALUE=URI;X-ADDRESS=Colorado Springs Event Center 3960 Palmer Park Blvd Colorado Springs CO United States;X-APPLE-RADIUS=500;X-TITLE=3960 Palmer Park Blvd:geo:-104.754244,38.854424
END:VEVENT
BEGIN:VEVENT
DTSTART;TZID=America/Denver:20251010T130000
DTEND;TZID=America/Denver:20251010T210000
DTSTAMP:20260423T091155
CREATED:20250901T024234Z
LAST-MODIFIED:20251010T040651Z
UID:10000115-1760101200-1760130000@coloradoteletherapyservices.com
SUMMARY:Body Mind Spirit Expo- COS
DESCRIPTION:https://bmse.net/event/eventhome.php?eid=582
URL:https://coloradoteletherapyservices.com/event/body-mind-spirit-expo-cos/
LOCATION:Colorado Springs Event Center\, 3960 Palmer Park Blvd\, Colorado Springs\, CO\, United States
GEO:38.854424;-104.754244
X-APPLE-STRUCTURED-LOCATION;VALUE=URI;X-ADDRESS=Colorado Springs Event Center 3960 Palmer Park Blvd Colorado Springs CO United States;X-APPLE-RADIUS=500;X-TITLE=3960 Palmer Park Blvd:geo:-104.754244,38.854424
END:VEVENT
BEGIN:VEVENT
DTSTART;TZID=America/Denver:20251005T100000
DTEND;TZID=America/Denver:20251005T170000
DTSTAMP:20260423T091155
CREATED:20250901T024233Z
LAST-MODIFIED:20250901T024233Z
UID:10000112-1759658400-1759683600@coloradoteletherapyservices.com
SUMMARY:Collaborence- PATA
DESCRIPTION:https://thecollaborence.org/
URL:https://coloradoteletherapyservices.com/event/collaborence-pata-3/
END:VEVENT
END:VCALENDAR