BEGIN:VCALENDAR
VERSION:2.0
PRODID:-//Colorado Teletherapy Services - ECPv6.15.20//NONSGML v1.0//EN
CALSCALE:GREGORIAN
METHOD:PUBLISH
X-WR-CALNAME:Colorado Teletherapy Services
X-ORIGINAL-URL:https://coloradoteletherapyservices.com
X-WR-CALDESC:Events for Colorado Teletherapy Services
REFRESH-INTERVAL;VALUE=DURATION:PT1H
X-Robots-Tag:noindex
X-PUBLISHED-TTL:PT1H
BEGIN:VTIMEZONE
TZID:America/Denver
BEGIN:DAYLIGHT
TZOFFSETFROM:-0700
TZOFFSETTO:-0600
TZNAME:MDT
DTSTART:20240310T090000
END:DAYLIGHT
BEGIN:STANDARD
TZOFFSETFROM:-0600
TZOFFSETTO:-0700
TZNAME:MST
DTSTART:20241103T080000
END:STANDARD
BEGIN:DAYLIGHT
TZOFFSETFROM:-0700
TZOFFSETTO:-0600
TZNAME:MDT
DTSTART:20250309T090000
END:DAYLIGHT
BEGIN:STANDARD
TZOFFSETFROM:-0600
TZOFFSETTO:-0700
TZNAME:MST
DTSTART:20251102T080000
END:STANDARD
BEGIN:DAYLIGHT
TZOFFSETFROM:-0700
TZOFFSETTO:-0600
TZNAME:MDT
DTSTART:20260308T090000
END:DAYLIGHT
BEGIN:STANDARD
TZOFFSETFROM:-0600
TZOFFSETTO:-0700
TZNAME:MST
DTSTART:20261101T080000
END:STANDARD
END:VTIMEZONE
BEGIN:VEVENT
DTSTART;TZID=America/Denver:20250607T093000
DTEND;TZID=America/Denver:20250607T100000
DTSTAMP:20260425T182946
CREATED:20250525T145346Z
LAST-MODIFIED:20250606T160216Z
UID:10000089-1749288600-1749290400@coloradoteletherapyservices.com
SUMMARY:Thought Box Group
DESCRIPTION:
URL:https://coloradoteletherapyservices.com/event/thought-box-group-13/
LOCATION:https://us02web.zoom.us/j/82861891240
END:VEVENT
BEGIN:VEVENT
DTSTART;TZID=America/Denver:20250520T190000
DTEND;TZID=America/Denver:20250520T200000
DTSTAMP:20260425T182946
CREATED:20250504T122830Z
LAST-MODIFIED:20250520T141108Z
UID:10000085-1747767600-1747771200@coloradoteletherapyservices.com
SUMMARY:Microdosing Group
DESCRIPTION:
URL:https://coloradoteletherapyservices.com/event/microdosing-group-11/
LOCATION:https://us02web.zoom.us/j/82861891240
END:VEVENT
BEGIN:VEVENT
DTSTART;TZID=America/Denver:20250520T183000
DTEND;TZID=America/Denver:20250520T190000
DTSTAMP:20260425T182946
CREATED:20250504T122834Z
LAST-MODIFIED:20250504T122834Z
UID:10000087-1747765800-1747767600@coloradoteletherapyservices.com
SUMMARY:Thought Box Group
DESCRIPTION:
URL:https://coloradoteletherapyservices.com/event/thought-box-group-12/
LOCATION:https://www.google.com/url?q=https://us02web.zoom.us/j/82280320686&sa=D&source=calendar&ust=1746740050602231&usg=AOvVaw1grbfzIUbsU22cu8sFNQ09
END:VEVENT
BEGIN:VEVENT
DTSTART;TZID=America/Denver:20250520T183000
DTEND;TZID=America/Denver:20250520T190000
DTSTAMP:20260425T182946
CREATED:20250504T122831Z
LAST-MODIFIED:20250520T141107Z
UID:10000086-1747765800-1747767600@coloradoteletherapyservices.com
SUMMARY:Thought Box Group
DESCRIPTION:
URL:https://coloradoteletherapyservices.com/event/thought-box-group-11/
LOCATION:https://www.google.com/url?q=https://us02web.zoom.us/j/82280320686&sa=D&source=calendar&ust=1746740050602231&usg=AOvVaw1grbfzIUbsU22cu8sFNQ09
END:VEVENT
BEGIN:VEVENT
DTSTART;TZID=America/Denver:20250510T100000
DTEND;TZID=America/Denver:20250510T110000
DTSTAMP:20260425T182946
CREATED:20250504T122829Z
LAST-MODIFIED:20250510T132423Z
UID:10000083-1746871200-1746874800@coloradoteletherapyservices.com
SUMMARY:Microdosing Group
DESCRIPTION:
URL:https://coloradoteletherapyservices.com/event/microdosing-group-10/
LOCATION:https://us02web.zoom.us/j/82861891240
END:VEVENT
BEGIN:VEVENT
DTSTART;TZID=America/Denver:20250510T093000
DTEND;TZID=America/Denver:20250510T100000
DTSTAMP:20260425T182946
CREATED:20250504T122830Z
LAST-MODIFIED:20250510T132424Z
UID:10000084-1746869400-1746871200@coloradoteletherapyservices.com
SUMMARY:Thought Box Group
DESCRIPTION:
URL:https://coloradoteletherapyservices.com/event/thought-box-group-10/
LOCATION:https://www.google.com/url?q=https://us02web.zoom.us/j/82280320686&sa=D&source=calendar&ust=1746740050602231&usg=AOvVaw1grbfzIUbsU22cu8sFNQ09
END:VEVENT
BEGIN:VEVENT
DTSTART;TZID=America/Denver:20250429T190000
DTEND;TZID=America/Denver:20250429T200000
DTSTAMP:20260425T182946
CREATED:20250124T042755Z
LAST-MODIFIED:20250429T115612Z
UID:10000067-1745953200-1745956800@coloradoteletherapyservices.com
SUMMARY:Microdosing Group
DESCRIPTION:
URL:https://coloradoteletherapyservices.com/event/microdosing-group-9/
LOCATION:https://us02web.zoom.us/j/81382209551
END:VEVENT
BEGIN:VEVENT
DTSTART;TZID=America/Denver:20250429T183000
DTEND;TZID=America/Denver:20250429T190000
DTSTAMP:20260425T182946
CREATED:20250210T053811Z
LAST-MODIFIED:20250429T115611Z
UID:10000076-1745951400-1745953200@coloradoteletherapyservices.com
SUMMARY:Thought Box Group
DESCRIPTION:https://us02web.zoom.us/j/86595940748
URL:https://coloradoteletherapyservices.com/event/thought-box-group-9/
LOCATION:https://us02web.zoom.us/j/86595940748
END:VEVENT
BEGIN:VEVENT
DTSTART;TZID=America/Denver:20250427T130000
DTEND;TZID=America/Denver:20250427T140000
DTSTAMP:20260425T182946
CREATED:20250117T223732Z
LAST-MODIFIED:20250427T114305Z
UID:10000052-1745758800-1745762400@coloradoteletherapyservices.com
SUMMARY:Charity - Lecture Room 5
DESCRIPTION:http://www.bmse.net
URL:https://coloradoteletherapyservices.com/event/charity-lecture-room-5-2/
LOCATION:National Western Complex Expo Hall     4655 N Humboldt St\, Denver\, CO\, United States
GEO:39.777036;-104.942034
END:VEVENT
BEGIN:VEVENT
DTSTART;TZID=America/Denver:20250427T100000
DTEND;TZID=America/Denver:20250427T180000
DTSTAMP:20260425T182946
CREATED:20250117T223733Z
LAST-MODIFIED:20250427T114305Z
UID:10000053-1745748000-1745776800@coloradoteletherapyservices.com
SUMMARY:Body Mind Spirit Expo - Denver
DESCRIPTION:http://www.bmse.net
URL:https://coloradoteletherapyservices.com/event/body-mind-spirit-expo-denver-3/
LOCATION:National Western Complex Expo Hall    4655 N Humboldt St\, Denver\, CO\, United States
GEO:39.777036;-104.942034
END:VEVENT
BEGIN:VEVENT
DTSTART;TZID=America/Denver:20250426T100000
DTEND;TZID=America/Denver:20250426T190000
DTSTAMP:20260425T182946
CREATED:20250117T223731Z
LAST-MODIFIED:20250426T113752Z
UID:10000051-1745661600-1745694000@coloradoteletherapyservices.com
SUMMARY:Body Mind Spirit expo -Denver
DESCRIPTION:http://www.bmse.net
URL:https://coloradoteletherapyservices.com/event/body-mind-spirit-expo-denver-2/
LOCATION:National Western Complex Expo Hall    4655 N Humboldt St\, Denver\, CO\, United States
GEO:39.777036;-104.942034
END:VEVENT
BEGIN:VEVENT
DTSTART;TZID=America/Denver:20250425T180000
DTEND;TZID=America/Denver:20250425T190000
DTSTAMP:20260425T182946
CREATED:20250117T223710Z
LAST-MODIFIED:20250425T112750Z
UID:10000049-1745604000-1745607600@coloradoteletherapyservices.com
SUMMARY:Charity- Lecture Room 5
DESCRIPTION:http://www.bmse.net
URL:https://coloradoteletherapyservices.com/event/charity-lecture-room-5/
LOCATION:National Western Complex Expo Hall      4655 N Humboldt St\, Denver\, CO\, United States
GEO:39.777036;-104.942034
END:VEVENT
BEGIN:VEVENT
DTSTART;TZID=America/Denver:20250425T130000
DTEND;TZID=America/Denver:20250426T090000
DTSTAMP:20260425T182946
CREATED:20250117T223711Z
LAST-MODIFIED:20250426T113752Z
UID:10000050-1745586000-1745658000@coloradoteletherapyservices.com
SUMMARY:Body Mind Spirit Expo - Denver
DESCRIPTION:http://www.bmse.net
URL:https://coloradoteletherapyservices.com/event/body-mind-spirit-expo-denver/
LOCATION:National Western Complex Expo Hall     4655 N Humboldt St\, Denver\, CO\, United States
GEO:39.777036;-104.942034
END:VEVENT
BEGIN:VEVENT
DTSTART;TZID=America/Denver:20250412T100000
DTEND;TZID=America/Denver:20250412T110000
DTSTAMP:20260425T182946
CREATED:20250124T042751Z
LAST-MODIFIED:20250412T105500Z
UID:10000066-1744452000-1744455600@coloradoteletherapyservices.com
SUMMARY:Microdosing Group
DESCRIPTION:
URL:https://coloradoteletherapyservices.com/event/microdosing-group-8/
LOCATION:https://us02web.zoom.us/j/82861891240
END:VEVENT
BEGIN:VEVENT
DTSTART;TZID=America/Denver:20250412T093000
DTEND;TZID=America/Denver:20250412T100000
DTSTAMP:20260425T182946
CREATED:20250210T053808Z
LAST-MODIFIED:20250412T105500Z
UID:10000075-1744450200-1744452000@coloradoteletherapyservices.com
SUMMARY:Thought Box Group
DESCRIPTION:https://us02web.zoom.us/j/82280320686
URL:https://coloradoteletherapyservices.com/event/thought-box-group-8/
LOCATION:https://us02web.zoom.us/j/82280320686
END:VEVENT
BEGIN:VEVENT
DTSTART;TZID=America/Denver:20250406T100000
DTEND;TZID=America/Denver:20250406T170000
DTSTAMP:20260425T182946
CREATED:20250315T084019Z
LAST-MODIFIED:20250315T084019Z
UID:10000078-1743933600-1743958800@coloradoteletherapyservices.com
SUMMARY:Pueblo Holistic Fair Booth # 93&94
DESCRIPTION:
URL:https://coloradoteletherapyservices.com/event/pueblo-holistic-fair-booth-9394-4/
LOCATION:Pueblo Convention Center\, 320 Central Main St\, Pueblo\, CO\, United States
GEO:38.266492;-104.609001
X-APPLE-STRUCTURED-LOCATION;VALUE=URI;X-ADDRESS=Pueblo Convention Center 320 Central Main St Pueblo CO United States;X-APPLE-RADIUS=500;X-TITLE=320 Central Main St:geo:-104.609001,38.266492
END:VEVENT
BEGIN:VEVENT
DTSTART;TZID=America/Denver:20250406T100000
DTEND;TZID=America/Denver:20250406T170000
DTSTAMP:20260425T182946
CREATED:20250315T084017Z
LAST-MODIFIED:20250406T102456Z
UID:10000080-1743933600-1743958800@coloradoteletherapyservices.com
SUMMARY:Pueblo Holistic Fair Booth # 93&94
DESCRIPTION:
URL:https://coloradoteletherapyservices.com/event/pueblo-holistic-fair-booth-9394-2/
LOCATION:Pueblo Convention Center\, 320 Central Main St\, Pueblo\, CO\, United States
GEO:38.266492;-104.609001
X-APPLE-STRUCTURED-LOCATION;VALUE=URI;X-ADDRESS=Pueblo Convention Center 320 Central Main St Pueblo CO United States;X-APPLE-RADIUS=500;X-TITLE=320 Central Main St:geo:-104.609001,38.266492
END:VEVENT
BEGIN:VEVENT
DTSTART;TZID=America/Denver:20250405T100000
DTEND;TZID=America/Denver:20250405T180000
DTSTAMP:20260425T182946
CREATED:20250315T084018Z
LAST-MODIFIED:20250315T084018Z
UID:10000077-1743847200-1743876000@coloradoteletherapyservices.com
SUMMARY:Pueblo Holistic Fair Booth # 93&94
DESCRIPTION:
URL:https://coloradoteletherapyservices.com/event/pueblo-holistic-fair-booth-9394-3/
LOCATION:Pueblo Convention Center\, 320 Central Main St\, Pueblo\, CO\, United States
GEO:38.266492;-104.609001
X-APPLE-STRUCTURED-LOCATION;VALUE=URI;X-ADDRESS=Pueblo Convention Center 320 Central Main St Pueblo CO United States;X-APPLE-RADIUS=500;X-TITLE=320 Central Main St:geo:-104.609001,38.266492
END:VEVENT
BEGIN:VEVENT
DTSTART;TZID=America/Denver:20250405T100000
DTEND;TZID=America/Denver:20250405T180000
DTSTAMP:20260425T182946
CREATED:20250315T084016Z
LAST-MODIFIED:20250405T101029Z
UID:10000079-1743847200-1743876000@coloradoteletherapyservices.com
SUMMARY:Pueblo Holistic Fair Booth # 93&94
DESCRIPTION:
URL:https://coloradoteletherapyservices.com/event/pueblo-holistic-fair-booth-9394/
LOCATION:Pueblo Convention Center\, 320 Central Main St\, Pueblo\, CO\, United States
GEO:38.266492;-104.609001
X-APPLE-STRUCTURED-LOCATION;VALUE=URI;X-ADDRESS=Pueblo Convention Center 320 Central Main St Pueblo CO United States;X-APPLE-RADIUS=500;X-TITLE=320 Central Main St:geo:-104.609001,38.266492
END:VEVENT
BEGIN:VEVENT
DTSTART;TZID=America/Denver:20250325T190000
DTEND;TZID=America/Denver:20250325T200000
DTSTAMP:20260425T182946
CREATED:20250124T042750Z
LAST-MODIFIED:20250325T092518Z
UID:10000065-1742929200-1742932800@coloradoteletherapyservices.com
SUMMARY:Microdosing Group
DESCRIPTION:
URL:https://coloradoteletherapyservices.com/event/microdosing-group-6/
LOCATION:https://us02web.zoom.us/j/81382209551
END:VEVENT
BEGIN:VEVENT
DTSTART;TZID=America/Denver:20250325T183000
DTEND;TZID=America/Denver:20250325T190000
DTSTAMP:20260425T182946
CREATED:20250210T053806Z
LAST-MODIFIED:20250325T092519Z
UID:10000074-1742927400-1742929200@coloradoteletherapyservices.com
SUMMARY:Thought Box Group
DESCRIPTION:https://us02web.zoom.us/j/86595940748
URL:https://coloradoteletherapyservices.com/event/thought-box-group-7/
LOCATION:https://us02web.zoom.us/j/86595940748
END:VEVENT
BEGIN:VEVENT
DTSTART;TZID=America/Denver:20250315T100000
DTEND;TZID=America/Denver:20250315T110000
DTSTAMP:20260425T182946
CREATED:20250124T042750Z
LAST-MODIFIED:20250124T042750Z
UID:10000061-1742032800-1742036400@coloradoteletherapyservices.com
SUMMARY:Microdosing Group
DESCRIPTION:
URL:https://coloradoteletherapyservices.com/event/microdosing-group-7/
LOCATION:https://us02web.zoom.us/j/82861891240
END:VEVENT
BEGIN:VEVENT
DTSTART;TZID=America/Denver:20250315T100000
DTEND;TZID=America/Denver:20250315T110000
DTSTAMP:20260425T182946
CREATED:20250124T042749Z
LAST-MODIFIED:20250315T084016Z
UID:10000064-1742032800-1742036400@coloradoteletherapyservices.com
SUMMARY:Microdosing Group
DESCRIPTION:
URL:https://coloradoteletherapyservices.com/event/microdosing-group-5/
LOCATION:https://us02web.zoom.us/j/82861891240
END:VEVENT
BEGIN:VEVENT
DTSTART;TZID=America/Denver:20250315T093000
DTEND;TZID=America/Denver:20250315T100000
DTSTAMP:20260425T182946
CREATED:20250210T053806Z
LAST-MODIFIED:20250210T053806Z
UID:10000070-1742031000-1742032800@coloradoteletherapyservices.com
SUMMARY:Thought Box Group
DESCRIPTION:https://us02web.zoom.us/j/82280320686
URL:https://coloradoteletherapyservices.com/event/thought-box-group-6/
END:VEVENT
BEGIN:VEVENT
DTSTART;TZID=America/Denver:20250315T093000
DTEND;TZID=America/Denver:20250315T100000
DTSTAMP:20260425T182946
CREATED:20250210T053805Z
LAST-MODIFIED:20250315T084016Z
UID:10000073-1742031000-1742032800@coloradoteletherapyservices.com
SUMMARY:Thought Box Group
DESCRIPTION:https://us02web.zoom.us/j/82280320686
URL:https://coloradoteletherapyservices.com/event/thought-box-group-5/
LOCATION:https://us02web.zoom.us/j/82280320686
END:VEVENT
BEGIN:VEVENT
DTSTART;TZID=America/Denver:20250309T100000
DTEND;TZID=America/Denver:20250309T180000
DTSTAMP:20260425T182946
CREATED:20250117T223708Z
LAST-MODIFIED:20250309T081249Z
UID:10000048-1741514400-1741543200@coloradoteletherapyservices.com
SUMMARY:Body Mind Spirit Expo - Colorado Springs
DESCRIPTION:
URL:https://coloradoteletherapyservices.com/event/body-mind-spirit-expo-colorado-springs-2/
LOCATION:Colorado Springs Event Center\, 3960 Palmer Park Blvd\, Colorado Springs\, CO\, United States
GEO:38.854424;-104.754244
X-APPLE-STRUCTURED-LOCATION;VALUE=URI;X-ADDRESS=Colorado Springs Event Center 3960 Palmer Park Blvd Colorado Springs CO United States;X-APPLE-RADIUS=500;X-TITLE=3960 Palmer Park Blvd:geo:-104.754244,38.854424
END:VEVENT
BEGIN:VEVENT
DTSTART;TZID=America/Denver:20250308T140000
DTEND;TZID=America/Denver:20250308T150000
DTSTAMP:20260425T182946
CREATED:20250117T223708Z
LAST-MODIFIED:20250308T081209Z
UID:10000047-1741442400-1741446000@coloradoteletherapyservices.com
SUMMARY:Charity - Lecture Room 1
DESCRIPTION:
URL:https://coloradoteletherapyservices.com/event/charity-lecture-room-1-2/
LOCATION:Colorado Springs Event Center\, 3960 Palmer Park Blvd\, Colorado Springs\, CO\, United States
GEO:38.854424;-104.754244
X-APPLE-STRUCTURED-LOCATION;VALUE=URI;X-ADDRESS=Colorado Springs Event Center 3960 Palmer Park Blvd Colorado Springs CO United States;X-APPLE-RADIUS=500;X-TITLE=3960 Palmer Park Blvd:geo:-104.754244,38.854424
END:VEVENT
BEGIN:VEVENT
DTSTART;TZID=America/Denver:20250308T100000
DTEND;TZID=America/Denver:20250308T190000
DTSTAMP:20260425T182946
CREATED:20250117T223706Z
LAST-MODIFIED:20250308T081210Z
UID:10000046-1741428000-1741460400@coloradoteletherapyservices.com
SUMMARY:Body Mind Spirit Expo
DESCRIPTION:http://www.bmse.net
URL:https://coloradoteletherapyservices.com/event/body-mind-spirit-expo-6/
LOCATION:Colorado Springs Event Center\, 3960 Palmer Park Blvd\, Colorado Springs\, CO\, United States
GEO:38.854424;-104.754244
X-APPLE-STRUCTURED-LOCATION;VALUE=URI;X-ADDRESS=Colorado Springs Event Center 3960 Palmer Park Blvd Colorado Springs CO United States;X-APPLE-RADIUS=500;X-TITLE=3960 Palmer Park Blvd:geo:-104.754244,38.854424
END:VEVENT
BEGIN:VEVENT
DTSTART;TZID=America/Denver:20250307T190000
DTEND;TZID=America/Denver:20250307T200000
DTSTAMP:20260425T182946
CREATED:20250117T223704Z
LAST-MODIFIED:20250307T080615Z
UID:10000044-1741374000-1741377600@coloradoteletherapyservices.com
SUMMARY:Charity - Lecture Room 1
DESCRIPTION:
URL:https://coloradoteletherapyservices.com/event/charity-lecture-room-1/
END:VEVENT
BEGIN:VEVENT
DTSTART;TZID=America/Denver:20250307T130000
DTEND;TZID=America/Denver:20250307T210000
DTSTAMP:20260425T182946
CREATED:20250117T223705Z
LAST-MODIFIED:20250307T080615Z
UID:10000045-1741352400-1741381200@coloradoteletherapyservices.com
SUMMARY:Body Mind Spirit Expo- Colorado Springs
DESCRIPTION:http://www.bmse.net
URL:https://coloradoteletherapyservices.com/event/body-mind-spirit-expo-colorado-springs/
LOCATION:Colorado Springs Event Center\, 3960 Palmer Park Blvd\, Colorado Springs\, CO\, United States
GEO:38.854424;-104.754244
X-APPLE-STRUCTURED-LOCATION;VALUE=URI;X-ADDRESS=Colorado Springs Event Center 3960 Palmer Park Blvd Colorado Springs CO United States;X-APPLE-RADIUS=500;X-TITLE=3960 Palmer Park Blvd:geo:-104.754244,38.854424
END:VEVENT
END:VCALENDAR