BEGIN:VCALENDAR
VERSION:2.0
PRODID:-//Colorado Teletherapy Services - ECPv6.15.20//NONSGML v1.0//EN
CALSCALE:GREGORIAN
METHOD:PUBLISH
X-ORIGINAL-URL:https://coloradoteletherapyservices.com
X-WR-CALDESC:Events for Colorado Teletherapy Services
REFRESH-INTERVAL;VALUE=DURATION:PT1H
X-Robots-Tag:noindex
X-PUBLISHED-TTL:PT1H
BEGIN:VTIMEZONE
TZID:America/Denver
BEGIN:DAYLIGHT
TZOFFSETFROM:-0700
TZOFFSETTO:-0600
TZNAME:MDT
DTSTART:20250309T090000
END:DAYLIGHT
BEGIN:STANDARD
TZOFFSETFROM:-0600
TZOFFSETTO:-0700
TZNAME:MST
DTSTART:20251102T080000
END:STANDARD
BEGIN:DAYLIGHT
TZOFFSETFROM:-0700
TZOFFSETTO:-0600
TZNAME:MDT
DTSTART:20260308T090000
END:DAYLIGHT
BEGIN:STANDARD
TZOFFSETFROM:-0600
TZOFFSETTO:-0700
TZNAME:MST
DTSTART:20261101T080000
END:STANDARD
BEGIN:DAYLIGHT
TZOFFSETFROM:-0700
TZOFFSETTO:-0600
TZNAME:MDT
DTSTART:20270314T090000
END:DAYLIGHT
BEGIN:STANDARD
TZOFFSETFROM:-0600
TZOFFSETTO:-0700
TZNAME:MST
DTSTART:20271107T080000
END:STANDARD
END:VTIMEZONE
BEGIN:VEVENT
DTSTART;TZID=America/Denver:20261012T180000
DTEND;TZID=America/Denver:20261012T190000
DTSTAMP:20260425T143108
CREATED:20260112T213832Z
LAST-MODIFIED:20260424T223847Z
UID:10000417-1791828000-1791831600@coloradoteletherapyservices.com
SUMMARY:Monday Microdosing Group
DESCRIPTION:
URL:https://coloradoteletherapyservices.com/event/monday-microdosing-group-43/
LOCATION:https://us02web.zoom.us/j/85680399246?pwd=2M8LKaPmveoIusNzMFyzaFpFEvjXOx.1
END:VEVENT
BEGIN:VEVENT
DTSTART;TZID=America/Denver:20261014T183000
DTEND;TZID=America/Denver:20261014T193000
DTSTAMP:20260425T143108
CREATED:20251024T052610Z
LAST-MODIFIED:20260424T223847Z
UID:10000185-1792002600-1792006200@coloradoteletherapyservices.com
SUMMARY:Creative Mindfulness Group
DESCRIPTION:
URL:https://coloradoteletherapyservices.com/event/creative-mindfulness-group-50/
LOCATION:https://us02web.zoom.us/j/89087711310?pwd=PKaUYoL1OKZ9nYG22TQr4K7xd38qJD.1
END:VEVENT
BEGIN:VEVENT
DTSTART;TZID=America/Denver:20261014T183000
DTEND;TZID=America/Denver:20261014T193000
DTSTAMP:20260425T143108
CREATED:20251206T114105Z
LAST-MODIFIED:20260223T042622Z
UID:10000291-1792002600-1792006200@coloradoteletherapyservices.com
SUMMARY:Military & 1st Responders Microdosing Group
DESCRIPTION:
URL:https://coloradoteletherapyservices.com/event/military-1st-responders-microdosing-group-47/
LOCATION:https://us02web.zoom.us/j/86475028161
END:VEVENT
BEGIN:VEVENT
DTSTART;TZID=America/Denver:20261015T113000
DTEND;TZID=America/Denver:20261015T123000
DTSTAMP:20260425T143108
CREATED:20260203T014101Z
LAST-MODIFIED:20260223T042624Z
UID:10000516-1792063800-1792067400@coloradoteletherapyservices.com
SUMMARY:Military & 1st Responders Microdosing Group
DESCRIPTION:
URL:https://coloradoteletherapyservices.com/event/military-1st-responders-microdosing-group-148/
LOCATION:https://us02web.zoom.us/j/84347293042
END:VEVENT
BEGIN:VEVENT
DTSTART;TZID=America/Denver:20261015T183000
DTEND;TZID=America/Denver:20261015T193000
DTSTAMP:20260425T143108
CREATED:20260316T080657Z
LAST-MODIFIED:20260424T223847Z
UID:10000633-1792089000-1792092600@coloradoteletherapyservices.com
SUMMARY:Resilience & Recovery Microdosing Group
DESCRIPTION:
URL:https://coloradoteletherapyservices.com/event/resilience-recovery-microdosing-group-29/
LOCATION:https://us02web.zoom.us/j/81255323562
END:VEVENT
BEGIN:VEVENT
DTSTART;TZID=America/Denver:20261019T180000
DTEND;TZID=America/Denver:20261019T190000
DTSTAMP:20260425T143108
CREATED:20260112T213835Z
LAST-MODIFIED:20260424T223847Z
UID:10000418-1792432800-1792436400@coloradoteletherapyservices.com
SUMMARY:Monday Microdosing Group
DESCRIPTION:
URL:https://coloradoteletherapyservices.com/event/monday-microdosing-group-44/
LOCATION:https://us02web.zoom.us/j/85680399246?pwd=2M8LKaPmveoIusNzMFyzaFpFEvjXOx.1
END:VEVENT
BEGIN:VEVENT
DTSTART;TZID=America/Denver:20261021T183000
DTEND;TZID=America/Denver:20261021T193000
DTSTAMP:20260425T143108
CREATED:20251024T052612Z
LAST-MODIFIED:20260424T223847Z
UID:10000186-1792607400-1792611000@coloradoteletherapyservices.com
SUMMARY:Creative Mindfulness Group
DESCRIPTION:
URL:https://coloradoteletherapyservices.com/event/creative-mindfulness-group-51/
LOCATION:https://us02web.zoom.us/j/89087711310?pwd=PKaUYoL1OKZ9nYG22TQr4K7xd38qJD.1
END:VEVENT
BEGIN:VEVENT
DTSTART;TZID=America/Denver:20261021T183000
DTEND;TZID=America/Denver:20261021T193000
DTSTAMP:20260425T143108
CREATED:20251206T114106Z
LAST-MODIFIED:20260223T042626Z
UID:10000292-1792607400-1792611000@coloradoteletherapyservices.com
SUMMARY:Military & 1st Responders Microdosing Group
DESCRIPTION:
URL:https://coloradoteletherapyservices.com/event/military-1st-responders-microdosing-group-48/
LOCATION:https://us02web.zoom.us/j/86475028161
END:VEVENT
BEGIN:VEVENT
DTSTART;TZID=America/Denver:20261022T113000
DTEND;TZID=America/Denver:20261022T123000
DTSTAMP:20260425T143108
CREATED:20260203T014105Z
LAST-MODIFIED:20260223T042626Z
UID:10000517-1792668600-1792672200@coloradoteletherapyservices.com
SUMMARY:Military & 1st Responders Microdosing Group
DESCRIPTION:
URL:https://coloradoteletherapyservices.com/event/military-1st-responders-microdosing-group-149/
LOCATION:https://us02web.zoom.us/j/84347293042
END:VEVENT
BEGIN:VEVENT
DTSTART;TZID=America/Denver:20261022T183000
DTEND;TZID=America/Denver:20261022T193000
DTSTAMP:20260425T143108
CREATED:20260316T080659Z
LAST-MODIFIED:20260424T223847Z
UID:10000634-1792693800-1792697400@coloradoteletherapyservices.com
SUMMARY:Resilience & Recovery Microdosing Group
DESCRIPTION:
URL:https://coloradoteletherapyservices.com/event/resilience-recovery-microdosing-group-30/
LOCATION:https://us02web.zoom.us/j/81255323562
END:VEVENT
BEGIN:VEVENT
DTSTART;TZID=America/Denver:20261026T180000
DTEND;TZID=America/Denver:20261026T190000
DTSTAMP:20260425T143108
CREATED:20260112T213837Z
LAST-MODIFIED:20260424T223848Z
UID:10000419-1793037600-1793041200@coloradoteletherapyservices.com
SUMMARY:Monday Microdosing Group
DESCRIPTION:
URL:https://coloradoteletherapyservices.com/event/monday-microdosing-group-45/
LOCATION:https://us02web.zoom.us/j/85680399246?pwd=2M8LKaPmveoIusNzMFyzaFpFEvjXOx.1
END:VEVENT
BEGIN:VEVENT
DTSTART;TZID=America/Denver:20261028T183000
DTEND;TZID=America/Denver:20261028T193000
DTSTAMP:20260425T143108
CREATED:20251024T052615Z
LAST-MODIFIED:20260424T223848Z
UID:10000187-1793212200-1793215800@coloradoteletherapyservices.com
SUMMARY:Creative Mindfulness Group
DESCRIPTION:
URL:https://coloradoteletherapyservices.com/event/creative-mindfulness-group-52/
LOCATION:https://us02web.zoom.us/j/89087711310?pwd=PKaUYoL1OKZ9nYG22TQr4K7xd38qJD.1
END:VEVENT
BEGIN:VEVENT
DTSTART;TZID=America/Denver:20261028T183000
DTEND;TZID=America/Denver:20261028T193000
DTSTAMP:20260425T143108
CREATED:20251206T114109Z
LAST-MODIFIED:20260223T042628Z
UID:10000293-1793212200-1793215800@coloradoteletherapyservices.com
SUMMARY:Military & 1st Responders Microdosing Group
DESCRIPTION:
URL:https://coloradoteletherapyservices.com/event/military-1st-responders-microdosing-group-49/
LOCATION:https://us02web.zoom.us/j/86475028161
END:VEVENT
BEGIN:VEVENT
DTSTART;TZID=America/Denver:20261029T113000
DTEND;TZID=America/Denver:20261029T123000
DTSTAMP:20260425T143108
CREATED:20260203T014108Z
LAST-MODIFIED:20260223T042629Z
UID:10000518-1793273400-1793277000@coloradoteletherapyservices.com
SUMMARY:Military & 1st Responders Microdosing Group
DESCRIPTION:
URL:https://coloradoteletherapyservices.com/event/military-1st-responders-microdosing-group-150/
LOCATION:https://us02web.zoom.us/j/84347293042
END:VEVENT
BEGIN:VEVENT
DTSTART;TZID=America/Denver:20261029T183000
DTEND;TZID=America/Denver:20261029T193000
DTSTAMP:20260425T143108
CREATED:20260316T080701Z
LAST-MODIFIED:20260424T223848Z
UID:10000635-1793298600-1793302200@coloradoteletherapyservices.com
SUMMARY:Resilience & Recovery Microdosing Group
DESCRIPTION:
URL:https://coloradoteletherapyservices.com/event/resilience-recovery-microdosing-group-31/
LOCATION:https://us02web.zoom.us/j/81255323562
END:VEVENT
BEGIN:VEVENT
DTSTART;TZID=America/Denver:20261102T180000
DTEND;TZID=America/Denver:20261102T190000
DTSTAMP:20260425T143108
CREATED:20260112T213839Z
LAST-MODIFIED:20260424T223848Z
UID:10000420-1793642400-1793646000@coloradoteletherapyservices.com
SUMMARY:Monday Microdosing Group
DESCRIPTION:
URL:https://coloradoteletherapyservices.com/event/monday-microdosing-group-46/
LOCATION:https://us02web.zoom.us/j/85680399246?pwd=2M8LKaPmveoIusNzMFyzaFpFEvjXOx.1
END:VEVENT
BEGIN:VEVENT
DTSTART;TZID=America/Denver:20261104T183000
DTEND;TZID=America/Denver:20261104T193000
DTSTAMP:20260425T143108
CREATED:20251024T052617Z
LAST-MODIFIED:20260424T223848Z
UID:10000188-1793817000-1793820600@coloradoteletherapyservices.com
SUMMARY:Creative Mindfulness Group
DESCRIPTION:
URL:https://coloradoteletherapyservices.com/event/creative-mindfulness-group-53/
LOCATION:https://us02web.zoom.us/j/89087711310?pwd=PKaUYoL1OKZ9nYG22TQr4K7xd38qJD.1
END:VEVENT
BEGIN:VEVENT
DTSTART;TZID=America/Denver:20261104T183000
DTEND;TZID=America/Denver:20261104T193000
DTSTAMP:20260425T143108
CREATED:20251206T114110Z
LAST-MODIFIED:20260223T042630Z
UID:10000294-1793817000-1793820600@coloradoteletherapyservices.com
SUMMARY:Military & 1st Responders Microdosing Group
DESCRIPTION:
URL:https://coloradoteletherapyservices.com/event/military-1st-responders-microdosing-group-50/
LOCATION:https://us02web.zoom.us/j/86475028161
END:VEVENT
BEGIN:VEVENT
DTSTART;TZID=America/Denver:20261105T113000
DTEND;TZID=America/Denver:20261105T123000
DTSTAMP:20260425T143108
CREATED:20260203T014110Z
LAST-MODIFIED:20260223T042631Z
UID:10000519-1793878200-1793881800@coloradoteletherapyservices.com
SUMMARY:Military & 1st Responders Microdosing Group
DESCRIPTION:
URL:https://coloradoteletherapyservices.com/event/military-1st-responders-microdosing-group-151/
LOCATION:https://us02web.zoom.us/j/84347293042
END:VEVENT
BEGIN:VEVENT
DTSTART;TZID=America/Denver:20261105T183000
DTEND;TZID=America/Denver:20261105T193000
DTSTAMP:20260425T143108
CREATED:20260316T080702Z
LAST-MODIFIED:20260424T223848Z
UID:10000636-1793903400-1793907000@coloradoteletherapyservices.com
SUMMARY:Resilience & Recovery Microdosing Group
DESCRIPTION:
URL:https://coloradoteletherapyservices.com/event/resilience-recovery-microdosing-group-32/
LOCATION:https://us02web.zoom.us/j/81255323562
END:VEVENT
BEGIN:VEVENT
DTSTART;TZID=America/Denver:20261109T180000
DTEND;TZID=America/Denver:20261109T190000
DTSTAMP:20260425T143108
CREATED:20260112T213841Z
LAST-MODIFIED:20260424T223849Z
UID:10000421-1794247200-1794250800@coloradoteletherapyservices.com
SUMMARY:Monday Microdosing Group
DESCRIPTION:
URL:https://coloradoteletherapyservices.com/event/monday-microdosing-group-47/
LOCATION:https://us02web.zoom.us/j/85680399246?pwd=2M8LKaPmveoIusNzMFyzaFpFEvjXOx.1
END:VEVENT
BEGIN:VEVENT
DTSTART;TZID=America/Denver:20261111T183000
DTEND;TZID=America/Denver:20261111T193000
DTSTAMP:20260425T143108
CREATED:20251024T052619Z
LAST-MODIFIED:20260424T223849Z
UID:10000189-1794421800-1794425400@coloradoteletherapyservices.com
SUMMARY:Creative Mindfulness Group
DESCRIPTION:
URL:https://coloradoteletherapyservices.com/event/creative-mindfulness-group-54/
LOCATION:https://us02web.zoom.us/j/89087711310?pwd=PKaUYoL1OKZ9nYG22TQr4K7xd38qJD.1
END:VEVENT
BEGIN:VEVENT
DTSTART;TZID=America/Denver:20261111T183000
DTEND;TZID=America/Denver:20261111T193000
DTSTAMP:20260425T143108
CREATED:20251206T114111Z
LAST-MODIFIED:20260223T042633Z
UID:10000295-1794421800-1794425400@coloradoteletherapyservices.com
SUMMARY:Military & 1st Responders Microdosing Group
DESCRIPTION:
URL:https://coloradoteletherapyservices.com/event/military-1st-responders-microdosing-group-51/
LOCATION:https://us02web.zoom.us/j/86475028161
END:VEVENT
BEGIN:VEVENT
DTSTART;TZID=America/Denver:20261112T113000
DTEND;TZID=America/Denver:20261112T123000
DTSTAMP:20260425T143108
CREATED:20260203T014113Z
LAST-MODIFIED:20260223T042634Z
UID:10000520-1794483000-1794486600@coloradoteletherapyservices.com
SUMMARY:Military & 1st Responders Microdosing Group
DESCRIPTION:
URL:https://coloradoteletherapyservices.com/event/military-1st-responders-microdosing-group-152/
LOCATION:https://us02web.zoom.us/j/84347293042
END:VEVENT
BEGIN:VEVENT
DTSTART;TZID=America/Denver:20261112T183000
DTEND;TZID=America/Denver:20261112T193000
DTSTAMP:20260425T143108
CREATED:20260316T080704Z
LAST-MODIFIED:20260424T223849Z
UID:10000637-1794508200-1794511800@coloradoteletherapyservices.com
SUMMARY:Resilience & Recovery Microdosing Group
DESCRIPTION:
URL:https://coloradoteletherapyservices.com/event/resilience-recovery-microdosing-group-33/
LOCATION:https://us02web.zoom.us/j/81255323562
END:VEVENT
BEGIN:VEVENT
DTSTART;TZID=America/Denver:20261116T180000
DTEND;TZID=America/Denver:20261116T190000
DTSTAMP:20260425T143108
CREATED:20260112T213843Z
LAST-MODIFIED:20260424T223849Z
UID:10000422-1794852000-1794855600@coloradoteletherapyservices.com
SUMMARY:Monday Microdosing Group
DESCRIPTION:
URL:https://coloradoteletherapyservices.com/event/monday-microdosing-group-48/
LOCATION:https://us02web.zoom.us/j/85680399246?pwd=2M8LKaPmveoIusNzMFyzaFpFEvjXOx.1
END:VEVENT
BEGIN:VEVENT
DTSTART;TZID=America/Denver:20261118T183000
DTEND;TZID=America/Denver:20261118T193000
DTSTAMP:20260425T143108
CREATED:20251024T052622Z
LAST-MODIFIED:20260424T223849Z
UID:10000190-1795026600-1795030200@coloradoteletherapyservices.com
SUMMARY:Creative Mindfulness Group
DESCRIPTION:
URL:https://coloradoteletherapyservices.com/event/creative-mindfulness-group-55/
LOCATION:https://us02web.zoom.us/j/89087711310?pwd=PKaUYoL1OKZ9nYG22TQr4K7xd38qJD.1
END:VEVENT
BEGIN:VEVENT
DTSTART;TZID=America/Denver:20261118T183000
DTEND;TZID=America/Denver:20261118T193000
DTSTAMP:20260425T143108
CREATED:20251206T114113Z
LAST-MODIFIED:20260223T042635Z
UID:10000296-1795026600-1795030200@coloradoteletherapyservices.com
SUMMARY:Military & 1st Responders Microdosing Group
DESCRIPTION:
URL:https://coloradoteletherapyservices.com/event/military-1st-responders-microdosing-group-52/
LOCATION:https://us02web.zoom.us/j/86475028161
END:VEVENT
BEGIN:VEVENT
DTSTART;TZID=America/Denver:20261119T113000
DTEND;TZID=America/Denver:20261119T123000
DTSTAMP:20260425T143108
CREATED:20260203T014116Z
LAST-MODIFIED:20260223T042636Z
UID:10000521-1795087800-1795091400@coloradoteletherapyservices.com
SUMMARY:Military & 1st Responders Microdosing Group
DESCRIPTION:
URL:https://coloradoteletherapyservices.com/event/military-1st-responders-microdosing-group-153/
LOCATION:https://us02web.zoom.us/j/84347293042
END:VEVENT
BEGIN:VEVENT
DTSTART;TZID=America/Denver:20261119T183000
DTEND;TZID=America/Denver:20261119T193000
DTSTAMP:20260425T143108
CREATED:20260316T080708Z
LAST-MODIFIED:20260424T223849Z
UID:10000638-1795113000-1795116600@coloradoteletherapyservices.com
SUMMARY:Resilience & Recovery Microdosing Group
DESCRIPTION:
URL:https://coloradoteletherapyservices.com/event/resilience-recovery-microdosing-group-34/
LOCATION:https://us02web.zoom.us/j/81255323562
END:VEVENT
END:VCALENDAR