BEGIN:VCALENDAR
VERSION:2.0
PRODID:-//Colorado Teletherapy Services - ECPv6.15.20//NONSGML v1.0//EN
CALSCALE:GREGORIAN
METHOD:PUBLISH
X-WR-CALNAME:Colorado Teletherapy Services
X-ORIGINAL-URL:https://coloradoteletherapyservices.com
X-WR-CALDESC:Events for Colorado Teletherapy Services
REFRESH-INTERVAL;VALUE=DURATION:PT1H
X-Robots-Tag:noindex
X-PUBLISHED-TTL:PT1H
BEGIN:VTIMEZONE
TZID:America/Denver
BEGIN:DAYLIGHT
TZOFFSETFROM:-0700
TZOFFSETTO:-0600
TZNAME:MDT
DTSTART:20240310T090000
END:DAYLIGHT
BEGIN:STANDARD
TZOFFSETFROM:-0600
TZOFFSETTO:-0700
TZNAME:MST
DTSTART:20241103T080000
END:STANDARD
BEGIN:DAYLIGHT
TZOFFSETFROM:-0700
TZOFFSETTO:-0600
TZNAME:MDT
DTSTART:20250309T090000
END:DAYLIGHT
BEGIN:STANDARD
TZOFFSETFROM:-0600
TZOFFSETTO:-0700
TZNAME:MST
DTSTART:20251102T080000
END:STANDARD
BEGIN:DAYLIGHT
TZOFFSETFROM:-0700
TZOFFSETTO:-0600
TZNAME:MDT
DTSTART:20260308T090000
END:DAYLIGHT
BEGIN:STANDARD
TZOFFSETFROM:-0600
TZOFFSETTO:-0700
TZNAME:MST
DTSTART:20261101T080000
END:STANDARD
BEGIN:DAYLIGHT
TZOFFSETFROM:-0700
TZOFFSETTO:-0600
TZNAME:MDT
DTSTART:20270314T090000
END:DAYLIGHT
BEGIN:STANDARD
TZOFFSETFROM:-0600
TZOFFSETTO:-0700
TZNAME:MST
DTSTART:20271107T080000
END:STANDARD
END:VTIMEZONE
BEGIN:VEVENT
DTSTART;TZID=America/Denver:20260202T180000
DTEND;TZID=America/Denver:20260202T190000
DTSTAMP:20260421T054134
CREATED:20260112T213714Z
LAST-MODIFIED:20260203T013917Z
UID:10000381-1770055200-1770058800@coloradoteletherapyservices.com
SUMMARY:Monday Microdosing Group
DESCRIPTION:
URL:https://coloradoteletherapyservices.com/event/monday-microdosing-group-7/
LOCATION:https://us02web.zoom.us/j/85680399246?pwd=2M8LKaPmveoIusNzMFyzaFpFEvjXOx.1
END:VEVENT
BEGIN:VEVENT
DTSTART;TZID=America/Denver:20260128T183000
DTEND;TZID=America/Denver:20260128T193000
DTSTAMP:20260421T054134
CREATED:20251206T114015Z
LAST-MODIFIED:20260129T002042Z
UID:10000254-1769625000-1769628600@coloradoteletherapyservices.com
SUMMARY:Military & 1st Responders Microdosing Group
DESCRIPTION:
URL:https://coloradoteletherapyservices.com/event/military-1st-responders-microdosing-group-10/
LOCATION:https://us02web.zoom.us/j/86475028161
END:VEVENT
BEGIN:VEVENT
DTSTART;TZID=America/Denver:20260128T183000
DTEND;TZID=America/Denver:20260128T193000
DTSTAMP:20260421T054134
CREATED:20251024T052445Z
LAST-MODIFIED:20260129T002043Z
UID:10000148-1769625000-1769628600@coloradoteletherapyservices.com
SUMMARY:Creative Mindfulness Group
DESCRIPTION:
URL:https://coloradoteletherapyservices.com/event/creative-mindfulness-group-13/
LOCATION:https://us02web.zoom.us/j/89087711310?pwd=PKaUYoL1OKZ9nYG22TQr4K7xd38qJD.1
END:VEVENT
BEGIN:VEVENT
DTSTART;TZID=America/Denver:20260126T180000
DTEND;TZID=America/Denver:20260126T190000
DTSTAMP:20260421T054134
CREATED:20260112T213712Z
LAST-MODIFIED:20260112T213712Z
UID:10000380-1769450400-1769454000@coloradoteletherapyservices.com
SUMMARY:Monday Microdosing Group
DESCRIPTION:
URL:https://coloradoteletherapyservices.com/event/monday-microdosing-group-6/
LOCATION:https://us02web.zoom.us/j/85680399246?pwd=2M8LKaPmveoIusNzMFyzaFpFEvjXOx.1
END:VEVENT
BEGIN:VEVENT
DTSTART;TZID=America/Denver:20260126T180000
DTEND;TZID=America/Denver:20260126T190000
DTSTAMP:20260421T054134
CREATED:20260112T213711Z
LAST-MODIFIED:20260127T000137Z
UID:10000377-1769450400-1769454000@coloradoteletherapyservices.com
SUMMARY:Monday Microdosing Group
DESCRIPTION:
URL:https://coloradoteletherapyservices.com/event/monday-microdosing-group-5/
LOCATION:https://us02web.zoom.us/j/85680399246?pwd=2M8LKaPmveoIusNzMFyzaFpFEvjXOx.1
END:VEVENT
BEGIN:VEVENT
DTSTART;TZID=America/Denver:20260121T183000
DTEND;TZID=America/Denver:20260121T193000
DTSTAMP:20260421T054134
CREATED:20251206T114014Z
LAST-MODIFIED:20260121T231503Z
UID:10000253-1769020200-1769023800@coloradoteletherapyservices.com
SUMMARY:Military & 1st Responders Microdosing Group
DESCRIPTION:
URL:https://coloradoteletherapyservices.com/event/military-1st-responders-microdosing-group-9/
LOCATION:https://us02web.zoom.us/j/86475028161
END:VEVENT
BEGIN:VEVENT
DTSTART;TZID=America/Denver:20260121T183000
DTEND;TZID=America/Denver:20260121T193000
DTSTAMP:20260421T054134
CREATED:20251024T052442Z
LAST-MODIFIED:20260121T231503Z
UID:10000147-1769020200-1769023800@coloradoteletherapyservices.com
SUMMARY:Creative Mindfulness Group
DESCRIPTION:
URL:https://coloradoteletherapyservices.com/event/creative-mindfulness-group-12/
LOCATION:https://us02web.zoom.us/j/89087711310?pwd=PKaUYoL1OKZ9nYG22TQr4K7xd38qJD.1
END:VEVENT
BEGIN:VEVENT
DTSTART;TZID=America/Denver:20260120T190000
DTEND;TZID=America/Denver:20260120T200000
DTSTAMP:20260421T054134
CREATED:20251230T193353Z
LAST-MODIFIED:20251230T193353Z
UID:10000362-1768935600-1768939200@coloradoteletherapyservices.com
SUMMARY:Microdosing Group
DESCRIPTION:
URL:https://coloradoteletherapyservices.com/event/microdosing-group-27/
LOCATION:https://us02web.zoom.us/j/81382209551
END:VEVENT
BEGIN:VEVENT
DTSTART;TZID=America/Denver:20260120T190000
DTEND;TZID=America/Denver:20260120T200000
DTSTAMP:20260421T054134
CREATED:20251230T193352Z
LAST-MODIFIED:20260120T230023Z
UID:10000360-1768935600-1768939200@coloradoteletherapyservices.com
SUMMARY:Microdosing Group
DESCRIPTION:
URL:https://coloradoteletherapyservices.com/event/microdosing-group-26/
LOCATION:https://us02web.zoom.us/j/81382209551
END:VEVENT
BEGIN:VEVENT
DTSTART;TZID=America/Denver:20260120T183000
DTEND;TZID=America/Denver:20260120T190000
DTSTAMP:20260421T054134
CREATED:20251230T193352Z
LAST-MODIFIED:20251230T193352Z
UID:10000361-1768933800-1768935600@coloradoteletherapyservices.com
SUMMARY:Thought Box Group
DESCRIPTION:
URL:https://coloradoteletherapyservices.com/event/thought-box-group-28/
LOCATION:https://us02web.zoom.us/j/81382209551
END:VEVENT
BEGIN:VEVENT
DTSTART;TZID=America/Denver:20260120T183000
DTEND;TZID=America/Denver:20260120T190000
DTSTAMP:20260421T054134
CREATED:20251230T193351Z
LAST-MODIFIED:20260120T230024Z
UID:10000359-1768933800-1768935600@coloradoteletherapyservices.com
SUMMARY:Thought Box Group
DESCRIPTION:
URL:https://coloradoteletherapyservices.com/event/thought-box-group-27/
LOCATION:https://us02web.zoom.us/j/81382209551
END:VEVENT
BEGIN:VEVENT
DTSTART;TZID=America/Denver:20260119T180000
DTEND;TZID=America/Denver:20260119T190000
DTSTAMP:20260421T054134
CREATED:20260112T213708Z
LAST-MODIFIED:20260112T213708Z
UID:10000379-1768845600-1768849200@coloradoteletherapyservices.com
SUMMARY:Monday Microdosing Group
DESCRIPTION:
URL:https://coloradoteletherapyservices.com/event/monday-microdosing-group-4/
LOCATION:https://us02web.zoom.us/j/85680399246?pwd=2M8LKaPmveoIusNzMFyzaFpFEvjXOx.1
END:VEVENT
BEGIN:VEVENT
DTSTART;TZID=America/Denver:20260119T180000
DTEND;TZID=America/Denver:20260119T190000
DTSTAMP:20260421T054134
CREATED:20260112T213708Z
LAST-MODIFIED:20260119T224725Z
UID:10000376-1768845600-1768849200@coloradoteletherapyservices.com
SUMMARY:Monday Microdosing Group
DESCRIPTION:
URL:https://coloradoteletherapyservices.com/event/monday-microdosing-group-3/
LOCATION:https://us02web.zoom.us/j/85680399246?pwd=2M8LKaPmveoIusNzMFyzaFpFEvjXOx.1
END:VEVENT
BEGIN:VEVENT
DTSTART;TZID=America/Denver:20260114T183000
DTEND;TZID=America/Denver:20260114T193000
DTSTAMP:20260421T054134
CREATED:20251206T114013Z
LAST-MODIFIED:20260114T220800Z
UID:10000252-1768415400-1768419000@coloradoteletherapyservices.com
SUMMARY:Military & 1st Responders Microdosing Group
DESCRIPTION:
URL:https://coloradoteletherapyservices.com/event/military-1st-responders-microdosing-group-8/
LOCATION:https://us02web.zoom.us/j/86475028161
END:VEVENT
BEGIN:VEVENT
DTSTART;TZID=America/Denver:20260114T183000
DTEND;TZID=America/Denver:20260114T193000
DTSTAMP:20260421T054134
CREATED:20251024T052439Z
LAST-MODIFIED:20260114T220801Z
UID:10000146-1768415400-1768419000@coloradoteletherapyservices.com
SUMMARY:Creative Mindfulness Group
DESCRIPTION:
URL:https://coloradoteletherapyservices.com/event/creative-mindfulness-group-11/
LOCATION:https://us02web.zoom.us/j/89087711310?pwd=PKaUYoL1OKZ9nYG22TQr4K7xd38qJD.1
END:VEVENT
BEGIN:VEVENT
DTSTART;TZID=America/Denver:20260112T180000
DTEND;TZID=America/Denver:20260112T190000
DTSTAMP:20260421T054134
CREATED:20260112T213706Z
LAST-MODIFIED:20260112T213706Z
UID:10000375-1768240800-1768244400@coloradoteletherapyservices.com
SUMMARY:Monday Microdosing Group
DESCRIPTION:
URL:https://coloradoteletherapyservices.com/event/monday-microdosing-group/
LOCATION:https://us02web.zoom.us/j/85680399246?pwd=2M8LKaPmveoIusNzMFyzaFpFEvjXOx.1
END:VEVENT
BEGIN:VEVENT
DTSTART;TZID=America/Denver:20260112T180000
DTEND;TZID=America/Denver:20260112T190000
DTSTAMP:20260421T054134
CREATED:20260112T213706Z
LAST-MODIFIED:20260112T213706Z
UID:10000378-1768240800-1768244400@coloradoteletherapyservices.com
SUMMARY:Monday Microdosing Group
DESCRIPTION:
URL:https://coloradoteletherapyservices.com/event/monday-microdosing-group-2/
LOCATION:https://us02web.zoom.us/j/85680399246?pwd=2M8LKaPmveoIusNzMFyzaFpFEvjXOx.1
END:VEVENT
BEGIN:VEVENT
DTSTART;TZID=America/Denver:20260111T130000
DTEND;TZID=America/Denver:20260111T140000
DTSTAMP:20260421T054134
CREATED:20260107T202141Z
LAST-MODIFIED:20260110T210639Z
UID:10000373-1768136400-1768140000@coloradoteletherapyservices.com
SUMMARY:Charity Lecture @BMSE
DESCRIPTION:https://bmse.net/event/eventhome.php?eid=611
URL:https://coloradoteletherapyservices.com/event/charity-lecture-bmse-2/
LOCATION:Arapahoe County Fairgrounds Event Center\, 25690 E Quincy Ave\, Aurora\, CO\, United States
GEO:39.638237;-104.696346
X-APPLE-STRUCTURED-LOCATION;VALUE=URI;X-ADDRESS=Arapahoe County Fairgrounds Event Center 25690 E Quincy Ave Aurora CO United States;X-APPLE-RADIUS=500;X-TITLE=25690 E Quincy Ave:geo:-104.696346,39.638237
END:VEVENT
BEGIN:VEVENT
DTSTART;TZID=America/Denver:20260111T100000
DTEND;TZID=America/Denver:20260111T180000
DTSTAMP:20260421T054134
CREATED:20260107T202141Z
LAST-MODIFIED:20260111T212143Z
UID:10000374-1768125600-1768154400@coloradoteletherapyservices.com
SUMMARY:Body\, Mind\, Spirit Expo (bmse.net)
DESCRIPTION:https://bmse.net/event/eventhome.php?eid=611
URL:https://coloradoteletherapyservices.com/event/body-mind-spirit-expo-bmse-net-2/
LOCATION:Arapahoe County Fairgrounds Event Center\, 25690 E Quincy Ave\, Aurora\, CO\, United States
GEO:39.638237;-104.696346
X-APPLE-STRUCTURED-LOCATION;VALUE=URI;X-ADDRESS=Arapahoe County Fairgrounds Event Center 25690 E Quincy Ave Aurora CO United States;X-APPLE-RADIUS=500;X-TITLE=25690 E Quincy Ave:geo:-104.696346,39.638237
END:VEVENT
BEGIN:VEVENT
DTSTART;TZID=America/Denver:20260110T140000
DTEND;TZID=America/Denver:20260110T150000
DTSTAMP:20260421T054134
CREATED:20260107T202139Z
LAST-MODIFIED:20260110T210637Z
UID:10000371-1768053600-1768057200@coloradoteletherapyservices.com
SUMMARY:Charity Lecture @BMSE
DESCRIPTION:https://bmse.net/event/eventhome.php?eid=611
URL:https://coloradoteletherapyservices.com/event/charity-lecture-bmse/
LOCATION:Arapahoe County Fairgrounds Event Center\, 25690 E Quincy Ave\, Aurora\, CO\, United States
GEO:39.638237;-104.696346
X-APPLE-STRUCTURED-LOCATION;VALUE=URI;X-ADDRESS=Arapahoe County Fairgrounds Event Center 25690 E Quincy Ave Aurora CO United States;X-APPLE-RADIUS=500;X-TITLE=25690 E Quincy Ave:geo:-104.696346,39.638237
END:VEVENT
BEGIN:VEVENT
DTSTART;TZID=America/Denver:20260110T100000
DTEND;TZID=America/Denver:20260110T190000
DTSTAMP:20260421T054134
CREATED:20260107T202140Z
LAST-MODIFIED:20260110T210637Z
UID:10000372-1768039200-1768071600@coloradoteletherapyservices.com
SUMMARY:Body\, Mind\, Spirit Expo (bmse.net)
DESCRIPTION:https://bmse.net/event/eventhome.php?eid=611
URL:https://coloradoteletherapyservices.com/event/body-mind-spirit-expo-bmse-net/
LOCATION:Arapahoe County Fairgrounds Event Center\, 25690 E Quincy Ave\, Aurora\, CO\, United States
GEO:39.638237;-104.696346
X-APPLE-STRUCTURED-LOCATION;VALUE=URI;X-ADDRESS=Arapahoe County Fairgrounds Event Center 25690 E Quincy Ave Aurora CO United States;X-APPLE-RADIUS=500;X-TITLE=25690 E Quincy Ave:geo:-104.696346,39.638237
END:VEVENT
BEGIN:VEVENT
DTSTART;TZID=America/Denver:20260107T183000
DTEND;TZID=America/Denver:20260107T193000
DTSTAMP:20260421T054134
CREATED:20251206T114011Z
LAST-MODIFIED:20260107T202140Z
UID:10000251-1767810600-1767814200@coloradoteletherapyservices.com
SUMMARY:Military & 1st Responders Microdosing Group
DESCRIPTION:
URL:https://coloradoteletherapyservices.com/event/military-1st-responders-microdosing-group-7/
LOCATION:https://us02web.zoom.us/j/86475028161
END:VEVENT
BEGIN:VEVENT
DTSTART;TZID=America/Denver:20260107T183000
DTEND;TZID=America/Denver:20260107T193000
DTSTAMP:20260421T054134
CREATED:20251024T052438Z
LAST-MODIFIED:20260107T202139Z
UID:10000145-1767810600-1767814200@coloradoteletherapyservices.com
SUMMARY:Creative Mindfulness Group
DESCRIPTION:
URL:https://coloradoteletherapyservices.com/event/creative-mindfulness-group-10/
LOCATION:https://us02web.zoom.us/j/89087711310?pwd=PKaUYoL1OKZ9nYG22TQr4K7xd38qJD.1
END:VEVENT
BEGIN:VEVENT
DTSTART;TZID=America/Denver:20260103T100000
DTEND;TZID=America/Denver:20260103T110000
DTSTAMP:20260421T054134
CREATED:20251230T193348Z
LAST-MODIFIED:20260102T194716Z
UID:10000358-1767434400-1767438000@coloradoteletherapyservices.com
SUMMARY:Microdosing Group
DESCRIPTION:
URL:https://coloradoteletherapyservices.com/event/microdosing-group-25/
LOCATION:https://us02web.zoom.us/j/82861891240
END:VEVENT
BEGIN:VEVENT
DTSTART;TZID=America/Denver:20260103T093000
DTEND;TZID=America/Denver:20260103T100000
DTSTAMP:20260421T054134
CREATED:20251230T193348Z
LAST-MODIFIED:20260102T194717Z
UID:10000357-1767432600-1767434400@coloradoteletherapyservices.com
SUMMARY:Thought Box Group
DESCRIPTION:
URL:https://coloradoteletherapyservices.com/event/thought-box-group-26/
LOCATION:https://us02web.zoom.us/j/82861891240
END:VEVENT
BEGIN:VEVENT
DTSTART;TZID=America/Denver:20251231T183000
DTEND;TZID=America/Denver:20251231T193000
DTSTAMP:20260421T054134
CREATED:20251206T114010Z
LAST-MODIFIED:20251206T114010Z
UID:10000250-1767205800-1767209400@coloradoteletherapyservices.com
SUMMARY:Military & 1st Responders Microdosing Group
DESCRIPTION:
URL:https://coloradoteletherapyservices.com/event/military-1st-responders-microdosing-group-6/
LOCATION:https://us02web.zoom.us/j/87017960061?pwd=obakDaaFNRQ43EESaE9KPE1DICEieS.1
END:VEVENT
BEGIN:VEVENT
DTSTART;TZID=America/Denver:20251231T183000
DTEND;TZID=America/Denver:20251231T193000
DTSTAMP:20260421T054134
CREATED:20251206T114009Z
LAST-MODIFIED:20251231T193226Z
UID:10000247-1767205800-1767209400@coloradoteletherapyservices.com
SUMMARY:Military & 1st Responders Microdosing Group
DESCRIPTION:
URL:https://coloradoteletherapyservices.com/event/military-1st-responders-microdosing-group-5/
LOCATION:https://us02web.zoom.us/j/86475028161
END:VEVENT
BEGIN:VEVENT
DTSTART;TZID=America/Denver:20251231T183000
DTEND;TZID=America/Denver:20251231T193000
DTSTAMP:20260421T054134
CREATED:20251024T052436Z
LAST-MODIFIED:20251231T193226Z
UID:10000144-1767205800-1767209400@coloradoteletherapyservices.com
SUMMARY:Creative Mindfulness Group
DESCRIPTION:
URL:https://coloradoteletherapyservices.com/event/creative-mindfulness-group-9/
LOCATION:https://us02web.zoom.us/j/89087711310?pwd=PKaUYoL1OKZ9nYG22TQr4K7xd38qJD.1
END:VEVENT
BEGIN:VEVENT
DTSTART;TZID=America/Denver:20251224T183000
DTEND;TZID=America/Denver:20251224T193000
DTSTAMP:20260421T054134
CREATED:20251206T114009Z
LAST-MODIFIED:20251206T114009Z
UID:10000249-1766601000-1766604600@coloradoteletherapyservices.com
SUMMARY:Military & 1st Responders Microdosing Group
DESCRIPTION:
URL:https://coloradoteletherapyservices.com/event/military-1st-responders-microdosing-group-4/
LOCATION:https://us02web.zoom.us/j/87017960061?pwd=obakDaaFNRQ43EESaE9KPE1DICEieS.1
END:VEVENT
BEGIN:VEVENT
DTSTART;TZID=America/Denver:20251224T183000
DTEND;TZID=America/Denver:20251224T193000
DTSTAMP:20260421T054134
CREATED:20251206T114008Z
LAST-MODIFIED:20251224T190555Z
UID:10000246-1766601000-1766604600@coloradoteletherapyservices.com
SUMMARY:Military & 1st Responders Microdosing Group
DESCRIPTION:
URL:https://coloradoteletherapyservices.com/event/military-1st-responders-microdosing-group-3/
LOCATION:https://us02web.zoom.us/j/86475028161
END:VEVENT
END:VCALENDAR