BEGIN:VCALENDAR
VERSION:2.0
PRODID:-//Colorado Teletherapy Services - ECPv6.15.20//NONSGML v1.0//EN
CALSCALE:GREGORIAN
METHOD:PUBLISH
X-WR-CALNAME:Colorado Teletherapy Services
X-ORIGINAL-URL:https://coloradoteletherapyservices.com
X-WR-CALDESC:Events for Colorado Teletherapy Services
REFRESH-INTERVAL;VALUE=DURATION:PT1H
X-Robots-Tag:noindex
X-PUBLISHED-TTL:PT1H
BEGIN:VTIMEZONE
TZID:America/Denver
BEGIN:DAYLIGHT
TZOFFSETFROM:-0700
TZOFFSETTO:-0600
TZNAME:MDT
DTSTART:20250309T090000
END:DAYLIGHT
BEGIN:STANDARD
TZOFFSETFROM:-0600
TZOFFSETTO:-0700
TZNAME:MST
DTSTART:20251102T080000
END:STANDARD
BEGIN:DAYLIGHT
TZOFFSETFROM:-0700
TZOFFSETTO:-0600
TZNAME:MDT
DTSTART:20260308T090000
END:DAYLIGHT
BEGIN:STANDARD
TZOFFSETFROM:-0600
TZOFFSETTO:-0700
TZNAME:MST
DTSTART:20261101T080000
END:STANDARD
BEGIN:DAYLIGHT
TZOFFSETFROM:-0700
TZOFFSETTO:-0600
TZNAME:MDT
DTSTART:20270314T090000
END:DAYLIGHT
BEGIN:STANDARD
TZOFFSETFROM:-0600
TZOFFSETTO:-0700
TZNAME:MST
DTSTART:20271107T080000
END:STANDARD
END:VTIMEZONE
BEGIN:VEVENT
DTSTART;TZID=America/Denver:20260416T113000
DTEND;TZID=America/Denver:20260416T123000
DTSTAMP:20260423T055657
CREATED:20260203T013948Z
LAST-MODIFIED:20260223T042550Z
UID:10000490-1776339000-1776342600@coloradoteletherapyservices.com
SUMMARY:Military & 1st Responders Microdosing Group
DESCRIPTION:
URL:https://coloradoteletherapyservices.com/event/military-1st-responders-microdosing-group-122/
LOCATION:https://us02web.zoom.us/j/84347293042
END:VEVENT
BEGIN:VEVENT
DTSTART;TZID=America/Denver:20260416T183000
DTEND;TZID=America/Denver:20260416T193000
DTSTAMP:20260423T055657
CREATED:20260316T080555Z
LAST-MODIFIED:20260416T210816Z
UID:10000607-1776364200-1776367800@coloradoteletherapyservices.com
SUMMARY:Resilience & Recovery Microdosing Group
DESCRIPTION:
URL:https://coloradoteletherapyservices.com/event/resilience-recovery-microdosing-group-3/
LOCATION:https://us02web.zoom.us/j/81255323562
END:VEVENT
END:VCALENDAR