BEGIN:VCALENDAR
VERSION:2.0
PRODID:-//Colorado Teletherapy Services - ECPv6.15.20//NONSGML v1.0//EN
CALSCALE:GREGORIAN
METHOD:PUBLISH
X-ORIGINAL-URL:https://coloradoteletherapyservices.com
X-WR-CALDESC:Events for Colorado Teletherapy Services
REFRESH-INTERVAL;VALUE=DURATION:PT1H
X-Robots-Tag:noindex
X-PUBLISHED-TTL:PT1H
BEGIN:VTIMEZONE
TZID:America/Denver
BEGIN:DAYLIGHT
TZOFFSETFROM:-0700
TZOFFSETTO:-0600
TZNAME:MDT
DTSTART:20250309T090000
END:DAYLIGHT
BEGIN:STANDARD
TZOFFSETFROM:-0600
TZOFFSETTO:-0700
TZNAME:MST
DTSTART:20251102T080000
END:STANDARD
BEGIN:DAYLIGHT
TZOFFSETFROM:-0700
TZOFFSETTO:-0600
TZNAME:MDT
DTSTART:20260308T090000
END:DAYLIGHT
BEGIN:STANDARD
TZOFFSETFROM:-0600
TZOFFSETTO:-0700
TZNAME:MST
DTSTART:20261101T080000
END:STANDARD
BEGIN:DAYLIGHT
TZOFFSETFROM:-0700
TZOFFSETTO:-0600
TZNAME:MDT
DTSTART:20270314T090000
END:DAYLIGHT
BEGIN:STANDARD
TZOFFSETFROM:-0600
TZOFFSETTO:-0700
TZNAME:MST
DTSTART:20271107T080000
END:STANDARD
END:VTIMEZONE
BEGIN:VEVENT
DTSTART;TZID=America/Denver:20260410T130000
DTEND;TZID=America/Denver:20260410T210000
DTSTAMP:20260425T085200
CREATED:20260307T061724Z
LAST-MODIFIED:20260410T200255Z
UID:10000585-1775826000-1775854800@coloradoteletherapyservices.com
SUMMARY:Body\, Mind\, Spirit Expo C/S
DESCRIPTION:http://www.bmse.net/
URL:https://coloradoteletherapyservices.com/event/body-mind-spirit-expo-c-s/
LOCATION:Norris Penrose Event Center\, 2301 Lower Gold Camp Rd\, Colorado Springs\, CO\, United States
GEO:38.828327;-104.859168
X-APPLE-STRUCTURED-LOCATION;VALUE=URI;X-ADDRESS=Norris Penrose Event Center 2301 Lower Gold Camp Rd Colorado Springs CO United States;X-APPLE-RADIUS=500;X-TITLE=2301 Lower Gold Camp Rd:geo:-104.859168,38.828327
END:VEVENT
BEGIN:VEVENT
DTSTART;TZID=America/Denver:20260410T151500
DTEND;TZID=America/Denver:20260410T161500
DTSTAMP:20260425T085200
CREATED:20260403T190224Z
LAST-MODIFIED:20260410T200255Z
UID:10000701-1775834100-1775837700@coloradoteletherapyservices.com
SUMMARY:PSYCON - Microdosing Lecture
DESCRIPTION:https://www.psycon.org/
URL:https://coloradoteletherapyservices.com/event/psycon-microdosing-lecture/
LOCATION:Colorado Convention Center\, 700 14th St\, Denver\, CO\, United States
GEO:39.743334;-104.994598
X-APPLE-STRUCTURED-LOCATION;VALUE=URI;X-ADDRESS=Colorado Convention Center 700 14th St Denver CO United States;X-APPLE-RADIUS=500;X-TITLE=700 14th St:geo:-104.994598,39.743334
END:VEVENT
BEGIN:VEVENT
DTSTART;TZID=America/Denver:20260410T151500
DTEND;TZID=America/Denver:20260410T161500
DTSTAMP:20260425T085200
CREATED:20260403T190225Z
LAST-MODIFIED:20260403T190225Z
UID:10000700-1775834100-1775837700@coloradoteletherapyservices.com
SUMMARY:PSYCON - Microdosing Lecture
DESCRIPTION:https://www.psycon.org/
URL:https://coloradoteletherapyservices.com/event/psycon-microdosing-lecture-2/
LOCATION:Colorado Convention Center\, 700 14th St\, Denver\, CO\, United States
GEO:39.743334;-104.994598
X-APPLE-STRUCTURED-LOCATION;VALUE=URI;X-ADDRESS=Colorado Convention Center 700 14th St Denver CO United States;X-APPLE-RADIUS=500;X-TITLE=700 14th St:geo:-104.994598,39.743334
END:VEVENT
END:VCALENDAR